BEGIN:VCALENDAR
VERSION:2.0
PRODID:-//Area 53 AA - ECPv6.15.20//NONSGML v1.0//EN
CALSCALE:GREGORIAN
METHOD:PUBLISH
X-WR-CALNAME:Area 53 AA
X-ORIGINAL-URL:https://area53aa.org
X-WR-CALDESC:Events for Area 53 AA
REFRESH-INTERVAL;VALUE=DURATION:PT1H
X-Robots-Tag:noindex
X-PUBLISHED-TTL:PT1H
BEGIN:VTIMEZONE
TZID:America/New_York
BEGIN:DAYLIGHT
TZOFFSETFROM:-0500
TZOFFSETTO:-0400
TZNAME:EDT
DTSTART:20240310T070000
END:DAYLIGHT
BEGIN:STANDARD
TZOFFSETFROM:-0400
TZOFFSETTO:-0500
TZNAME:EST
DTSTART:20241103T060000
END:STANDARD
BEGIN:DAYLIGHT
TZOFFSETFROM:-0500
TZOFFSETTO:-0400
TZNAME:EDT
DTSTART:20250309T070000
END:DAYLIGHT
BEGIN:STANDARD
TZOFFSETFROM:-0400
TZOFFSETTO:-0500
TZNAME:EST
DTSTART:20251102T060000
END:STANDARD
BEGIN:DAYLIGHT
TZOFFSETFROM:-0500
TZOFFSETTO:-0400
TZNAME:EDT
DTSTART:20260308T070000
END:DAYLIGHT
BEGIN:STANDARD
TZOFFSETFROM:-0400
TZOFFSETTO:-0500
TZNAME:EST
DTSTART:20261101T060000
END:STANDARD
END:VTIMEZONE
BEGIN:VEVENT
DTSTART;TZID=America/New_York:20250302T130000
DTEND;TZID=America/New_York:20250302T140000
DTSTAMP:20260424T064849
CREATED:20250215T071520Z
LAST-MODIFIED:20250215T071520Z
UID:10001917-1740920400-1740924000@area53aa.org
SUMMARY:District 8/9 Meeting
DESCRIPTION:1st Sunday at 1:00 PM \nTrinity Episcopal Church\, 76 E Main St\, Newark\, OH 43055\, USA
URL:https://area53aa.org/event/district-8-9-meeting/2025-03-02/
LOCATION:Trinity Episcopal Church\, 76 East Main Street\, Newark\, OH\, 43055\, United States
CATEGORIES:Monthly District Meetings
ORGANIZER;CN="District 8/9":MAILTO:dcm08@area53aa.org
GEO:40.0588719;-82.3995484
X-APPLE-STRUCTURED-LOCATION;VALUE=URI;X-ADDRESS=Trinity Episcopal Church 76 East Main Street Newark OH 43055 United States;X-APPLE-RADIUS=500;X-TITLE=76 East Main Street:geo:-82.3995484,40.0588719
END:VEVENT
BEGIN:VEVENT
DTSTART;TZID=America/New_York:20250302T170000
DTEND;TZID=America/New_York:20250302T180000
DTSTAMP:20260424T064849
CREATED:20250215T071735Z
LAST-MODIFIED:20250215T071735Z
UID:10001977-1740934800-1740938400@area53aa.org
SUMMARY:District 16 Meeting
DESCRIPTION:1st Sunday at 5:00 PM \nAthens First United Methodist Church\, 2 S College St\, Athens\, OH 45701\, USA
URL:https://area53aa.org/event/district-16-meeting/2025-03-02/
LOCATION:Athens First United Methodist Church\, 2 S College St\, Athens\, 45701\, United States
CATEGORIES:Monthly District Meetings
ORGANIZER;CN="District 16":MAILTO:dcm16@area53aa.org
GEO:39.3290904;-82.0992208
X-APPLE-STRUCTURED-LOCATION;VALUE=URI;X-ADDRESS=Athens First United Methodist Church 2 S College St Athens 45701 United States;X-APPLE-RADIUS=500;X-TITLE=2 S College St:geo:-82.0992208,39.3290904
END:VEVENT
BEGIN:VEVENT
DTSTART;TZID=America/New_York:20250302T170000
DTEND;TZID=America/New_York:20250302T180000
DTSTAMP:20260424T064849
CREATED:20250215T072108Z
LAST-MODIFIED:20250215T072108Z
UID:10002037-1740934800-1740938400@area53aa.org
SUMMARY:District 17 Meeting
DESCRIPTION:First Sunday of the Month at 5:00 PM \nSacred Heart Church and Rectory\, 161 Mulberry Ave\, Pomeroy\, OH 45769\, USA
URL:https://area53aa.org/event/district-17-meeting/2025-03-02/
LOCATION:Sacred Heart Church and Rectory\, 161 Mulberry Ave\, Pomeroy\, o\, 45769\, United States
CATEGORIES:Monthly District Meetings
ORGANIZER;CN="district 17":MAILTO:dcm17@area53aa.org
GEO:39.0295211;-82.0371166
X-APPLE-STRUCTURED-LOCATION;VALUE=URI;X-ADDRESS=Sacred Heart Church and Rectory 161 Mulberry Ave Pomeroy o 45769 United States;X-APPLE-RADIUS=500;X-TITLE=161 Mulberry Ave:geo:-82.0371166,39.0295211
END:VEVENT
BEGIN:VEVENT
DTSTART;TZID=America/New_York:20250303T180000
DTEND;TZID=America/New_York:20250303T190000
DTSTAMP:20260424T064849
CREATED:20250215T072305Z
LAST-MODIFIED:20250215T072305Z
UID:10002097-1741024800-1741028400@area53aa.org
SUMMARY:District 11 Meeting
DESCRIPTION:First Monday of the Month at 6:00 PM \nFirst Presbyterian Church\, 210 W 5th St\, Marysville\, OH 43040\, USA
URL:https://area53aa.org/event/district-11-meeting/2025-03-03/
LOCATION:First Presbyterian Church – Marysville\, 210 West Fifth Street\, Marysville\, OH\, 43040
CATEGORIES:Monthly District Meetings
ORGANIZER;CN="District 11":MAILTO:dcm11@area53aa.org
GEO:40.2367951;-83.3685043
X-APPLE-STRUCTURED-LOCATION;VALUE=URI;X-ADDRESS=First Presbyterian Church – Marysville 210 West Fifth Street Marysville OH 43040;X-APPLE-RADIUS=500;X-TITLE=210 West Fifth Street:geo:-83.3685043,40.2367951
END:VEVENT
BEGIN:VEVENT
DTSTART;TZID=America/New_York:20250305T180000
DTEND;TZID=America/New_York:20250305T190000
DTSTAMP:20260424T064849
CREATED:20250215T072558Z
LAST-MODIFIED:20250215T072558Z
UID:10002157-1741197600-1741201200@area53aa.org
SUMMARY:District 10 Meeting
DESCRIPTION:Group GSR’s and anyone interested in service work at the Group\, District\, and/or Area level should consider attending this meeting.  District meetings will occur regularly on the first Wednesday of every month\, beginning in March at the location above.  This is where information at the group level is exchanged with other groups\, representing District 10\, to Area 53 and further information from Area 53 passed onto GSR’s at the group level to share with members attending AA meetings. \nKroger\, 6417 Columbus Pike\, Lewis Center\, OH 43035\, USA
URL:https://area53aa.org/event/district-10-meeting/
LOCATION:Kroger\, 6417 Columbus Pike\, Lewis Center\, 43035\, United States
CATEGORIES:Monthly District Meetings
GEO:40.2031987;-83.0275992
X-APPLE-STRUCTURED-LOCATION;VALUE=URI;X-ADDRESS=Kroger 6417 Columbus Pike Lewis Center 43035 United States;X-APPLE-RADIUS=500;X-TITLE=6417 Columbus Pike:geo:-83.0275992,40.2031987
END:VEVENT
BEGIN:VEVENT
DTSTART;TZID=America/New_York:20250305T180000
DTEND;TZID=America/New_York:20250305T190000
DTSTAMP:20260424T064849
CREATED:20250215T072759Z
LAST-MODIFIED:20250215T072759Z
UID:10002158-1741197600-1741201200@area53aa.org
SUMMARY:District 22 Meeting
DESCRIPTION:First Wednesday of the month at 6:00 PM \nOn Zoom \nZoom Meeting Code: 727 4436 6620 \nPassword: BillW
URL:https://area53aa.org/event/district-22-meeting/2025-03-05/
CATEGORIES:Monthly District Meetings
ORGANIZER;CN="District 22":MAILTO:dcm22@area53aa.org
END:VEVENT
BEGIN:VEVENT
DTSTART;TZID=America/New_York:20250305T180000
DTEND;TZID=America/New_York:20250305T190000
DTSTAMP:20260424T064849
CREATED:20250215T073412Z
LAST-MODIFIED:20250215T073412Z
UID:10002218-1741197600-1741201200@area53aa.org
SUMMARY:District 30 Meeting
DESCRIPTION:1st Wednesday of the month at 6:00 PM \n3278 Tremont Rd\, Upper Arlington\, OH 43221\, USA
URL:https://area53aa.org/event/district-30-meeting/2025-03-05/
LOCATION:Panera Bread – Tremont Rd\, 3278 Tremont Rd\, Columbus\, Ohio\, 43221
CATEGORIES:Monthly District Meetings
ORGANIZER;CN="District 30":MAILTO:dcm30@area53aa.org
GEO:40.0619394;-83.0429341
X-APPLE-STRUCTURED-LOCATION;VALUE=URI;X-ADDRESS=Panera Bread – Tremont Rd 3278 Tremont Rd Columbus Ohio 43221;X-APPLE-RADIUS=500;X-TITLE=3278 Tremont Rd:geo:-83.0429341,40.0619394
END:VEVENT
END:VCALENDAR