BEGIN:VCALENDAR
VERSION:2.0
PRODID:-//Area 53 AA - ECPv6.15.20//NONSGML v1.0//EN
CALSCALE:GREGORIAN
METHOD:PUBLISH
X-WR-CALNAME:Area 53 AA
X-ORIGINAL-URL:https://area53aa.org
X-WR-CALDESC:Events for Area 53 AA
REFRESH-INTERVAL;VALUE=DURATION:PT1H
X-Robots-Tag:noindex
X-PUBLISHED-TTL:PT1H
BEGIN:VTIMEZONE
TZID:America/New_York
BEGIN:DAYLIGHT
TZOFFSETFROM:-0500
TZOFFSETTO:-0400
TZNAME:EDT
DTSTART:20250309T070000
END:DAYLIGHT
BEGIN:STANDARD
TZOFFSETFROM:-0400
TZOFFSETTO:-0500
TZNAME:EST
DTSTART:20251102T060000
END:STANDARD
BEGIN:DAYLIGHT
TZOFFSETFROM:-0500
TZOFFSETTO:-0400
TZNAME:EDT
DTSTART:20260308T070000
END:DAYLIGHT
BEGIN:STANDARD
TZOFFSETFROM:-0400
TZOFFSETTO:-0500
TZNAME:EST
DTSTART:20261101T060000
END:STANDARD
BEGIN:DAYLIGHT
TZOFFSETFROM:-0500
TZOFFSETTO:-0400
TZNAME:EDT
DTSTART:20270314T070000
END:DAYLIGHT
BEGIN:STANDARD
TZOFFSETFROM:-0400
TZOFFSETTO:-0500
TZNAME:EST
DTSTART:20271107T060000
END:STANDARD
END:VTIMEZONE
BEGIN:VEVENT
DTSTART;TZID=America/New_York:20260816T160000
DTEND;TZID=America/New_York:20260816T170000
DTSTAMP:20260422T174636
CREATED:20250215T080944Z
LAST-MODIFIED:20250215T080944Z
UID:10002474-1786896000-1786899600@area53aa.org
SUMMARY:District 12 Meeting
DESCRIPTION:3rd Sunday of the Month at 4:00 PM
URL:https://area53aa.org/event/district-12-meeting/2026-08-16/
LOCATION:Springfield Alano Club Inc\, 1557 E Main St\, Springfield\, 45503\, United States
CATEGORIES:Monthly District Meetings
ORGANIZER;CN="District 12":MAILTO:dcm12@area53aa.org
GEO:39.9231477;-83.7860254
X-APPLE-STRUCTURED-LOCATION;VALUE=URI;X-ADDRESS=Springfield Alano Club Inc 1557 E Main St Springfield 45503 United States;X-APPLE-RADIUS=500;X-TITLE=1557 E Main St:geo:-83.7860254,39.9231477
END:VEVENT
BEGIN:VEVENT
DTSTART;TZID=America/New_York:20260816T180000
DTEND;TZID=America/New_York:20260816T190000
DTSTAMP:20260422T174636
CREATED:20250215T081126Z
LAST-MODIFIED:20250215T081126Z
UID:10002533-1786903200-1786906800@area53aa.org
SUMMARY:District 19 Meeting
DESCRIPTION:3rd Sunday of the Month at 6:00 PM
URL:https://area53aa.org/event/district-19-meeting/2026-08-16/
LOCATION:Sabina United Methodist Church\, 61 W Elm St\, Sabina\, 45169\, United States
CATEGORIES:Monthly District Meetings
ORGANIZER;CN="District 19":MAILTO:dcm19@area53aa.org
GEO:39.4903491;-83.6374472
X-APPLE-STRUCTURED-LOCATION;VALUE=URI;X-ADDRESS=Sabina United Methodist Church 61 W Elm St Sabina 45169 United States;X-APPLE-RADIUS=500;X-TITLE=61 W Elm St:geo:-83.6374472,39.4903491
END:VEVENT
END:VCALENDAR