BEGIN:VCALENDAR
VERSION:2.0
PRODID:-//Area 53 AA - ECPv6.15.20//NONSGML v1.0//EN
CALSCALE:GREGORIAN
METHOD:PUBLISH
X-WR-CALNAME:Area 53 AA
X-ORIGINAL-URL:https://area53aa.org
X-WR-CALDESC:Events for Area 53 AA
REFRESH-INTERVAL;VALUE=DURATION:PT1H
X-Robots-Tag:noindex
X-PUBLISHED-TTL:PT1H
BEGIN:VTIMEZONE
TZID:America/New_York
BEGIN:DAYLIGHT
TZOFFSETFROM:-0500
TZOFFSETTO:-0400
TZNAME:EDT
DTSTART:20240310T070000
END:DAYLIGHT
BEGIN:STANDARD
TZOFFSETFROM:-0400
TZOFFSETTO:-0500
TZNAME:EST
DTSTART:20241103T060000
END:STANDARD
BEGIN:DAYLIGHT
TZOFFSETFROM:-0500
TZOFFSETTO:-0400
TZNAME:EDT
DTSTART:20250309T070000
END:DAYLIGHT
BEGIN:STANDARD
TZOFFSETFROM:-0400
TZOFFSETTO:-0500
TZNAME:EST
DTSTART:20251102T060000
END:STANDARD
BEGIN:DAYLIGHT
TZOFFSETFROM:-0500
TZOFFSETTO:-0400
TZNAME:EDT
DTSTART:20260308T070000
END:DAYLIGHT
BEGIN:STANDARD
TZOFFSETFROM:-0400
TZOFFSETTO:-0500
TZNAME:EST
DTSTART:20261101T060000
END:STANDARD
END:VTIMEZONE
BEGIN:VEVENT
DTSTART;TZID=America/New_York:20251011T090000
DTEND;TZID=America/New_York:20251011T130000
DTSTAMP:20260422T175529
CREATED:20250922T131641Z
LAST-MODIFIED:20250929T151448Z
UID:10003546-1760173200-1760187600@area53aa.org
SUMMARY:District 22 Sponsorship Workshop (Steps 1-5)
DESCRIPTION:Save the Date \n5th Annual Red\, White and Sober \n\n\n			\n					\n						Download Flyer
URL:https://area53aa.org/event/district-22-sponsorship-workshop-steps-1-5/
LOCATION:Dublin Community Church\, 81 West Bridge Street\, Dublin\, Ohio\, 43017
ATTACH;FMTTYPE=image/png:https://area53aa.org/wp-content/uploads/2025/09/D22.png
ORGANIZER;CN="District 22":MAILTO:dcm22@area53aa.org
GEO:40.0986599;-83.1158895
X-APPLE-STRUCTURED-LOCATION;VALUE=URI;X-ADDRESS=Dublin Community Church 81 West Bridge Street Dublin Ohio 43017;X-APPLE-RADIUS=500;X-TITLE=81 West Bridge Street:geo:-83.1158895,40.0986599
END:VEVENT
BEGIN:VEVENT
DTSTART;TZID=America/New_York:20251011T120000
DTEND;TZID=America/New_York:20251011T170000
DTSTAMP:20260422T175529
CREATED:20250811T162104Z
LAST-MODIFIED:20250811T162244Z
UID:10003415-1760184000-1760202000@area53aa.org
SUMMARY:District 21 Picnic
DESCRIPTION:Save the Date \n5th Annual Red\, White and Sober \n\n\n			\n					\n						Download Flyer
URL:https://area53aa.org/event/district-21-picnic/
LOCATION:Earl Thomas Conley Riverside Park\, 15888 US-52\, West Portsmouth\, 45663\, United States
CATEGORIES:District Events
ORGANIZER;CN="District 21":MAILTO:dcm21@area53aa.org
GEO:38.7180579;-83.0472153
X-APPLE-STRUCTURED-LOCATION;VALUE=URI;X-ADDRESS=Earl Thomas Conley Riverside Park 15888 US-52 West Portsmouth 45663 United States;X-APPLE-RADIUS=500;X-TITLE=15888 US-52:geo:-83.0472153,38.7180579
END:VEVENT
BEGIN:VEVENT
DTSTART;TZID=America/New_York:20251012T130000
DTEND;TZID=America/New_York:20251012T160000
DTSTAMP:20260422T175529
CREATED:20251006T011246Z
LAST-MODIFIED:20251006T232704Z
UID:10003621-1760274000-1760284800@area53aa.org
SUMMARY:Area Planning Committee 10-12-2025
DESCRIPTION:Save the Date \n5th Annual Red\, White and Sober \n\n\n			\n					\n						Download Flyer
URL:https://area53aa.org/event/area-planning-committee-10-12-2025/
LOCATION:Hoge Memorial Presbyterian Church\, 2930 West Broad Street\, Columbus\, OH\, 43204\, United States
CATEGORIES:AREA 53 EVENTS,Area Planning Committee Meetings
GEO:39.9552438;-83.0786673
X-APPLE-STRUCTURED-LOCATION;VALUE=URI;X-ADDRESS=Hoge Memorial Presbyterian Church 2930 West Broad Street Columbus OH 43204 United States;X-APPLE-RADIUS=500;X-TITLE=2930 West Broad Street:geo:-83.0786673,39.9552438
END:VEVENT
BEGIN:VEVENT
DTSTART;TZID=America/New_York:20251013T183000
DTEND;TZID=America/New_York:20251013T200000
DTSTAMP:20260422T175529
CREATED:20250215T073650Z
LAST-MODIFIED:20250306T145144Z
UID:10002901-1760380200-1760385600@area53aa.org
SUMMARY:District 28 Meeting
DESCRIPTION:Save the Date \n5th Annual Red\, White and Sober \n\n\n			\n					\n						Download Flyer
URL:https://area53aa.org/event/district-28-meeting/2025-10-13/
LOCATION:Central Vineyard Church\, 55 E Blake Ave\, Columbus\, 43202\, United States
CATEGORIES:Monthly District Meetings
ORGANIZER;CN="District 28":MAILTO:dcm28@area53aa.org
GEO:40.0118086;-83.0088728
X-APPLE-STRUCTURED-LOCATION;VALUE=URI;X-ADDRESS=Central Vineyard Church 55 E Blake Ave Columbus 43202 United States;X-APPLE-RADIUS=500;X-TITLE=55 E Blake Ave:geo:-83.0088728,40.0118086
END:VEVENT
BEGIN:VEVENT
DTSTART;TZID=America/New_York:20251016T190000
DTEND;TZID=America/New_York:20251016T210000
DTSTAMP:20260422T175529
CREATED:20250912T004959Z
LAST-MODIFIED:20251005T183853Z
UID:10003561-1760641200-1760648400@area53aa.org
SUMMARY:Communication Services Committee Meeting (Virtual)
DESCRIPTION:Save the Date \n5th Annual Red\, White and Sober \n\n\n			\n					\n						Download Flyer
URL:https://area53aa.org/event/communication-services-committee-meeting-virtual-2-2-3/2025-10-16/
LOCATION:https://area53aa.org/event/communication-services-committee-meeting-virtual-2-2-3/2025-10-16/
ORGANIZER;CN="Communication Services Committee":MAILTO:CommServices@area53aa.org
END:VEVENT
BEGIN:VEVENT
DTSTART;TZID=America/New_York:20251018T080000
DTEND;TZID=America/New_York:20251018T170000
DTSTAMP:20260422T175529
CREATED:20250215T055600Z
LAST-MODIFIED:20250215T055600Z
UID:10001638-1760774400-1760806800@area53aa.org
SUMMARY:District 7 Meeting
DESCRIPTION:Save the Date \n5th Annual Red\, White and Sober \n\n\n			\n					\n						Download Flyer
URL:https://area53aa.org/event/district-7-meeting/2025-10-18/
LOCATION:I.s.r.c.\, 554 Moxahala Ave\, Zanesville\, 43701\, United States
CATEGORIES:Monthly District Meetings
ORGANIZER;CN="District 7":MAILTO:dcm07@area53aa.org
GEO:39.9302383;-82.0053096
X-APPLE-STRUCTURED-LOCATION;VALUE=URI;X-ADDRESS=I.s.r.c. 554 Moxahala Ave Zanesville 43701 United States;X-APPLE-RADIUS=500;X-TITLE=554 Moxahala Ave:geo:-82.0053096,39.9302383
END:VEVENT
BEGIN:VEVENT
DTSTART;TZID=America/New_York:20251018T090000
DTEND;TZID=America/New_York:20251018T130000
DTSTAMP:20260422T175529
CREATED:20250922T132155Z
LAST-MODIFIED:20250929T151500Z
UID:10003547-1760778000-1760792400@area53aa.org
SUMMARY:District 22 Sponsorship Workshop (Steps 6-12)
DESCRIPTION:Save the Date \n5th Annual Red\, White and Sober \n\n\n			\n					\n						Download Flyer
URL:https://area53aa.org/event/district-22-sponsorship-workshop-steps-6-12/
LOCATION:Dublin Community Church\, 81 West Bridge Street\, Dublin\, Ohio\, 43017
CATEGORIES:District Events
ATTACH;FMTTYPE=image/png:https://area53aa.org/wp-content/uploads/2025/09/D22.png
ORGANIZER;CN="District 22":MAILTO:dcm22@area53aa.org
GEO:40.0986599;-83.1158895
X-APPLE-STRUCTURED-LOCATION;VALUE=URI;X-ADDRESS=Dublin Community Church 81 West Bridge Street Dublin Ohio 43017;X-APPLE-RADIUS=500;X-TITLE=81 West Bridge Street:geo:-83.1158895,40.0986599
END:VEVENT
BEGIN:VEVENT
DTSTART;TZID=America/New_York:20251018T093000
DTEND;TZID=America/New_York:20251018T103000
DTSTAMP:20260422T175529
CREATED:20250215T073903Z
LAST-MODIFIED:20250215T073903Z
UID:10002345-1760779800-1760783400@area53aa.org
SUMMARY:District 26 Meeting
DESCRIPTION:Save the Date \n5th Annual Red\, White and Sober \n\n\n			\n					\n						Download Flyer
URL:https://area53aa.org/event/district-26-meeting/2025-10-18/
LOCATION:Whitehall United Methodist Church\, 525 Bernhard Road\, Columbus\, Ohio
CATEGORIES:Monthly District Meetings
ORGANIZER;CN="District 26":MAILTO:dcm26@area53aa.org
GEO:39.9640674;-82.8804352
X-APPLE-STRUCTURED-LOCATION;VALUE=URI;X-ADDRESS=Whitehall United Methodist Church 525 Bernhard Road Columbus Ohio;X-APPLE-RADIUS=500;X-TITLE=525 Bernhard Road:geo:-82.8804352,39.9640674
END:VEVENT
BEGIN:VEVENT
DTSTART;TZID=America/New_York:20251018T093000
DTEND;TZID=America/New_York:20251018T110000
DTSTAMP:20260422T175529
CREATED:20250831T033602Z
LAST-MODIFIED:20250831T033602Z
UID:10003480-1760779800-1760785200@area53aa.org
SUMMARY:District 33 Meeting
DESCRIPTION:Save the Date \n5th Annual Red\, White and Sober \n\n\n			\n					\n						Download Flyer
URL:https://area53aa.org/event/district-33-meeting-2/2025-10-18/
LOCATION:District 33 Meeting\, 700 Bryden Road Suite 210\, Columbus\, 43205\, United States
CATEGORIES:Monthly District Meetings
ORGANIZER;CN="District 33":MAILTO:dcm33@area53aa.org
GEO:39.960935;-82.9811385
X-APPLE-STRUCTURED-LOCATION;VALUE=URI;X-ADDRESS=District 33 Meeting 700 Bryden Road Suite 210 Columbus 43205 United States;X-APPLE-RADIUS=500;X-TITLE=700 Bryden Road Suite 210:geo:-82.9811385,39.960935
END:VEVENT
BEGIN:VEVENT
DTSTART;TZID=America/New_York:20251018T110000
DTEND;TZID=America/New_York:20251018T120000
DTSTAMP:20260422T175529
CREATED:20250215T074344Z
LAST-MODIFIED:20250215T074344Z
UID:10002404-1760785200-1760788800@area53aa.org
SUMMARY:District 21 Meeting
DESCRIPTION:Save the Date \n5th Annual Red\, White and Sober \n\n\n			\n					\n						Download Flyer
URL:https://area53aa.org/event/district-21-meeting/2025-10-18/
LOCATION:Wheelersburg United Methodist Church\, 11605 Gallia Pike Rd\, Wheelersburg\, 45694\, 45694\, United States
CATEGORIES:Monthly District Meetings
ORGANIZER;CN="District 21":MAILTO:dcm21@area53aa.org
GEO:38.7278325;-82.8543713
X-APPLE-STRUCTURED-LOCATION;VALUE=URI;X-ADDRESS=Wheelersburg United Methodist Church 11605 Gallia Pike Rd Wheelersburg 45694 45694 United States;X-APPLE-RADIUS=500;X-TITLE=11605 Gallia Pike Rd:geo:-82.8543713,38.7278325
END:VEVENT
BEGIN:VEVENT
DTSTART;TZID=America/New_York:20251018T120000
DTEND;TZID=America/New_York:20251018T130000
DTSTAMP:20260422T175529
CREATED:20240118T035629Z
LAST-MODIFIED:20250215T054843Z
UID:10000448-1760788800-1760792400@area53aa.org
SUMMARY:Treatment Facilities Committee Monthly Meeting
DESCRIPTION:Save the Date \n5th Annual Red\, White and Sober \n\n\n			\n					\n						Download Flyer
URL:https://area53aa.org/event/treatment-facilities-committee-monthly-meeting/2025-10-18/
LOCATION:COGF\, 645 W. Broad St.\, Columbus\, 43215\, United States
CATEGORIES:Monthly Standing Committee Meetings
ORGANIZER;CN="Area 53 Treatment Facilities Committee":MAILTO:treatment@area53aa.org
GEO:39.9599571;-83.0178443
X-APPLE-STRUCTURED-LOCATION;VALUE=URI;X-ADDRESS=COGF 645 W. Broad St. Columbus 43215 United States;X-APPLE-RADIUS=500;X-TITLE=645 W. Broad St.:geo:-83.0178443,39.9599571
END:VEVENT
BEGIN:VEVENT
DTSTART;TZID=America/New_York:20251018T170000
DTEND;TZID=America/New_York:20251018T203000
DTSTAMP:20260422T175529
CREATED:20250929T143155Z
LAST-MODIFIED:20250929T151506Z
UID:10003551-1760806800-1760819400@area53aa.org
SUMMARY:Mad River Group Chili Cookoff
DESCRIPTION:Save the Date \n5th Annual Red\, White and Sober \n\n\n			\n					\n						Download Flyer
URL:https://area53aa.org/event/mad-river-group-chili-cookoff/
LOCATION:First Presbyterian Church\, 116 W Court St\, Urbana\, 43078\, United States
GEO:40.1095522;-83.7534648
X-APPLE-STRUCTURED-LOCATION;VALUE=URI;X-ADDRESS=First Presbyterian Church 116 W Court St Urbana 43078 United States;X-APPLE-RADIUS=500;X-TITLE=116 W Court St:geo:-83.7534648,40.1095522
END:VEVENT
BEGIN:VEVENT
DTSTART;TZID=America/New_York:20251019T150000
DTEND;TZID=America/New_York:20251019T163000
DTSTAMP:20260422T175529
CREATED:20250208T233428Z
LAST-MODIFIED:20250215T062320Z
UID:10001697-1760886000-1760891400@area53aa.org
SUMMARY:CPC/PI Committee Meeting
DESCRIPTION:Save the Date \n5th Annual Red\, White and Sober \n\n\n			\n					\n						Download Flyer
URL:https://area53aa.org/event/cpc-pi-committee-meeting-feb-16-2025/2025-10-19/
LOCATION:Franklinton Library\, 1061 W Town St\, Columbus\, 43222\, United States
CATEGORIES:Monthly Standing Committee Meetings
ORGANIZER;CN="Area 53 CPC-PI Committee":MAILTO:cpcpi@area53aa.org
GEO:39.9551728;-83.0277954
X-APPLE-STRUCTURED-LOCATION;VALUE=URI;X-ADDRESS=Franklinton Library 1061 W Town St Columbus 43222 United States;X-APPLE-RADIUS=500;X-TITLE=1061 W Town St:geo:-83.0277954,39.9551728
END:VEVENT
BEGIN:VEVENT
DTSTART;TZID=America/New_York:20251019T160000
DTEND;TZID=America/New_York:20251019T170000
DTSTAMP:20260422T175529
CREATED:20250215T080944Z
LAST-MODIFIED:20250215T080944Z
UID:10002464-1760889600-1760893200@area53aa.org
SUMMARY:District 12 Meeting
DESCRIPTION:Save the Date \n5th Annual Red\, White and Sober \n\n\n			\n					\n						Download Flyer
URL:https://area53aa.org/event/district-12-meeting/2025-10-19/
LOCATION:Springfield Alano Club Inc\, 1557 E Main St\, Springfield\, 45503\, United States
CATEGORIES:Monthly District Meetings
ORGANIZER;CN="District 12":MAILTO:dcm12@area53aa.org
GEO:39.9231477;-83.7860254
X-APPLE-STRUCTURED-LOCATION;VALUE=URI;X-ADDRESS=Springfield Alano Club Inc 1557 E Main St Springfield 45503 United States;X-APPLE-RADIUS=500;X-TITLE=1557 E Main St:geo:-83.7860254,39.9231477
END:VEVENT
BEGIN:VEVENT
DTSTART;TZID=America/New_York:20251019T163000
DTEND;TZID=America/New_York:20251019T190000
DTSTAMP:20260422T175529
CREATED:20250929T135608Z
LAST-MODIFIED:20250929T151515Z
UID:10003549-1760891400-1760900400@area53aa.org
SUMMARY:Good Samaritan Group of AA 60th Anniversary
DESCRIPTION:Save the Date \n5th Annual Red\, White and Sober \n\n\n			\n					\n						Download Flyer
URL:https://area53aa.org/event/good-samaritan-group-of-aa-60th-anniversary/
LOCATION:Rehoboth Temple Church of Christ\, 1111 East Long St.\, Columbus\, 43203\, United States
CATEGORIES:Group Anniversary
GEO:39.9680756;-82.9715357
X-APPLE-STRUCTURED-LOCATION;VALUE=URI;X-ADDRESS=Rehoboth Temple Church of Christ 1111 East Long St. Columbus 43203 United States;X-APPLE-RADIUS=500;X-TITLE=1111 East Long St.:geo:-82.9715357,39.9680756
END:VEVENT
BEGIN:VEVENT
DTSTART;TZID=America/New_York:20251019T180000
DTEND;TZID=America/New_York:20251019T190000
DTSTAMP:20260422T175530
CREATED:20250215T081126Z
LAST-MODIFIED:20250215T081126Z
UID:10002523-1760896800-1760900400@area53aa.org
SUMMARY:District 19 Meeting
DESCRIPTION:Save the Date \n5th Annual Red\, White and Sober \n\n\n			\n					\n						Download Flyer
URL:https://area53aa.org/event/district-19-meeting/2025-10-19/
LOCATION:Sabina United Methodist Church\, 61 W Elm St\, Sabina\, 45169\, United States
CATEGORIES:Monthly District Meetings
ORGANIZER;CN="District 19":MAILTO:dcm19@area53aa.org
GEO:39.4903491;-83.6374472
X-APPLE-STRUCTURED-LOCATION;VALUE=URI;X-ADDRESS=Sabina United Methodist Church 61 W Elm St Sabina 45169 United States;X-APPLE-RADIUS=500;X-TITLE=61 W Elm St:geo:-83.6374472,39.4903491
END:VEVENT
BEGIN:VEVENT
DTSTART;TZID=America/New_York:20251022T183000
DTEND;TZID=America/New_York:20251022T193000
DTSTAMP:20260422T175530
CREATED:20250215T081607Z
LAST-MODIFIED:20250215T081607Z
UID:10002643-1761157800-1761161400@area53aa.org
SUMMARY:District 15 Meeting
DESCRIPTION:Save the Date \n5th Annual Red\, White and Sober \n\n\n			\n					\n						Download Flyer
URL:https://area53aa.org/event/district-15-meeting/2025-10-22/
LOCATION:Serenity House Marietta\, 431 3rd Street\, Marietta\, OH\, 45750\, United States
CATEGORIES:Monthly District Meetings
ORGANIZER;CN="District 15":MAILTO:dcm15@area53aa.org
GEO:39.4195607;-81.4571447
X-APPLE-STRUCTURED-LOCATION;VALUE=URI;X-ADDRESS=Serenity House Marietta 431 3rd Street Marietta OH 45750 United States;X-APPLE-RADIUS=500;X-TITLE=431 3rd Street:geo:-81.4571447,39.4195607
END:VEVENT
BEGIN:VEVENT
DTSTART;TZID=America/New_York:20251025T110000
DTEND;TZID=America/New_York:20251025T120000
DTSTAMP:20260422T175530
CREATED:20250220T144020Z
LAST-MODIFIED:20250221T122239Z
UID:10002767-1761390000-1761393600@area53aa.org
SUMMARY:Accessibilities Committee Meeting
DESCRIPTION:Save the Date \n5th Annual Red\, White and Sober \n\n\n			\n					\n						Download Flyer
URL:https://area53aa.org/event/accessibilities-committee-meeting/2025-10-25/
LOCATION:Online Meeting
CATEGORIES:Monthly Standing Committee Meetings
ORGANIZER;CN="Accessibilities Committee":MAILTO:accessibilities@area53aa.org
END:VEVENT
BEGIN:VEVENT
DTSTART;TZID=America/New_York:20251025T170000
DTEND;TZID=America/New_York:20251025T210000
DTSTAMP:20260422T175530
CREATED:20250812T005241Z
LAST-MODIFIED:20251022T130913Z
UID:10003416-1761411600-1761426000@area53aa.org
SUMMARY:Stay Sober for October - District 28
DESCRIPTION:Save the Date \n5th Annual Red\, White and Sober \n\n\n			\n					\n						Download Flyer
URL:https://area53aa.org/event/stay-sober-for-october-district-28/
LOCATION:Christian Assembly Church\, 4099 Karl Rd\, Columbus\, 43224\, United States
CATEGORIES:District Events
ORGANIZER;CN="District 28":MAILTO:dcm28@area53aa.org
GEO:40.0515572;-82.9782409
X-APPLE-STRUCTURED-LOCATION;VALUE=URI;X-ADDRESS=Christian Assembly Church 4099 Karl Rd Columbus 43224 United States;X-APPLE-RADIUS=500;X-TITLE=4099 Karl Rd:geo:-82.9782409,40.0515572
END:VEVENT
BEGIN:VEVENT
DTSTART;TZID=America/New_York:20251026T173000
DTEND;TZID=America/New_York:20251026T183000
DTSTAMP:20260422T175530
CREATED:20250215T081335Z
LAST-MODIFIED:20250221T122247Z
UID:10002583-1761499800-1761503400@area53aa.org
SUMMARY:District 34 Meeting
DESCRIPTION:Save the Date \n5th Annual Red\, White and Sober \n\n\n			\n					\n						Download Flyer
URL:https://area53aa.org/event/district-34-meeting/2025-10-26/
LOCATION:Hoge Memorial Presbyterian Church\, 2930 West Broad Street\, Columbus\, OH\, 43204\, United States
CATEGORIES:Monthly District Meetings
GEO:39.9552438;-83.0786673
X-APPLE-STRUCTURED-LOCATION;VALUE=URI;X-ADDRESS=Hoge Memorial Presbyterian Church 2930 West Broad Street Columbus OH 43204 United States;X-APPLE-RADIUS=500;X-TITLE=2930 West Broad Street:geo:-83.0786673,39.9552438
END:VEVENT
BEGIN:VEVENT
DTSTART;VALUE=DATE:20251031
DTEND;VALUE=DATE:20251103
DTSTAMP:20260422T175530
CREATED:20250929T142337Z
LAST-MODIFIED:20250929T142721Z
UID:10003550-1761868800-1762127999@area53aa.org
SUMMARY:Fellowship of the Spirit Midwest
DESCRIPTION:Save the Date \n5th Annual Red\, White and Sober \n\n\n			\n					\n						Download Flyer
URL:https://area53aa.org/event/fellowship-of-the-spirit-midwest/
LOCATION:Higher Ground Retreat and   Conference Center\, 3820 Logan Creek Drive\, West Harrison\, IN\, 47060\, United States
GEO:39.2788285;-84.8926821
X-APPLE-STRUCTURED-LOCATION;VALUE=URI;X-ADDRESS=Higher Ground Retreat and   Conference Center 3820 Logan Creek Drive West Harrison IN 47060 United States;X-APPLE-RADIUS=500;X-TITLE=3820 Logan Creek Drive:geo:-84.8926821,39.2788285
END:VEVENT
BEGIN:VEVENT
DTSTART;TZID=America/New_York:20251101T090000
DTEND;TZID=America/New_York:20251101T223000
DTSTAMP:20260422T175530
CREATED:20250929T152733Z
LAST-MODIFIED:20250929T152812Z
UID:10003025-1761987600-1762036200@area53aa.org
SUMMARY:Archives Committee Meeting
DESCRIPTION:Save the Date \n5th Annual Red\, White and Sober \n\n\n			\n					\n						Download Flyer
URL:https://area53aa.org/event/archives-committee-meeting-4/
LOCATION:OH
CATEGORIES:Monthly Standing Committee Meetings
ORGANIZER;CN="Area 53 Archives Committee":MAILTO:archives@area53aa.org
END:VEVENT
BEGIN:VEVENT
DTSTART;TZID=America/New_York:20251101T110000
DTEND;TZID=America/New_York:20251101T120000
DTSTAMP:20260422T175530
CREATED:20250718T204218Z
LAST-MODIFIED:20250718T204219Z
UID:10001168-1761994800-1761998400@area53aa.org
SUMMARY:Grapevine Committee Monthly Meeting
DESCRIPTION:Save the Date \n5th Annual Red\, White and Sober \n\n\n			\n					\n						Download Flyer
URL:https://area53aa.org/event/grapevine-committee-monthly-meeting-2-2-2/2025-11-01/
LOCATION:COGF\, 645 W. Broad St.\, Columbus\, 43215\, United States
CATEGORIES:Monthly Standing Committee Meetings
ORGANIZER;CN="Area 53 Grapevine Committee":MAILTO:grapevine@area53aa.org
GEO:39.9599571;-83.0178443
X-APPLE-STRUCTURED-LOCATION;VALUE=URI;X-ADDRESS=COGF 645 W. Broad St. Columbus 43215 United States;X-APPLE-RADIUS=500;X-TITLE=645 W. Broad St.:geo:-83.0178443,39.9599571
END:VEVENT
BEGIN:VEVENT
DTSTART;TZID=America/New_York:20251102T120000
DTEND;TZID=America/New_York:20251102T150000
DTSTAMP:20260422T175530
CREATED:20251024T152650Z
LAST-MODIFIED:20251024T153218Z
UID:10003682-1762084800-1762095600@area53aa.org
SUMMARY:Archives Open House
DESCRIPTION:Save the Date \n5th Annual Red\, White and Sober \n\n\n			\n					\n						Download Flyer
URL:https://area53aa.org/event/archives-open-house/
LOCATION:COGF\, 645 W. Broad St.\, Columbus\, 43215\, United States
CATEGORIES:Area 53 Committee Workshops,Intergroup Event
ATTACH;FMTTYPE=image/png:https://area53aa.org/wp-content/uploads/2025/10/COGF-Archives.png
ORGANIZER;CN="Central Ohio Group Fellowship":MAILTO:cogf@aacentralohio.org
GEO:39.9599571;-83.0178443
X-APPLE-STRUCTURED-LOCATION;VALUE=URI;X-ADDRESS=COGF 645 W. Broad St. Columbus 43215 United States;X-APPLE-RADIUS=500;X-TITLE=645 W. Broad St.:geo:-83.0178443,39.9599571
END:VEVENT
BEGIN:VEVENT
DTSTART;TZID=America/New_York:20251102T130000
DTEND;TZID=America/New_York:20251102T140000
DTSTAMP:20260422T175530
CREATED:20250215T071520Z
LAST-MODIFIED:20250215T071520Z
UID:10001925-1762088400-1762092000@area53aa.org
SUMMARY:District 8/9 Meeting
DESCRIPTION:Save the Date \n5th Annual Red\, White and Sober \n\n\n			\n					\n						Download Flyer
URL:https://area53aa.org/event/district-8-9-meeting/2025-11-02/
LOCATION:Trinity Episcopal Church\, 76 East Main Street\, Newark\, OH\, 43055\, United States
CATEGORIES:Monthly District Meetings
ORGANIZER;CN="District 8/9":MAILTO:dcm08@area53aa.org
GEO:40.0588719;-82.3995484
X-APPLE-STRUCTURED-LOCATION;VALUE=URI;X-ADDRESS=Trinity Episcopal Church 76 East Main Street Newark OH 43055 United States;X-APPLE-RADIUS=500;X-TITLE=76 East Main Street:geo:-82.3995484,40.0588719
END:VEVENT
BEGIN:VEVENT
DTSTART;TZID=America/New_York:20251102T170000
DTEND;TZID=America/New_York:20251102T180000
DTSTAMP:20260422T175530
CREATED:20250215T071735Z
LAST-MODIFIED:20250215T071735Z
UID:10001985-1762102800-1762106400@area53aa.org
SUMMARY:District 16 Meeting
DESCRIPTION:Save the Date \n5th Annual Red\, White and Sober \n\n\n			\n					\n						Download Flyer
URL:https://area53aa.org/event/district-16-meeting/2025-11-02/
LOCATION:Athens First United Methodist Church\, 2 S College St\, Athens\, 45701\, United States
CATEGORIES:Monthly District Meetings
ORGANIZER;CN="District 16":MAILTO:dcm16@area53aa.org
GEO:39.3290904;-82.0992208
X-APPLE-STRUCTURED-LOCATION;VALUE=URI;X-ADDRESS=Athens First United Methodist Church 2 S College St Athens 45701 United States;X-APPLE-RADIUS=500;X-TITLE=2 S College St:geo:-82.0992208,39.3290904
END:VEVENT
BEGIN:VEVENT
DTSTART;TZID=America/New_York:20251102T170000
DTEND;TZID=America/New_York:20251102T180000
DTSTAMP:20260422T175530
CREATED:20250215T072108Z
LAST-MODIFIED:20250215T072108Z
UID:10002045-1762102800-1762106400@area53aa.org
SUMMARY:District 17 Meeting
DESCRIPTION:Save the Date \n5th Annual Red\, White and Sober \n\n\n			\n					\n						Download Flyer
URL:https://area53aa.org/event/district-17-meeting/2025-11-02/
LOCATION:Sacred Heart Church and Rectory\, 161 Mulberry Ave\, Pomeroy\, o\, 45769\, United States
CATEGORIES:Monthly District Meetings
ORGANIZER;CN="district 17":MAILTO:dcm17@area53aa.org
GEO:39.0295211;-82.0371166
X-APPLE-STRUCTURED-LOCATION;VALUE=URI;X-ADDRESS=Sacred Heart Church and Rectory 161 Mulberry Ave Pomeroy o 45769 United States;X-APPLE-RADIUS=500;X-TITLE=161 Mulberry Ave:geo:-82.0371166,39.0295211
END:VEVENT
BEGIN:VEVENT
DTSTART;TZID=America/New_York:20251103T080000
DTEND;TZID=America/New_York:20251103T170000
DTSTAMP:20260422T175530
CREATED:20251103T173048Z
LAST-MODIFIED:20251103T173650Z
UID:10003684-1762156800-1762189200@area53aa.org
SUMMARY:District 12 Area 53 Yearly Gathering
DESCRIPTION:Save the Date \n5th Annual Red\, White and Sober \n\n\n			\n					\n						Download Flyer
URL:https://area53aa.org/event/district-12-area-53-yearly-gathering/
LOCATION:Covenant Presbyterian Church\, 201 North Limestone Street\, Springfield\, 45503\, United States
CATEGORIES:District Events
ORGANIZER;CN="District 12":MAILTO:dcm12@area53aa.org
GEO:39.9276354;-83.8084326
X-APPLE-STRUCTURED-LOCATION;VALUE=URI;X-ADDRESS=Covenant Presbyterian Church 201 North Limestone Street Springfield 45503 United States;X-APPLE-RADIUS=500;X-TITLE=201 North Limestone Street:geo:-83.8084326,39.9276354
END:VEVENT
BEGIN:VEVENT
DTSTART;TZID=America/New_York:20251103T180000
DTEND;TZID=America/New_York:20251103T190000
DTSTAMP:20260422T175530
CREATED:20250215T072305Z
LAST-MODIFIED:20250215T072305Z
UID:10002105-1762192800-1762196400@area53aa.org
SUMMARY:District 11 Meeting
DESCRIPTION:Save the Date \n5th Annual Red\, White and Sober \n\n\n			\n					\n						Download Flyer
URL:https://area53aa.org/event/district-11-meeting/2025-11-03/
LOCATION:First Presbyterian Church – Marysville\, 210 West Fifth Street\, Marysville\, OH\, 43040
CATEGORIES:Monthly District Meetings
ORGANIZER;CN="District 11":MAILTO:dcm11@area53aa.org
GEO:40.2367951;-83.3685043
X-APPLE-STRUCTURED-LOCATION;VALUE=URI;X-ADDRESS=First Presbyterian Church – Marysville 210 West Fifth Street Marysville OH 43040;X-APPLE-RADIUS=500;X-TITLE=210 West Fifth Street:geo:-83.3685043,40.2367951
END:VEVENT
BEGIN:VEVENT
DTSTART;TZID=America/New_York:20251105T170000
DTEND;TZID=America/New_York:20251105T190000
DTSTAMP:20260422T175530
CREATED:20251020T142739Z
LAST-MODIFIED:20251020T142741Z
UID:10002226-1762362000-1762369200@area53aa.org
SUMMARY:District 30 Meeting
DESCRIPTION:Save the Date \n5th Annual Red\, White and Sober \n\n\n			\n					\n						Download Flyer
URL:https://area53aa.org/event/district-30-meeting-2/2025-11-05/
LOCATION:Upper Arlington Public Library – Tremont Road Branch\, 2800 Tremont Rd\, Upper Arlington\, OH\, 43221\, United States
CATEGORIES:Monthly District Meetings
ORGANIZER;CN="District 30":MAILTO:dcm30@area53aa.org
GEO:40.0126755;-83.0674473
X-APPLE-STRUCTURED-LOCATION;VALUE=URI;X-ADDRESS=Upper Arlington Public Library – Tremont Road Branch 2800 Tremont Rd Upper Arlington OH 43221 United States;X-APPLE-RADIUS=500;X-TITLE=2800 Tremont Rd:geo:-83.0674473,40.0126755
END:VEVENT
END:VCALENDAR