BEGIN:VCALENDAR
VERSION:2.0
PRODID:-//Area 53 AA - ECPv6.15.20//NONSGML v1.0//EN
CALSCALE:GREGORIAN
METHOD:PUBLISH
X-ORIGINAL-URL:https://area53aa.org
X-WR-CALDESC:Events for Area 53 AA
REFRESH-INTERVAL;VALUE=DURATION:PT1H
X-Robots-Tag:noindex
X-PUBLISHED-TTL:PT1H
BEGIN:VTIMEZONE
TZID:America/New_York
BEGIN:DAYLIGHT
TZOFFSETFROM:-0500
TZOFFSETTO:-0400
TZNAME:EDT
DTSTART:20260308T070000
END:DAYLIGHT
BEGIN:STANDARD
TZOFFSETFROM:-0400
TZOFFSETTO:-0500
TZNAME:EST
DTSTART:20261101T060000
END:STANDARD
BEGIN:DAYLIGHT
TZOFFSETFROM:-0500
TZOFFSETTO:-0400
TZNAME:EDT
DTSTART:20270314T070000
END:DAYLIGHT
BEGIN:STANDARD
TZOFFSETFROM:-0400
TZOFFSETTO:-0500
TZNAME:EST
DTSTART:20271107T060000
END:STANDARD
BEGIN:DAYLIGHT
TZOFFSETFROM:-0500
TZOFFSETTO:-0400
TZNAME:EDT
DTSTART:20280312T070000
END:DAYLIGHT
BEGIN:STANDARD
TZOFFSETFROM:-0400
TZOFFSETTO:-0500
TZNAME:EST
DTSTART:20281105T060000
END:STANDARD
END:VTIMEZONE
BEGIN:VEVENT
DTSTART;TZID=America/New_York:20270116T110000
DTEND;TZID=America/New_York:20270116T120000
DTSTAMP:20260422T183141
CREATED:20250215T074344Z
LAST-MODIFIED:20250215T074344Z
UID:10002419-1800097200-1800100800@area53aa.org
SUMMARY:District 21 Meeting
DESCRIPTION:3rd Saturday of the month at 11:00 am \nWheelersburg United Methodist Church\, 11605 Gallia Pike Rd\, Wheelersburg\, OH 45694\, USA \nZoom Meeting ID: 457-677-9532\npasscode: 6cdUJ4
URL:https://area53aa.org/event/district-21-meeting/2027-01-16/
LOCATION:Wheelersburg United Methodist Church\, 11605 Gallia Pike Rd\, Wheelersburg\, 45694\, 45694\, United States
CATEGORIES:Monthly District Meetings
ORGANIZER;CN="District 21":MAILTO:dcm21@area53aa.org
GEO:38.7278325;-82.8543713
X-APPLE-STRUCTURED-LOCATION;VALUE=URI;X-ADDRESS=Wheelersburg United Methodist Church 11605 Gallia Pike Rd Wheelersburg 45694 45694 United States;X-APPLE-RADIUS=500;X-TITLE=11605 Gallia Pike Rd:geo:-82.8543713,38.7278325
END:VEVENT
BEGIN:VEVENT
DTSTART;TZID=America/New_York:20270116T113000
DTEND;TZID=America/New_York:20270116T130000
DTSTAMP:20260422T183141
CREATED:20251229T050040Z
LAST-MODIFIED:20251229T050041Z
UID:10003766-1800099000-1800104400@area53aa.org
SUMMARY:District 33 Meeting
DESCRIPTION:Meeting Location\n\n\n\n\n\nMain Library \n96 S. Grant Ave. \nRoom 1c \n11:30 to 1:00 pm \n3rd Saturday of the Month at 11:30 AM \nWho Should Attend?  \n• All Group Service Representatives ( GSRs) \n• Districts Committee Members ( DCMs & Officers) \n• Any AA member interested in service \nPurpose  \nDistrict 33 comes together to:  \n• Share information between groups and Area \n• Coordinate service activities \n• Support the still-suffering alcoholic through unity and service. \n“Our common welfare should come first; personal recovery depends upon A.A. unity.”
URL:https://area53aa.org/event/district-33-meeting-2-2/2027-01-16/
LOCATION:Combulus Metropotlian Main Library\, 96 S. Grant Ave\, Columbus\, 43215\, United States
CATEGORIES:Monthly District Meetings
ORGANIZER;CN="District 33":MAILTO:dcm33@area53aa.org
GEO:39.9613828;-82.9894036
X-APPLE-STRUCTURED-LOCATION;VALUE=URI;X-ADDRESS=Combulus Metropotlian Main Library 96 S. Grant Ave Columbus 43215 United States;X-APPLE-RADIUS=500;X-TITLE=96 S. Grant Ave:geo:-82.9894036,39.9613828
END:VEVENT
BEGIN:VEVENT
DTSTART;TZID=America/New_York:20270116T120000
DTEND;TZID=America/New_York:20270116T130000
DTSTAMP:20260422T183141
CREATED:20240118T035629Z
LAST-MODIFIED:20250215T054843Z
UID:10000463-1800100800-1800104400@area53aa.org
SUMMARY:Treatment Facilities Committee Monthly Meeting
DESCRIPTION:The Treatment Facilities Committee assists individuals\, groups\, and districts in carrying the message to the alcoholic in a treatment facility setting. These settings include rehabilitation centers\, nursing homes\, psychiatric hospitals\, homeless shelters\, transitional housing\, and outpatient programs. \nThe committee meets on the 3rd Saturday of every month at 12 pm in person and on zoom! \nCOGF\, 651 W. Broad St.\, Columbus OH 43215 \nJoin Zoom Meeting\nhttps://us02web.zoom.us/j/83175778784?pwd=c1BlWFJNZ1ZGK2Y4UkgvajBCakNxdz09  \nMeeting ID: 831 7577 8784\nPasscode: Treatment
URL:https://area53aa.org/event/treatment-facilities-committee-monthly-meeting/2027-01-16/
LOCATION:COGF\, 645 W. Broad St.\, Columbus\, 43215\, United States
CATEGORIES:Monthly Standing Committee Meetings
ORGANIZER;CN="Area 53 Treatment Facilities Committee":MAILTO:treatment@area53aa.org
GEO:39.9599571;-83.0178443
X-APPLE-STRUCTURED-LOCATION;VALUE=URI;X-ADDRESS=COGF 645 W. Broad St. Columbus 43215 United States;X-APPLE-RADIUS=500;X-TITLE=645 W. Broad St.:geo:-83.0178443,39.9599571
END:VEVENT
BEGIN:VEVENT
DTSTART;TZID=America/New_York:20270117T150000
DTEND;TZID=America/New_York:20270117T163000
DTSTAMP:20260422T183141
CREATED:20250208T233428Z
LAST-MODIFIED:20250215T062320Z
UID:10001712-1800198000-1800203400@area53aa.org
SUMMARY:CPC/PI Committee Meeting
DESCRIPTION:CPC-PI Committee Monthly Meeting \n03:00 pm 04:30 pm \n02/16/2025 \nFranklinton Library \n1061 W Town St \nColumbus Ohio 43222 United States \nMeeting held in large Meeting Room on second floor. Zoom access available for those unable to attend in person. \n			\n						More Info
URL:https://area53aa.org/event/cpc-pi-committee-meeting-feb-16-2025/2027-01-17/
LOCATION:Franklinton Library\, 1061 W Town St\, Columbus\, 43222\, United States
CATEGORIES:Monthly Standing Committee Meetings
ORGANIZER;CN="Area 53 CPC-PI Committee":MAILTO:cpcpi@area53aa.org
GEO:39.9551728;-83.0277954
X-APPLE-STRUCTURED-LOCATION;VALUE=URI;X-ADDRESS=Franklinton Library 1061 W Town St Columbus 43222 United States;X-APPLE-RADIUS=500;X-TITLE=1061 W Town St:geo:-83.0277954,39.9551728
END:VEVENT
BEGIN:VEVENT
DTSTART;TZID=America/New_York:20270117T160000
DTEND;TZID=America/New_York:20270117T170000
DTSTAMP:20260422T183141
CREATED:20250215T080944Z
LAST-MODIFIED:20250215T080944Z
UID:10002479-1800201600-1800205200@area53aa.org
SUMMARY:District 12 Meeting
DESCRIPTION:3rd Sunday of the Month at 4:00 PM
URL:https://area53aa.org/event/district-12-meeting/2027-01-17/
LOCATION:Springfield Alano Club Inc\, 1557 E Main St\, Springfield\, 45503\, United States
CATEGORIES:Monthly District Meetings
ORGANIZER;CN="District 12":MAILTO:dcm12@area53aa.org
GEO:39.9231477;-83.7860254
X-APPLE-STRUCTURED-LOCATION;VALUE=URI;X-ADDRESS=Springfield Alano Club Inc 1557 E Main St Springfield 45503 United States;X-APPLE-RADIUS=500;X-TITLE=1557 E Main St:geo:-83.7860254,39.9231477
END:VEVENT
BEGIN:VEVENT
DTSTART;TZID=America/New_York:20270117T180000
DTEND;TZID=America/New_York:20270117T190000
DTSTAMP:20260422T183141
CREATED:20250215T081126Z
LAST-MODIFIED:20250215T081126Z
UID:10002538-1800208800-1800212400@area53aa.org
SUMMARY:District 19 Meeting
DESCRIPTION:3rd Sunday of the Month at 6:00 PM
URL:https://area53aa.org/event/district-19-meeting/2027-01-17/
LOCATION:Sabina United Methodist Church\, 61 W Elm St\, Sabina\, 45169\, United States
CATEGORIES:Monthly District Meetings
ORGANIZER;CN="District 19":MAILTO:dcm19@area53aa.org
GEO:39.4903491;-83.6374472
X-APPLE-STRUCTURED-LOCATION;VALUE=URI;X-ADDRESS=Sabina United Methodist Church 61 W Elm St Sabina 45169 United States;X-APPLE-RADIUS=500;X-TITLE=61 W Elm St:geo:-83.6374472,39.4903491
END:VEVENT
BEGIN:VEVENT
DTSTART;TZID=America/New_York:20270121T190000
DTEND;TZID=America/New_York:20270121T210000
DTSTAMP:20260422T183141
CREATED:20250912T004959Z
LAST-MODIFIED:20251005T183853Z
UID:10003576-1800558000-1800565200@area53aa.org
SUMMARY:Communication Services Committee Meeting (Virtual)
DESCRIPTION:
URL:https://area53aa.org/event/communication-services-committee-meeting-virtual-2-2-3/2027-01-21/
LOCATION:https://area53aa.org/event/communication-services-committee-meeting-virtual-2-2-3/2027-01-21/
ORGANIZER;CN="Communication Services Committee":MAILTO:CommServices@area53aa.org
END:VEVENT
BEGIN:VEVENT
DTSTART;TZID=America/New_York:20270123T090000
DTEND;TZID=America/New_York:20270123T223000
DTSTAMP:20260422T183141
CREATED:20260109T180324Z
LAST-MODIFIED:20260109T180326Z
UID:10003040-1800694800-1800743400@area53aa.org
SUMMARY:Archives Committee Meeting
DESCRIPTION:Join Zoom Meeting\nhttps://us06web.zoom.us/j/8767491565?pwd=T5amisG2BESVqFiB80DodjrElIvQ2Q.1&omn=83164441282 \nMeeting ID: 876 749 1565\nPasscode: Archives \nJoin instructions\nhttps://us06web.zoom.us/meetings/83164441282/invitations?signature=NMfO0zroDmr9XNQTTTBoX6yJoQ_UN0cAdWuWVJlqIgE
URL:https://area53aa.org/event/archives-committee-meeting-2-2-2-2/2027-01-23/
LOCATION:COGF\, 645 W. Broad St.\, Columbus\, 43215\, United States
CATEGORIES:Monthly Standing Committee Meetings
ORGANIZER;CN="Area 53 Archives Committee":MAILTO:archives@area53aa.org
GEO:39.9599571;-83.0178443
X-APPLE-STRUCTURED-LOCATION;VALUE=URI;X-ADDRESS=COGF 645 W. Broad St. Columbus 43215 United States;X-APPLE-RADIUS=500;X-TITLE=645 W. Broad St.:geo:-83.0178443,39.9599571
END:VEVENT
BEGIN:VEVENT
DTSTART;TZID=America/New_York:20270123T110000
DTEND;TZID=America/New_York:20270123T120000
DTSTAMP:20260422T183141
CREATED:20250220T144020Z
LAST-MODIFIED:20250221T122239Z
UID:10002782-1800702000-1800705600@area53aa.org
SUMMARY:Accessibilities Committee Meeting
DESCRIPTION:The Accessibilities Committee meets on Zoom every fourth Saturday of the month from 11 am to 12 noon. \nhttps://zoom.us/j/99325410386?pwd=UXpzMHB0ZndHV1hYVWtDRjkyVlV2UT09 \nMeeting ID: 993 2541 0386\nPasscode: 6sP2cP
URL:https://area53aa.org/event/accessibilities-committee-meeting/2027-01-23/
LOCATION:Online Meeting
CATEGORIES:Monthly Standing Committee Meetings
ORGANIZER;CN="Accessibilities Committee":MAILTO:accessibilities@area53aa.org
END:VEVENT
BEGIN:VEVENT
DTSTART;TZID=America/New_York:20270124T173000
DTEND;TZID=America/New_York:20270124T183000
DTSTAMP:20260422T183141
CREATED:20250215T081335Z
LAST-MODIFIED:20250221T122247Z
UID:10002598-1800811800-1800815400@area53aa.org
SUMMARY:District 34 Meeting
DESCRIPTION:4th Sunday of the month at 5:30 PM \nHoge Memorial Presbyterian Church\, 2930 W Broad St\, Columbus\, OH 43204\, USA
URL:https://area53aa.org/event/district-34-meeting/2027-01-24/
LOCATION:Hoge Memorial Presbyterian Church\, 2930 West Broad Street\, Columbus\, OH\, 43204\, United States
CATEGORIES:Monthly District Meetings
GEO:39.9552438;-83.0786673
X-APPLE-STRUCTURED-LOCATION;VALUE=URI;X-ADDRESS=Hoge Memorial Presbyterian Church 2930 West Broad Street Columbus OH 43204 United States;X-APPLE-RADIUS=500;X-TITLE=2930 West Broad Street:geo:-83.0786673,39.9552438
END:VEVENT
BEGIN:VEVENT
DTSTART;TZID=America/New_York:20270124T183000
DTEND;TZID=America/New_York:20270124T193000
DTSTAMP:20260422T183141
CREATED:20251119T214041Z
LAST-MODIFIED:20251119T214041Z
UID:10003702-1800815400-1800819000@area53aa.org
SUMMARY:District 13/14 Meeting
DESCRIPTION:District 13/14 mtg. \n06:30 pm 07:30 pm \n11/23/2025 \n723 Slocum Ave \nLancaster\, Ohio 43130 United States \nGSR mtg. \nEmail dcm13@area53.org
URL:https://area53aa.org/event/district-13-14-meeting/2027-01-24/
LOCATION:Lancaster Area Intergroup\, 723 Slocum Ave\, Lancaster\, 43130\, United States
CATEGORIES:Monthly District Meetings
GEO:39.7222571;-82.6130773
X-APPLE-STRUCTURED-LOCATION;VALUE=URI;X-ADDRESS=Lancaster Area Intergroup 723 Slocum Ave Lancaster 43130 United States;X-APPLE-RADIUS=500;X-TITLE=723 Slocum Ave:geo:-82.6130773,39.7222571
END:VEVENT
BEGIN:VEVENT
DTSTART;TZID=America/New_York:20270127T183000
DTEND;TZID=America/New_York:20270127T193000
DTSTAMP:20260422T183141
CREATED:20250215T081607Z
LAST-MODIFIED:20250215T081607Z
UID:10002658-1801074600-1801078200@area53aa.org
SUMMARY:District 15 Meeting
DESCRIPTION:4th Wednesday of the month at 6:30 \n431 3rd St\, Marietta\, OH 45750\, USA
URL:https://area53aa.org/event/district-15-meeting/2027-01-27/
LOCATION:Serenity House Marietta\, 431 3rd Street\, Marietta\, OH\, 45750\, United States
CATEGORIES:Monthly District Meetings
ORGANIZER;CN="District 15":MAILTO:dcm15@area53aa.org
GEO:39.4195607;-81.4571447
X-APPLE-STRUCTURED-LOCATION;VALUE=URI;X-ADDRESS=Serenity House Marietta 431 3rd Street Marietta OH 45750 United States;X-APPLE-RADIUS=500;X-TITLE=431 3rd Street:geo:-81.4571447,39.4195607
END:VEVENT
BEGIN:VEVENT
DTSTART;TZID=America/New_York:20270206T100000
DTEND;TZID=America/New_York:20270206T110000
DTSTAMP:20260422T183141
CREATED:20250215T071306Z
LAST-MODIFIED:20250215T071306Z
UID:10001897-1801908000-1801911600@area53aa.org
SUMMARY:District 1 Meeting
DESCRIPTION:District 1 meetings are held every other (even months) 1st Saturday of the month at 10:00 AM. \n440 South St. Paris Street\nBellefontaine OH 43311
URL:https://area53aa.org/event/district-1-meeting/2027-02-06/
LOCATION:Recovery Zone\, 440 South St. Paris Street\, Bellefontaine\, 43311\, United States
CATEGORIES:Monthly District Meetings
ORGANIZER;CN="District 1":MAILTO:dcm01@area53aa.org
GEO:40.3573329;-83.7743358
X-APPLE-STRUCTURED-LOCATION;VALUE=URI;X-ADDRESS=Recovery Zone 440 South St. Paris Street Bellefontaine 43311 United States;X-APPLE-RADIUS=500;X-TITLE=440 South St. Paris Street:geo:-83.7743358,40.3573329
END:VEVENT
BEGIN:VEVENT
DTSTART;TZID=America/New_York:20270206T110000
DTEND;TZID=America/New_York:20270206T120000
DTSTAMP:20260422T183141
CREATED:20250718T204218Z
LAST-MODIFIED:20250718T204219Z
UID:10001180-1801911600-1801915200@area53aa.org
SUMMARY:Grapevine Committee Monthly Meeting
DESCRIPTION:The Grapevine Committee assists groups in Area 53 with the distribution and introduction of the AA Grapevine magazine. The Committee attends events in the area informing members about the Grapevine through displays and other suitable methods\, regarding all available Grapevine publications\, audio-visual materials\, and other special items. \nAll GVRs are encouraged to attend the committee meeting. \nThe committee meets on the 1st Saturday of every month at 11 am. \nCOGF\, 651 W. Broad St.\, Columbus OH 43215 \nIf you cannot be in attendance we now have the meeting hybrid!! \nJoin Hybrid Meeting  \nGoogle Meets Meeting ID: csg-cwkc-xbu
URL:https://area53aa.org/event/grapevine-committee-monthly-meeting-2-2-2/2027-02-06/
LOCATION:COGF\, 645 W. Broad St.\, Columbus\, 43215\, United States
CATEGORIES:Monthly Standing Committee Meetings
ORGANIZER;CN="Area 53 Grapevine Committee":MAILTO:grapevine@area53aa.org
GEO:39.9599571;-83.0178443
X-APPLE-STRUCTURED-LOCATION;VALUE=URI;X-ADDRESS=COGF 645 W. Broad St. Columbus 43215 United States;X-APPLE-RADIUS=500;X-TITLE=645 W. Broad St.:geo:-83.0178443,39.9599571
END:VEVENT
BEGIN:VEVENT
DTSTART;TZID=America/New_York:20270306T100000
DTEND;TZID=America/New_York:20270306T110000
DTSTAMP:20260422T183141
CREATED:20250304T234513Z
LAST-MODIFIED:20250304T234514Z
UID:10001876-1804327200-1804330800@area53aa.org
SUMMARY:CFC Quarterly Meeting
DESCRIPTION:Quarterly meeting of the Correctional Facilities Committee\, where we review and vote on Trusted Servant reports (such as last quarter’s meeting minutes\, funds collected\, literature distributed\, etc.)\, as well as discuss and vote on old and new business for the Committee. We also share brief reports from GIR’s and Outside Sponsors. We highly encourage participation over Zoom if members are unable to physically attend. \nHybrid \nCentral Ohio Group Fellowship of Alcoholics Anonymous\n651 W Broad St\nColumbus\, OH 43215\nUSA \nLink: Zoom Meeting \nMeeting ID: 889 7192 9262 \nPass Code: area53
URL:https://area53aa.org/event/cfc-quarterly-meeting-2/2027-03-06/
LOCATION:COGF\, 645 W. Broad St.\, Columbus\, 43215\, United States
CATEGORIES:Monthly Standing Committee Meetings
ORGANIZER;CN="Area 53 CFC Committee":MAILTO:corrections@area53aa.org
GEO:39.9599571;-83.0178443
X-APPLE-STRUCTURED-LOCATION;VALUE=URI;X-ADDRESS=COGF 645 W. Broad St. Columbus 43215 United States;X-APPLE-RADIUS=500;X-TITLE=645 W. Broad St.:geo:-83.0178443,39.9599571
END:VEVENT
END:VCALENDAR