BEGIN:VCALENDAR
VERSION:2.0
PRODID:-//Area 53 AA - ECPv6.15.20//NONSGML v1.0//EN
CALSCALE:GREGORIAN
METHOD:PUBLISH
X-WR-CALNAME:Area 53 AA
X-ORIGINAL-URL:https://area53aa.org
X-WR-CALDESC:Events for Area 53 AA
REFRESH-INTERVAL;VALUE=DURATION:PT1H
X-Robots-Tag:noindex
X-PUBLISHED-TTL:PT1H
BEGIN:VTIMEZONE
TZID:America/New_York
BEGIN:DAYLIGHT
TZOFFSETFROM:-0500
TZOFFSETTO:-0400
TZNAME:EDT
DTSTART:20250309T070000
END:DAYLIGHT
BEGIN:STANDARD
TZOFFSETFROM:-0400
TZOFFSETTO:-0500
TZNAME:EST
DTSTART:20251102T060000
END:STANDARD
BEGIN:DAYLIGHT
TZOFFSETFROM:-0500
TZOFFSETTO:-0400
TZNAME:EDT
DTSTART:20260308T070000
END:DAYLIGHT
BEGIN:STANDARD
TZOFFSETFROM:-0400
TZOFFSETTO:-0500
TZNAME:EST
DTSTART:20261101T060000
END:STANDARD
BEGIN:DAYLIGHT
TZOFFSETFROM:-0500
TZOFFSETTO:-0400
TZNAME:EDT
DTSTART:20270314T070000
END:DAYLIGHT
BEGIN:STANDARD
TZOFFSETFROM:-0400
TZOFFSETTO:-0500
TZNAME:EST
DTSTART:20271107T060000
END:STANDARD
BEGIN:DAYLIGHT
TZOFFSETFROM:-0500
TZOFFSETTO:-0400
TZNAME:EDT
DTSTART:20280312T070000
END:DAYLIGHT
BEGIN:STANDARD
TZOFFSETFROM:-0400
TZOFFSETTO:-0500
TZNAME:EST
DTSTART:20281105T060000
END:STANDARD
END:VTIMEZONE
BEGIN:VEVENT
DTSTART;TZID=America/New_York:20261226T110000
DTEND;TZID=America/New_York:20261226T120000
DTSTAMP:20260422T183243
CREATED:20250220T144020Z
LAST-MODIFIED:20250221T122239Z
UID:10002781-1798282800-1798286400@area53aa.org
SUMMARY:Accessibilities Committee Meeting
DESCRIPTION:The Accessibilities Committee meets on Zoom every fourth Saturday of the month from 11 am to 12 noon. \nhttps://zoom.us/j/99325410386?pwd=UXpzMHB0ZndHV1hYVWtDRjkyVlV2UT09 \nMeeting ID: 993 2541 0386\nPasscode: 6sP2cP
URL:https://area53aa.org/event/accessibilities-committee-meeting/2026-12-26/
LOCATION:Online Meeting
CATEGORIES:Monthly Standing Committee Meetings
ORGANIZER;CN="Accessibilities Committee":MAILTO:accessibilities@area53aa.org
END:VEVENT
BEGIN:VEVENT
DTSTART;TZID=America/New_York:20261227T173000
DTEND;TZID=America/New_York:20261227T183000
DTSTAMP:20260422T183243
CREATED:20250215T081335Z
LAST-MODIFIED:20250221T122247Z
UID:10002597-1798392600-1798396200@area53aa.org
SUMMARY:District 34 Meeting
DESCRIPTION:4th Sunday of the month at 5:30 PM \nHoge Memorial Presbyterian Church\, 2930 W Broad St\, Columbus\, OH 43204\, USA
URL:https://area53aa.org/event/district-34-meeting/2026-12-27/
LOCATION:Hoge Memorial Presbyterian Church\, 2930 West Broad Street\, Columbus\, OH\, 43204\, United States
CATEGORIES:Monthly District Meetings
GEO:39.9552438;-83.0786673
X-APPLE-STRUCTURED-LOCATION;VALUE=URI;X-ADDRESS=Hoge Memorial Presbyterian Church 2930 West Broad Street Columbus OH 43204 United States;X-APPLE-RADIUS=500;X-TITLE=2930 West Broad Street:geo:-83.0786673,39.9552438
END:VEVENT
BEGIN:VEVENT
DTSTART;TZID=America/New_York:20261227T183000
DTEND;TZID=America/New_York:20261227T193000
DTSTAMP:20260422T183243
CREATED:20251119T214041Z
LAST-MODIFIED:20251119T214041Z
UID:10003701-1798396200-1798399800@area53aa.org
SUMMARY:District 13/14 Meeting
DESCRIPTION:District 13/14 mtg. \n06:30 pm 07:30 pm \n11/23/2025 \n723 Slocum Ave \nLancaster\, Ohio 43130 United States \nGSR mtg. \nEmail dcm13@area53.org
URL:https://area53aa.org/event/district-13-14-meeting/2026-12-27/
LOCATION:Lancaster Area Intergroup\, 723 Slocum Ave\, Lancaster\, 43130\, United States
CATEGORIES:Monthly District Meetings
GEO:39.7222571;-82.6130773
X-APPLE-STRUCTURED-LOCATION;VALUE=URI;X-ADDRESS=Lancaster Area Intergroup 723 Slocum Ave Lancaster 43130 United States;X-APPLE-RADIUS=500;X-TITLE=723 Slocum Ave:geo:-82.6130773,39.7222571
END:VEVENT
BEGIN:VEVENT
DTSTART;TZID=America/New_York:20270106T170000
DTEND;TZID=America/New_York:20270106T190000
DTSTAMP:20260422T183243
CREATED:20251020T142739Z
LAST-MODIFIED:20251020T142741Z
UID:10003636-1799254800-1799262000@area53aa.org
SUMMARY:District 30 Meeting
DESCRIPTION:1st Wednesday of the month at 5:00 PM \nUpper Arlington Public Library – Tremont Road Branch \n2800 Tremont Rd\nUpper Arlington \, OH 43221
URL:https://area53aa.org/event/district-30-meeting-2/2027-01-06/
LOCATION:Upper Arlington Public Library – Tremont Road Branch\, 2800 Tremont Rd\, Upper Arlington\, OH\, 43221\, United States
CATEGORIES:Monthly District Meetings
ORGANIZER;CN="District 30":MAILTO:dcm30@area53aa.org
GEO:40.0126755;-83.0674473
X-APPLE-STRUCTURED-LOCATION;VALUE=URI;X-ADDRESS=Upper Arlington Public Library – Tremont Road Branch 2800 Tremont Rd Upper Arlington OH 43221 United States;X-APPLE-RADIUS=500;X-TITLE=2800 Tremont Rd:geo:-83.0674473,40.0126755
END:VEVENT
BEGIN:VEVENT
DTSTART;TZID=America/New_York:20270106T180000
DTEND;TZID=America/New_York:20270106T190000
DTSTAMP:20260422T183244
CREATED:20250215T072759Z
LAST-MODIFIED:20250215T072759Z
UID:10002180-1799258400-1799262000@area53aa.org
SUMMARY:District 22 Meeting
DESCRIPTION:First Wednesday of the month at 6:00 PM \nOn Zoom \nZoom Meeting Code: 727 4436 6620 \nPassword: BillW
URL:https://area53aa.org/event/district-22-meeting/2027-01-06/
CATEGORIES:Monthly District Meetings
ORGANIZER;CN="District 22":MAILTO:dcm22@area53aa.org
END:VEVENT
END:VCALENDAR