BEGIN:VCALENDAR
VERSION:2.0
PRODID:-//Area 53 AA - ECPv6.15.20//NONSGML v1.0//EN
CALSCALE:GREGORIAN
METHOD:PUBLISH
X-WR-CALNAME:Area 53 AA
X-ORIGINAL-URL:https://area53aa.org
X-WR-CALDESC:Events for Area 53 AA
REFRESH-INTERVAL;VALUE=DURATION:PT1H
X-Robots-Tag:noindex
X-PUBLISHED-TTL:PT1H
BEGIN:VTIMEZONE
TZID:America/New_York
BEGIN:DAYLIGHT
TZOFFSETFROM:-0500
TZOFFSETTO:-0400
TZNAME:EDT
DTSTART:20250309T070000
END:DAYLIGHT
BEGIN:STANDARD
TZOFFSETFROM:-0400
TZOFFSETTO:-0500
TZNAME:EST
DTSTART:20251102T060000
END:STANDARD
BEGIN:DAYLIGHT
TZOFFSETFROM:-0500
TZOFFSETTO:-0400
TZNAME:EDT
DTSTART:20260308T070000
END:DAYLIGHT
BEGIN:STANDARD
TZOFFSETFROM:-0400
TZOFFSETTO:-0500
TZNAME:EST
DTSTART:20261101T060000
END:STANDARD
BEGIN:DAYLIGHT
TZOFFSETFROM:-0500
TZOFFSETTO:-0400
TZNAME:EDT
DTSTART:20270314T070000
END:DAYLIGHT
BEGIN:STANDARD
TZOFFSETFROM:-0400
TZOFFSETTO:-0500
TZNAME:EST
DTSTART:20271107T060000
END:STANDARD
END:VTIMEZONE
BEGIN:VEVENT
DTSTART;TZID=America/New_York:20260404T100000
DTEND;TZID=America/New_York:20260404T110000
DTSTAMP:20260422T060018
CREATED:20250215T071306Z
LAST-MODIFIED:20250215T071306Z
UID:10001892-1775296800-1775300400@area53aa.org
SUMMARY:District 1 Meeting
DESCRIPTION:District 1 meetings are held every other (even months) 1st Saturday of the month at 10:00 AM. \n440 South St. Paris Street\nBellefontaine OH 43311
URL:https://area53aa.org/event/district-1-meeting/2026-04-04/
LOCATION:Recovery Zone\, 440 South St. Paris Street\, Bellefontaine\, 43311\, United States
CATEGORIES:Monthly District Meetings
ORGANIZER;CN="District 1":MAILTO:dcm01@area53aa.org
GEO:40.3573329;-83.7743358
X-APPLE-STRUCTURED-LOCATION;VALUE=URI;X-ADDRESS=Recovery Zone 440 South St. Paris Street Bellefontaine 43311 United States;X-APPLE-RADIUS=500;X-TITLE=440 South St. Paris Street:geo:-83.7743358,40.3573329
END:VEVENT
BEGIN:VEVENT
DTSTART;TZID=America/New_York:20260404T110000
DTEND;TZID=America/New_York:20260404T120000
DTSTAMP:20260422T060018
CREATED:20250718T204218Z
LAST-MODIFIED:20250718T204219Z
UID:10001171-1775300400-1775304000@area53aa.org
SUMMARY:Grapevine Committee Monthly Meeting
DESCRIPTION:The Grapevine Committee assists groups in Area 53 with the distribution and introduction of the AA Grapevine magazine. The Committee attends events in the area informing members about the Grapevine through displays and other suitable methods\, regarding all available Grapevine publications\, audio-visual materials\, and other special items. \nAll GVRs are encouraged to attend the committee meeting. \nThe committee meets on the 1st Saturday of every month at 11 am. \nCOGF\, 651 W. Broad St.\, Columbus OH 43215 \nIf you cannot be in attendance we now have the meeting hybrid!! \nJoin Hybrid Meeting  \nGoogle Meets Meeting ID: csg-cwkc-xbu
URL:https://area53aa.org/event/grapevine-committee-monthly-meeting-2-2-2/2026-04-04/
LOCATION:COGF\, 645 W. Broad St.\, Columbus\, 43215\, United States
CATEGORIES:Monthly Standing Committee Meetings
ORGANIZER;CN="Area 53 Grapevine Committee":MAILTO:grapevine@area53aa.org
GEO:39.9599571;-83.0178443
X-APPLE-STRUCTURED-LOCATION;VALUE=URI;X-ADDRESS=COGF 645 W. Broad St. Columbus 43215 United States;X-APPLE-RADIUS=500;X-TITLE=645 W. Broad St.:geo:-83.0178443,39.9599571
END:VEVENT
BEGIN:VEVENT
DTSTART;TZID=America/New_York:20260405T130000
DTEND;TZID=America/New_York:20260405T140000
DTSTAMP:20260422T060018
CREATED:20250215T071520Z
LAST-MODIFIED:20250215T071520Z
UID:10001930-1775394000-1775397600@area53aa.org
SUMMARY:District 8/9 Meeting
DESCRIPTION:1st Sunday at 1:00 PM \nTrinity Episcopal Church\, 76 E Main St\, Newark\, OH 43055\, USA
URL:https://area53aa.org/event/district-8-9-meeting/2026-04-05/
LOCATION:Trinity Episcopal Church\, 76 East Main Street\, Newark\, OH\, 43055\, United States
CATEGORIES:Monthly District Meetings
ORGANIZER;CN="District 8/9":MAILTO:dcm08@area53aa.org
GEO:40.0588719;-82.3995484
X-APPLE-STRUCTURED-LOCATION;VALUE=URI;X-ADDRESS=Trinity Episcopal Church 76 East Main Street Newark OH 43055 United States;X-APPLE-RADIUS=500;X-TITLE=76 East Main Street:geo:-82.3995484,40.0588719
END:VEVENT
BEGIN:VEVENT
DTSTART;TZID=America/New_York:20260405T170000
DTEND;TZID=America/New_York:20260405T180000
DTSTAMP:20260422T060018
CREATED:20250215T071735Z
LAST-MODIFIED:20250215T071735Z
UID:10001990-1775408400-1775412000@area53aa.org
SUMMARY:District 16 Meeting
DESCRIPTION:1st Sunday at 5:00 PM \nAthens First United Methodist Church\, 2 S College St\, Athens\, OH 45701\, USA
URL:https://area53aa.org/event/district-16-meeting/2026-04-05/
LOCATION:Athens First United Methodist Church\, 2 S College St\, Athens\, 45701\, United States
CATEGORIES:Monthly District Meetings
ORGANIZER;CN="District 16":MAILTO:dcm16@area53aa.org
GEO:39.3290904;-82.0992208
X-APPLE-STRUCTURED-LOCATION;VALUE=URI;X-ADDRESS=Athens First United Methodist Church 2 S College St Athens 45701 United States;X-APPLE-RADIUS=500;X-TITLE=2 S College St:geo:-82.0992208,39.3290904
END:VEVENT
BEGIN:VEVENT
DTSTART;TZID=America/New_York:20260405T170000
DTEND;TZID=America/New_York:20260405T180000
DTSTAMP:20260422T060018
CREATED:20250215T072108Z
LAST-MODIFIED:20250215T072108Z
UID:10002050-1775408400-1775412000@area53aa.org
SUMMARY:District 17 Meeting
DESCRIPTION:First Sunday of the Month at 5:00 PM \nSacred Heart Church and Rectory\, 161 Mulberry Ave\, Pomeroy\, OH 45769\, USA
URL:https://area53aa.org/event/district-17-meeting/2026-04-05/
LOCATION:Sacred Heart Church and Rectory\, 161 Mulberry Ave\, Pomeroy\, o\, 45769\, United States
CATEGORIES:Monthly District Meetings
ORGANIZER;CN="district 17":MAILTO:dcm17@area53aa.org
GEO:39.0295211;-82.0371166
X-APPLE-STRUCTURED-LOCATION;VALUE=URI;X-ADDRESS=Sacred Heart Church and Rectory 161 Mulberry Ave Pomeroy o 45769 United States;X-APPLE-RADIUS=500;X-TITLE=161 Mulberry Ave:geo:-82.0371166,39.0295211
END:VEVENT
BEGIN:VEVENT
DTSTART;TZID=America/New_York:20260406T180000
DTEND;TZID=America/New_York:20260406T190000
DTSTAMP:20260422T060018
CREATED:20250215T072305Z
LAST-MODIFIED:20250215T072305Z
UID:10002110-1775498400-1775502000@area53aa.org
SUMMARY:District 11 Meeting
DESCRIPTION:First Monday of the Month at 6:00 PM \nFirst Presbyterian Church\, 210 W 5th St\, Marysville\, OH 43040\, USA
URL:https://area53aa.org/event/district-11-meeting/2026-04-06/
LOCATION:First Presbyterian Church – Marysville\, 210 West Fifth Street\, Marysville\, OH\, 43040
CATEGORIES:Monthly District Meetings
ORGANIZER;CN="District 11":MAILTO:dcm11@area53aa.org
GEO:40.2367951;-83.3685043
X-APPLE-STRUCTURED-LOCATION;VALUE=URI;X-ADDRESS=First Presbyterian Church – Marysville 210 West Fifth Street Marysville OH 43040;X-APPLE-RADIUS=500;X-TITLE=210 West Fifth Street:geo:-83.3685043,40.2367951
END:VEVENT
BEGIN:VEVENT
DTSTART;TZID=America/New_York:20260408T190000
DTEND;TZID=America/New_York:20260408T210000
DTSTAMP:20260422T060018
CREATED:20250825T182612Z
LAST-MODIFIED:20250825T184208Z
UID:10003426-1775674800-1775682000@area53aa.org
SUMMARY:Area Service Sharing Session
DESCRIPTION:
URL:https://area53aa.org/event/area-service-sharing-session/2026-04-08/
CATEGORIES:Area 53 Committee Workshops,AREA 53 EVENTS
END:VEVENT
BEGIN:VEVENT
DTSTART;TZID=America/New_York:20260411T100000
DTEND;TZID=America/New_York:20260411T120000
DTSTAMP:20260422T060018
CREATED:20260401T122821Z
LAST-MODIFIED:20260401T123418Z
UID:10003833-1775901600-1775908800@area53aa.org
SUMMARY:Ohio State Convention Walkthrough
DESCRIPTION:Join us for the upcoming walkthrough to continue planning the 70th Ohio State Convention of AA.  This meeting will start at 10:00 AM. \nWhen: Saturday\, April 11th \nWhere: Cherry Valley Hotel \nTime: 10:00 AM \n			\n						Get Directions
URL:https://area53aa.org/event/ohio-state-convention-walkthrough/
LOCATION:Private: Cherry Valley Hotel\, 2999 Cherry Valley Rd\, Newark\, OH\, 43055\, United States
CATEGORIES:2026 Ohio State Convention General Service,AREA 53 EVENTS
ORGANIZER;CN="2026 Ohio State Convention Committee":MAILTO:2026OSC@area53aa.org
GEO:40.0509932;-82.4784017
X-APPLE-STRUCTURED-LOCATION;VALUE=URI;X-ADDRESS=Private: Cherry Valley Hotel 2999 Cherry Valley Rd Newark OH 43055 United States;X-APPLE-RADIUS=500;X-TITLE=2999 Cherry Valley Rd:geo:-82.4784017,40.0509932
END:VEVENT
BEGIN:VEVENT
DTSTART;TZID=America/New_York:20260412T100000
DTEND;TZID=America/New_York:20260412T120000
DTSTAMP:20260422T060018
CREATED:20260316T145055Z
LAST-MODIFIED:20260316T145759Z
UID:10003826-1775988000-1775995200@area53aa.org
SUMMARY:DCM Meeting - April 2026
DESCRIPTION:Attention all DCM’s please Join us for the quarterly DCM Meeting. \nWhen: April 12th\, 2026 \nTime: 10:00 AM – 12:00 PM \nWhere: \nHoge Memorial Presbyterian Church \n\n\n\n2930 West Broad Street\nColumbus\, OH 43204
URL:https://area53aa.org/event/dcm-meeting-4-12-2026/
LOCATION:Hoge Memorial Presbyterian Church\, 2930 West Broad Street\, Columbus\, OH\, 43204\, United States
CATEGORIES:District Events
ORGANIZER;CN="Area 53 DCMC":MAILTO:dcmc@area53aa.org
GEO:39.9552438;-83.0786673
X-APPLE-STRUCTURED-LOCATION;VALUE=URI;X-ADDRESS=Hoge Memorial Presbyterian Church 2930 West Broad Street Columbus OH 43204 United States;X-APPLE-RADIUS=500;X-TITLE=2930 West Broad Street:geo:-83.0786673,39.9552438
END:VEVENT
BEGIN:VEVENT
DTSTART;TZID=America/New_York:20260412T130000
DTEND;TZID=America/New_York:20260412T160000
DTSTAMP:20260422T060018
CREATED:20260316T145642Z
LAST-MODIFIED:20260316T145645Z
UID:10003827-1775998800-1776009600@area53aa.org
SUMMARY:Area Planning Committee Meeting - April 2026
DESCRIPTION:Area 53 Committee: Guiding Our Assembly\nWhat is the Area 53 Committee? \nThe Area 53 Committee serves as the steering committee for our Area Assembly. It’s comprised of key leaders and representatives dedicated to ensuring the smooth and effective operation of our Area 53 Assembly. \nWho’s Involved? \nThe committee includes: \n\nThe Area Delegate and Alternate Delegate\nAll current Area Officers and Alternate Officers\nDistrict Committee Members (DCMs) or their Alternates\nChairpersons of our Standing Committees or their Alternates\nThe District Committee Member (DCM) Chairperson and their Alternate\n\nWhat We Do: \n\nSteering the Assembly: We act as the primary guiding force for the Area 53 Assembly\, ensuring its effectiveness and relevance.\nAgenda Setting: We collaborate to create the agenda for each Area 53 Assembly meeting\, focusing on important topics and community needs.\nSupporting Day-to-Day Operations: We assist the Area Officers in managing the ongoing business of the Area 53 Assembly.\nEmpowering Standing Committees: We provide support and resources to our Area’s Standing Committees\, enabling them to achieve their goals.\n\nMeeting Schedule: \nWe meet quarterly\, specifically on the second Sunday of: \n\nJanuary\nApril\nJuly\nOctober\n\nTransparency and Communication: \nTo ensure everyone is informed and prepared\, the agenda for each Area Assembly meeting\, which is created by this committee\, is distributed to all Area Assembly members at least one month in advance. \nOur Commitment: \nThe Area 53 Committee is dedicated to serving our community and fostering a strong\, supportive environment for all. We strive to maintain open communication\, effective organization\, and a focus on the needs of our Area.
URL:https://area53aa.org/event/area-planning-committee-meeting-april-2026/
LOCATION:Hoge Memorial Presbyterian Church\, 2930 West Broad Street\, Columbus\, OH\, 43204\, United States
CATEGORIES:Area Planning Committee Meetings
GEO:39.9552438;-83.0786673
X-APPLE-STRUCTURED-LOCATION;VALUE=URI;X-ADDRESS=Hoge Memorial Presbyterian Church 2930 West Broad Street Columbus OH 43204 United States;X-APPLE-RADIUS=500;X-TITLE=2930 West Broad Street:geo:-83.0786673,39.9552438
END:VEVENT
BEGIN:VEVENT
DTSTART;TZID=America/New_York:20260413T183000
DTEND;TZID=America/New_York:20260413T200000
DTSTAMP:20260422T060018
CREATED:20250215T073650Z
LAST-MODIFIED:20250306T145144Z
UID:10002907-1776105000-1776110400@area53aa.org
SUMMARY:District 28 Meeting
DESCRIPTION:2nd Monday of the month at 6:30 PM. \nCentral Vineyard Church\n55 E Blake Ave\, Columbus\, OH 43202
URL:https://area53aa.org/event/district-28-meeting/2026-04-13/
LOCATION:Central Vineyard Church\, 55 E Blake Ave\, Columbus\, 43202\, United States
CATEGORIES:Monthly District Meetings
ORGANIZER;CN="District 28":MAILTO:dcm28@area53aa.org
GEO:40.0118086;-83.0088728
X-APPLE-STRUCTURED-LOCATION;VALUE=URI;X-ADDRESS=Central Vineyard Church 55 E Blake Ave Columbus 43202 United States;X-APPLE-RADIUS=500;X-TITLE=55 E Blake Ave:geo:-83.0088728,40.0118086
END:VEVENT
BEGIN:VEVENT
DTSTART;TZID=America/New_York:20260425T100000
DTEND;TZID=America/New_York:20260425T150000
DTSTAMP:20260422T060018
CREATED:20260324T015757Z
LAST-MODIFIED:20260417T001834Z
UID:10003828-1777111200-1777129200@area53aa.org
SUMMARY:Committee Collaboration
DESCRIPTION:Watch Live Stream\n					\n			\n						Directions\n					\n			\n						Download Flyer
URL:https://area53aa.org/event/committee-collaboration/
LOCATION:Crossroads Ministry Center\, 2095 West Fair Ave\, Lancaster\, 43130\, United States
GEO:39.7274451;-82.6350504
X-APPLE-STRUCTURED-LOCATION;VALUE=URI;X-ADDRESS=Crossroads Ministry Center 2095 West Fair Ave Lancaster 43130 United States;X-APPLE-RADIUS=500;X-TITLE=2095 West Fair Ave:geo:-82.6350504,39.7274451
END:VEVENT
BEGIN:VEVENT
DTSTART;TZID=America/New_York:20260505T183000
DTEND;TZID=America/New_York:20260505T203000
DTSTAMP:20260422T060018
CREATED:20260411T102406Z
LAST-MODIFIED:20260411T103011Z
UID:10003834-1778005800-1778013000@area53aa.org
SUMMARY:The Marysville Group 54th Anniversary Celebration
DESCRIPTION:Download Flyer\n					\n	The Marysville Group is honored to invite the community to join us as we celebrate 54 years of service. This milestone event is a time for reflection\, gratitude\, and fellowship as we look back on over five decades of supporting our neighbors.\n\nEvent Details\n\nWhen: Monday\, May 5\, 2026\nTime: 06:30 pm – 08:30 pm\nWhere: 210 W 5th St\, Marysville\, Ohio 43040
URL:https://area53aa.org/event/the-marysville-group-54th-anniversary-celebration/
LOCATION:FIRSTPRESBYTERIANCHURCH KENNEDYROOM\, 210 W 5th St\, Marysville\, 43040\, United States
GEO:40.2367951;-83.3685043
X-APPLE-STRUCTURED-LOCATION;VALUE=URI;X-ADDRESS=FIRSTPRESBYTERIANCHURCH KENNEDYROOM 210 W 5th St Marysville 43040 United States;X-APPLE-RADIUS=500;X-TITLE=210 W 5th St:geo:-83.3685043,40.2367951
END:VEVENT
BEGIN:VEVENT
DTSTART;TZID=America/New_York:20260606T100000
DTEND;TZID=America/New_York:20260606T110000
DTSTAMP:20260422T060018
CREATED:20250304T234513Z
LAST-MODIFIED:20250304T234514Z
UID:10002881-1780740000-1780743600@area53aa.org
SUMMARY:CFC Quarterly Meeting
DESCRIPTION:Quarterly meeting of the Correctional Facilities Committee\, where we review and vote on Trusted Servant reports (such as last quarter’s meeting minutes\, funds collected\, literature distributed\, etc.)\, as well as discuss and vote on old and new business for the Committee. We also share brief reports from GIR’s and Outside Sponsors. We highly encourage participation over Zoom if members are unable to physically attend. \nHybrid \nCentral Ohio Group Fellowship of Alcoholics Anonymous\n651 W Broad St\nColumbus\, OH 43215\nUSA \nLink: Zoom Meeting \nMeeting ID: 889 7192 9262 \nPass Code: area53
URL:https://area53aa.org/event/cfc-quarterly-meeting-2/2026-06-06/
LOCATION:COGF\, 645 W. Broad St.\, Columbus\, 43215\, United States
CATEGORIES:Monthly Standing Committee Meetings
ORGANIZER;CN="Area 53 CFC Committee":MAILTO:corrections@area53aa.org
GEO:39.9599571;-83.0178443
X-APPLE-STRUCTURED-LOCATION;VALUE=URI;X-ADDRESS=COGF 645 W. Broad St. Columbus 43215 United States;X-APPLE-RADIUS=500;X-TITLE=645 W. Broad St.:geo:-83.0178443,39.9599571
END:VEVENT
BEGIN:VEVENT
DTSTART;TZID=America/New_York:20260704T150000
DTEND;TZID=America/New_York:20260704T190000
DTSTAMP:20260422T060018
CREATED:20260421T132633Z
LAST-MODIFIED:20260421T133409Z
UID:10003837-1783177200-1783191600@area53aa.org
SUMMARY:Red\, White and Sober -  District 28
DESCRIPTION:Save the Date \n5th Annual Red\, White and Sober \n			\n						Download Flyer
URL:https://area53aa.org/event/2026-red-white-and-sober-district-28/
LOCATION:Trinity United Church of Christ\, 1180 Shanley Dr\, Columbus\, OH\, 43224\, United States
CATEGORIES:District Events
GEO:40.0573375;-82.9871568
X-APPLE-STRUCTURED-LOCATION;VALUE=URI;X-ADDRESS=Trinity United Church of Christ 1180 Shanley Dr Columbus OH 43224 United States;X-APPLE-RADIUS=500;X-TITLE=1180 Shanley Dr:geo:-82.9871568,40.0573375
END:VEVENT
BEGIN:VEVENT
DTSTART;TZID=America/New_York:20260808T110000
DTEND;TZID=America/New_York:20260808T150000
DTSTAMP:20260422T060018
CREATED:20260413T142503Z
LAST-MODIFIED:20260413T142719Z
UID:10003835-1786186800-1786201200@area53aa.org
SUMMARY:Woodsfield Big Book Study 44th Anniversary
DESCRIPTION:Woodsfield Big Book Study 44th Anniversary \n11:00 am\n03:00 pm\n08/08/2026\nWoodsfield Church of the Nazarene \n223 Maple Ave \nWoodsfield\, Ohio43793 United States \nLead = Nichole C from Trinity UCC\, Canton\, OH
URL:https://area53aa.org/event/woodsfield-big-book-study-44th-anniversary/
LOCATION:Woodsfield Church of the Nazarene\, 223 Maple Ave.\, Woodsfield\, OH\, 43793\, United States
CATEGORIES:Group Anniversary
GEO:39.7664756;-81.1047836
X-APPLE-STRUCTURED-LOCATION;VALUE=URI;X-ADDRESS=Woodsfield Church of the Nazarene 223 Maple Ave. Woodsfield OH 43793 United States;X-APPLE-RADIUS=500;X-TITLE=223 Maple Ave.:geo:-81.1047836,39.7664756
END:VEVENT
BEGIN:VEVENT
DTSTART;TZID=America/New_York:20260814T150000
DTEND;TZID=America/New_York:20260816T120000
DTSTAMP:20260422T060018
CREATED:20260212T151334Z
LAST-MODIFIED:20260317T010910Z
UID:10003820-1786719600-1786881600@area53aa.org
SUMMARY:70th Ohio State Convention of AA
DESCRIPTION:
URL:https://area53aa.org/event/70th-ohio-state-convention-of-aa/
LOCATION:Private: Cherry Valley Hotel\, 2999 Cherry Valley Rd\, Newark\, OH\, 43055\, United States
ORGANIZER;CN="2026 Ohio State Convention Committee":MAILTO:2026OSC@area53aa.org
GEO:40.0509932;-82.4784017
X-APPLE-STRUCTURED-LOCATION;VALUE=URI;X-ADDRESS=Private: Cherry Valley Hotel 2999 Cherry Valley Rd Newark OH 43055 United States;X-APPLE-RADIUS=500;X-TITLE=2999 Cherry Valley Rd:geo:-82.4784017,40.0509932
END:VEVENT
BEGIN:VEVENT
DTSTART;TZID=America/New_York:20261003T100000
DTEND;TZID=America/New_York:20261003T140000
DTSTAMP:20260422T060018
CREATED:20260417T111452Z
LAST-MODIFIED:20260417T111452Z
UID:10003836-1791021600-1791036000@area53aa.org
SUMMARY:Correctional Facilities Committee Workshop
DESCRIPTION:Correctional Facilities Committee Workshop \n10:00 am – 02:00 pm \n10/03/2026 \nPeace Lutheran Church \n455 Clark State Rd \nGahanna\, Ohio 43230 United States
URL:https://area53aa.org/event/correctional-facilities-committee-workshop/
LOCATION:Peace Lutheran Church\, 455 Clark State Rd\, Gahanna\, Ohio\, 43230
CATEGORIES:AA Event,Area 53 Committee Workshops
GEO:40.0237289;-82.8641311
X-APPLE-STRUCTURED-LOCATION;VALUE=URI;X-ADDRESS=Peace Lutheran Church 455 Clark State Rd Gahanna Ohio 43230;X-APPLE-RADIUS=500;X-TITLE=455 Clark State Rd:geo:-82.8641311,40.0237289
END:VEVENT
BEGIN:VEVENT
DTSTART;TZID=America/New_York:20261017T103000
DTEND;TZID=America/New_York:20261017T133000
DTSTAMP:20260422T060018
CREATED:20260302T191206Z
LAST-MODIFIED:20260413T141935Z
UID:10003824-1792233000-1792243800@area53aa.org
SUMMARY:Grapevine Committee Writers Workshop
DESCRIPTION:Area 53 Grapevine Committee Presents: \nAnnual AA Grapevine Workshop \nSaturday\, October 17th\, 2026 \n10:30 AM – 1:30 PM \nEastview Methodist Church \n1045 Ross R. Columbus\, OH 43227 \nPotluck\,  Panels\, Speakers \nBring a dish and a friend!! \nThis committee will provide water and coffee. \ngrapevine@area53aa.org
URL:https://area53aa.org/event/grapevine-committee-writers-workshop/
LOCATION:Eastview Methodist Church\, 1045 Ross Rd.\, Columbus\, 43227\, United States
CATEGORIES:AA Event,Area 53 Committee Workshops,Area 53 News
ORGANIZER;CN="Area 53 Grapevine Committee":MAILTO:grapevine@area53aa.org
GEO:39.9541176;-82.8794763
X-APPLE-STRUCTURED-LOCATION;VALUE=URI;X-ADDRESS=Eastview Methodist Church 1045 Ross Rd. Columbus 43227 United States;X-APPLE-RADIUS=500;X-TITLE=1045 Ross Rd.:geo:-82.8794763,39.9541176
END:VEVENT
END:VCALENDAR