BEGIN:VCALENDAR
VERSION:2.0
PRODID:-//Area 53 AA - ECPv6.15.20//NONSGML v1.0//EN
CALSCALE:GREGORIAN
METHOD:PUBLISH
X-WR-CALNAME:Area 53 AA
X-ORIGINAL-URL:https://area53aa.org
X-WR-CALDESC:Events for Area 53 AA
REFRESH-INTERVAL;VALUE=DURATION:PT1H
X-Robots-Tag:noindex
X-PUBLISHED-TTL:PT1H
BEGIN:VTIMEZONE
TZID:America/New_York
BEGIN:DAYLIGHT
TZOFFSETFROM:-0500
TZOFFSETTO:-0400
TZNAME:EDT
DTSTART:20250309T070000
END:DAYLIGHT
BEGIN:STANDARD
TZOFFSETFROM:-0400
TZOFFSETTO:-0500
TZNAME:EST
DTSTART:20251102T060000
END:STANDARD
BEGIN:DAYLIGHT
TZOFFSETFROM:-0500
TZOFFSETTO:-0400
TZNAME:EDT
DTSTART:20260308T070000
END:DAYLIGHT
BEGIN:STANDARD
TZOFFSETFROM:-0400
TZOFFSETTO:-0500
TZNAME:EST
DTSTART:20261101T060000
END:STANDARD
BEGIN:DAYLIGHT
TZOFFSETFROM:-0500
TZOFFSETTO:-0400
TZNAME:EDT
DTSTART:20270314T070000
END:DAYLIGHT
BEGIN:STANDARD
TZOFFSETFROM:-0400
TZOFFSETTO:-0500
TZNAME:EST
DTSTART:20271107T060000
END:STANDARD
END:VTIMEZONE
BEGIN:VEVENT
DTSTART;TZID=America/New_York:20261004T170000
DTEND;TZID=America/New_York:20261004T180000
DTSTAMP:20260422T140518
CREATED:20250215T071735Z
LAST-MODIFIED:20250215T071735Z
UID:10001996-1791133200-1791136800@area53aa.org
SUMMARY:District 16 Meeting
DESCRIPTION:1st Sunday at 5:00 PM \nAthens First United Methodist Church\, 2 S College St\, Athens\, OH 45701\, USA
URL:https://area53aa.org/event/district-16-meeting/2026-10-04/
LOCATION:Athens First United Methodist Church\, 2 S College St\, Athens\, 45701\, United States
CATEGORIES:Monthly District Meetings
ORGANIZER;CN="District 16":MAILTO:dcm16@area53aa.org
GEO:39.3290904;-82.0992208
X-APPLE-STRUCTURED-LOCATION;VALUE=URI;X-ADDRESS=Athens First United Methodist Church 2 S College St Athens 45701 United States;X-APPLE-RADIUS=500;X-TITLE=2 S College St:geo:-82.0992208,39.3290904
END:VEVENT
BEGIN:VEVENT
DTSTART;TZID=America/New_York:20261004T170000
DTEND;TZID=America/New_York:20261004T180000
DTSTAMP:20260422T140518
CREATED:20250215T072108Z
LAST-MODIFIED:20250215T072108Z
UID:10002056-1791133200-1791136800@area53aa.org
SUMMARY:District 17 Meeting
DESCRIPTION:First Sunday of the Month at 5:00 PM \nSacred Heart Church and Rectory\, 161 Mulberry Ave\, Pomeroy\, OH 45769\, USA
URL:https://area53aa.org/event/district-17-meeting/2026-10-04/
LOCATION:Sacred Heart Church and Rectory\, 161 Mulberry Ave\, Pomeroy\, o\, 45769\, United States
CATEGORIES:Monthly District Meetings
ORGANIZER;CN="district 17":MAILTO:dcm17@area53aa.org
GEO:39.0295211;-82.0371166
X-APPLE-STRUCTURED-LOCATION;VALUE=URI;X-ADDRESS=Sacred Heart Church and Rectory 161 Mulberry Ave Pomeroy o 45769 United States;X-APPLE-RADIUS=500;X-TITLE=161 Mulberry Ave:geo:-82.0371166,39.0295211
END:VEVENT
BEGIN:VEVENT
DTSTART;TZID=America/New_York:20261005T180000
DTEND;TZID=America/New_York:20261005T190000
DTSTAMP:20260422T140518
CREATED:20250215T072305Z
LAST-MODIFIED:20250215T072305Z
UID:10002116-1791223200-1791226800@area53aa.org
SUMMARY:District 11 Meeting
DESCRIPTION:First Monday of the Month at 6:00 PM \nFirst Presbyterian Church\, 210 W 5th St\, Marysville\, OH 43040\, USA
URL:https://area53aa.org/event/district-11-meeting/2026-10-05/
LOCATION:First Presbyterian Church – Marysville\, 210 West Fifth Street\, Marysville\, OH\, 43040
CATEGORIES:Monthly District Meetings
ORGANIZER;CN="District 11":MAILTO:dcm11@area53aa.org
GEO:40.2367951;-83.3685043
X-APPLE-STRUCTURED-LOCATION;VALUE=URI;X-ADDRESS=First Presbyterian Church – Marysville 210 West Fifth Street Marysville OH 43040;X-APPLE-RADIUS=500;X-TITLE=210 West Fifth Street:geo:-83.3685043,40.2367951
END:VEVENT
BEGIN:VEVENT
DTSTART;TZID=America/New_York:20261007T170000
DTEND;TZID=America/New_York:20261007T190000
DTSTAMP:20260422T140518
CREATED:20251020T142739Z
LAST-MODIFIED:20251020T142741Z
UID:10003633-1791392400-1791399600@area53aa.org
SUMMARY:District 30 Meeting
DESCRIPTION:1st Wednesday of the month at 5:00 PM \nUpper Arlington Public Library – Tremont Road Branch \n2800 Tremont Rd\nUpper Arlington \, OH 43221
URL:https://area53aa.org/event/district-30-meeting-2/2026-10-07/
LOCATION:Upper Arlington Public Library – Tremont Road Branch\, 2800 Tremont Rd\, Upper Arlington\, OH\, 43221\, United States
CATEGORIES:Monthly District Meetings
ORGANIZER;CN="District 30":MAILTO:dcm30@area53aa.org
GEO:40.0126755;-83.0674473
X-APPLE-STRUCTURED-LOCATION;VALUE=URI;X-ADDRESS=Upper Arlington Public Library – Tremont Road Branch 2800 Tremont Rd Upper Arlington OH 43221 United States;X-APPLE-RADIUS=500;X-TITLE=2800 Tremont Rd:geo:-83.0674473,40.0126755
END:VEVENT
BEGIN:VEVENT
DTSTART;TZID=America/New_York:20261007T180000
DTEND;TZID=America/New_York:20261007T190000
DTSTAMP:20260422T140518
CREATED:20250215T072759Z
LAST-MODIFIED:20250215T072759Z
UID:10002177-1791396000-1791399600@area53aa.org
SUMMARY:District 22 Meeting
DESCRIPTION:First Wednesday of the month at 6:00 PM \nOn Zoom \nZoom Meeting Code: 727 4436 6620 \nPassword: BillW
URL:https://area53aa.org/event/district-22-meeting/2026-10-07/
CATEGORIES:Monthly District Meetings
ORGANIZER;CN="District 22":MAILTO:dcm22@area53aa.org
END:VEVENT
BEGIN:VEVENT
DTSTART;TZID=America/New_York:20261017T103000
DTEND;TZID=America/New_York:20261017T133000
DTSTAMP:20260422T140518
CREATED:20260302T191206Z
LAST-MODIFIED:20260413T141935Z
UID:10003824-1792233000-1792243800@area53aa.org
SUMMARY:Grapevine Committee Writers Workshop
DESCRIPTION:Area 53 Grapevine Committee Presents: \nAnnual AA Grapevine Workshop \nSaturday\, October 17th\, 2026 \n10:30 AM – 1:30 PM \nEastview Methodist Church \n1045 Ross R. Columbus\, OH 43227 \nPotluck\,  Panels\, Speakers \nBring a dish and a friend!! \nThis committee will provide water and coffee. \ngrapevine@area53aa.org
URL:https://area53aa.org/event/grapevine-committee-writers-workshop/
LOCATION:Eastview Methodist Church\, 1045 Ross Rd.\, Columbus\, 43227\, United States
CATEGORIES:AA Event,Area 53 Committee Workshops,Area 53 News
ORGANIZER;CN="Area 53 Grapevine Committee":MAILTO:grapevine@area53aa.org
GEO:39.9541176;-82.8794763
X-APPLE-STRUCTURED-LOCATION;VALUE=URI;X-ADDRESS=Eastview Methodist Church 1045 Ross Rd. Columbus 43227 United States;X-APPLE-RADIUS=500;X-TITLE=1045 Ross Rd.:geo:-82.8794763,39.9541176
END:VEVENT
BEGIN:VEVENT
DTSTART;TZID=America/New_York:20261205T100000
DTEND;TZID=America/New_York:20261205T110000
DTSTAMP:20260422T140518
CREATED:20250304T234513Z
LAST-MODIFIED:20250304T234514Z
UID:10002883-1796464800-1796468400@area53aa.org
SUMMARY:CFC Quarterly Meeting
DESCRIPTION:Quarterly meeting of the Correctional Facilities Committee\, where we review and vote on Trusted Servant reports (such as last quarter’s meeting minutes\, funds collected\, literature distributed\, etc.)\, as well as discuss and vote on old and new business for the Committee. We also share brief reports from GIR’s and Outside Sponsors. We highly encourage participation over Zoom if members are unable to physically attend. \nHybrid \nCentral Ohio Group Fellowship of Alcoholics Anonymous\n651 W Broad St\nColumbus\, OH 43215\nUSA \nLink: Zoom Meeting \nMeeting ID: 889 7192 9262 \nPass Code: area53
URL:https://area53aa.org/event/cfc-quarterly-meeting-2/2026-12-05/
LOCATION:COGF\, 645 W. Broad St.\, Columbus\, 43215\, United States
CATEGORIES:Monthly Standing Committee Meetings
ORGANIZER;CN="Area 53 CFC Committee":MAILTO:corrections@area53aa.org
GEO:39.9599571;-83.0178443
X-APPLE-STRUCTURED-LOCATION;VALUE=URI;X-ADDRESS=COGF 645 W. Broad St. Columbus 43215 United States;X-APPLE-RADIUS=500;X-TITLE=645 W. Broad St.:geo:-83.0178443,39.9599571
END:VEVENT
END:VCALENDAR