BEGIN:VCALENDAR
VERSION:2.0
PRODID:-//Area 53 AA - ECPv6.15.20//NONSGML v1.0//EN
CALSCALE:GREGORIAN
METHOD:PUBLISH
X-WR-CALNAME:Area 53 AA
X-ORIGINAL-URL:https://area53aa.org
X-WR-CALDESC:Events for Area 53 AA
REFRESH-INTERVAL;VALUE=DURATION:PT1H
X-Robots-Tag:noindex
X-PUBLISHED-TTL:PT1H
BEGIN:VTIMEZONE
TZID:America/New_York
BEGIN:DAYLIGHT
TZOFFSETFROM:-0500
TZOFFSETTO:-0400
TZNAME:EDT
DTSTART:20260308T070000
END:DAYLIGHT
BEGIN:STANDARD
TZOFFSETFROM:-0400
TZOFFSETTO:-0500
TZNAME:EST
DTSTART:20261101T060000
END:STANDARD
BEGIN:DAYLIGHT
TZOFFSETFROM:-0500
TZOFFSETTO:-0400
TZNAME:EDT
DTSTART:20270314T070000
END:DAYLIGHT
BEGIN:STANDARD
TZOFFSETFROM:-0400
TZOFFSETTO:-0500
TZNAME:EST
DTSTART:20271107T060000
END:STANDARD
BEGIN:DAYLIGHT
TZOFFSETFROM:-0500
TZOFFSETTO:-0400
TZNAME:EDT
DTSTART:20280312T070000
END:DAYLIGHT
BEGIN:STANDARD
TZOFFSETFROM:-0400
TZOFFSETTO:-0500
TZNAME:EST
DTSTART:20281105T060000
END:STANDARD
END:VTIMEZONE
BEGIN:VEVENT
DTSTART;TZID=America/New_York:20270620T180000
DTEND;TZID=America/New_York:20270620T190000
DTSTAMP:20260423T171016
CREATED:20250215T081126Z
LAST-MODIFIED:20250215T081126Z
UID:10002543-1813514400-1813518000@area53aa.org
SUMMARY:District 19 Meeting
DESCRIPTION:3rd Sunday of the Month at 6:00 PM
URL:https://area53aa.org/event/district-19-meeting/2027-06-20/
LOCATION:Sabina United Methodist Church\, 61 W Elm St\, Sabina\, 45169\, United States
CATEGORIES:Monthly District Meetings
ORGANIZER;CN="District 19":MAILTO:dcm19@area53aa.org
GEO:39.4903491;-83.6374472
X-APPLE-STRUCTURED-LOCATION;VALUE=URI;X-ADDRESS=Sabina United Methodist Church 61 W Elm St Sabina 45169 United States;X-APPLE-RADIUS=500;X-TITLE=61 W Elm St:geo:-83.6374472,39.4903491
END:VEVENT
BEGIN:VEVENT
DTSTART;TZID=America/New_York:20270626T090000
DTEND;TZID=America/New_York:20270626T223000
DTSTAMP:20260423T171016
CREATED:20260109T180324Z
LAST-MODIFIED:20260109T180326Z
UID:10003045-1814000400-1814049000@area53aa.org
SUMMARY:Archives Committee Meeting
DESCRIPTION:Join Zoom Meeting\nhttps://us06web.zoom.us/j/8767491565?pwd=T5amisG2BESVqFiB80DodjrElIvQ2Q.1&omn=83164441282 \nMeeting ID: 876 749 1565\nPasscode: Archives \nJoin instructions\nhttps://us06web.zoom.us/meetings/83164441282/invitations?signature=NMfO0zroDmr9XNQTTTBoX6yJoQ_UN0cAdWuWVJlqIgE
URL:https://area53aa.org/event/archives-committee-meeting-2-2-2-2/2027-06-26/
LOCATION:COGF\, 645 W. Broad St.\, Columbus\, 43215\, United States
CATEGORIES:Monthly Standing Committee Meetings
ORGANIZER;CN="Area 53 Archives Committee":MAILTO:archives@area53aa.org
GEO:39.9599571;-83.0178443
X-APPLE-STRUCTURED-LOCATION;VALUE=URI;X-ADDRESS=COGF 645 W. Broad St. Columbus 43215 United States;X-APPLE-RADIUS=500;X-TITLE=645 W. Broad St.:geo:-83.0178443,39.9599571
END:VEVENT
BEGIN:VEVENT
DTSTART;TZID=America/New_York:20270626T110000
DTEND;TZID=America/New_York:20270626T120000
DTSTAMP:20260423T171016
CREATED:20250220T144020Z
LAST-MODIFIED:20250221T122239Z
UID:10002787-1814007600-1814011200@area53aa.org
SUMMARY:Accessibilities Committee Meeting
DESCRIPTION:The Accessibilities Committee meets on Zoom every fourth Saturday of the month from 11 am to 12 noon. \nhttps://zoom.us/j/99325410386?pwd=UXpzMHB0ZndHV1hYVWtDRjkyVlV2UT09 \nMeeting ID: 993 2541 0386\nPasscode: 6sP2cP
URL:https://area53aa.org/event/accessibilities-committee-meeting/2027-06-26/
LOCATION:Online Meeting
CATEGORIES:Monthly Standing Committee Meetings
ORGANIZER;CN="Accessibilities Committee":MAILTO:accessibilities@area53aa.org
END:VEVENT
BEGIN:VEVENT
DTSTART;TZID=America/New_York:20270627T173000
DTEND;TZID=America/New_York:20270627T183000
DTSTAMP:20260423T171016
CREATED:20250215T081335Z
LAST-MODIFIED:20250221T122247Z
UID:10002603-1814117400-1814121000@area53aa.org
SUMMARY:District 34 Meeting
DESCRIPTION:4th Sunday of the month at 5:30 PM \nHoge Memorial Presbyterian Church\, 2930 W Broad St\, Columbus\, OH 43204\, USA
URL:https://area53aa.org/event/district-34-meeting/2027-06-27/
LOCATION:Hoge Memorial Presbyterian Church\, 2930 West Broad Street\, Columbus\, OH\, 43204\, United States
CATEGORIES:Monthly District Meetings
GEO:39.9552438;-83.0786673
X-APPLE-STRUCTURED-LOCATION;VALUE=URI;X-ADDRESS=Hoge Memorial Presbyterian Church 2930 West Broad Street Columbus OH 43204 United States;X-APPLE-RADIUS=500;X-TITLE=2930 West Broad Street:geo:-83.0786673,39.9552438
END:VEVENT
BEGIN:VEVENT
DTSTART;TZID=America/New_York:20270627T183000
DTEND;TZID=America/New_York:20270627T193000
DTSTAMP:20260423T171016
CREATED:20251119T214041Z
LAST-MODIFIED:20251119T214041Z
UID:10003707-1814121000-1814124600@area53aa.org
SUMMARY:District 13/14 Meeting
DESCRIPTION:District 13/14 mtg. \n06:30 pm 07:30 pm \n11/23/2025 \n723 Slocum Ave \nLancaster\, Ohio 43130 United States \nGSR mtg. \nEmail dcm13@area53.org
URL:https://area53aa.org/event/district-13-14-meeting/2027-06-27/
LOCATION:Lancaster Area Intergroup\, 723 Slocum Ave\, Lancaster\, 43130\, United States
CATEGORIES:Monthly District Meetings
GEO:39.7222571;-82.6130773
X-APPLE-STRUCTURED-LOCATION;VALUE=URI;X-ADDRESS=Lancaster Area Intergroup 723 Slocum Ave Lancaster 43130 United States;X-APPLE-RADIUS=500;X-TITLE=723 Slocum Ave:geo:-82.6130773,39.7222571
END:VEVENT
END:VCALENDAR