BEGIN:VCALENDAR
VERSION:2.0
PRODID:-//Area 53 AA - ECPv6.15.20//NONSGML v1.0//EN
CALSCALE:GREGORIAN
METHOD:PUBLISH
X-ORIGINAL-URL:https://area53aa.org
X-WR-CALDESC:Events for Area 53 AA
REFRESH-INTERVAL;VALUE=DURATION:PT1H
X-Robots-Tag:noindex
X-PUBLISHED-TTL:PT1H
BEGIN:VTIMEZONE
TZID:America/New_York
BEGIN:DAYLIGHT
TZOFFSETFROM:-0500
TZOFFSETTO:-0400
TZNAME:EDT
DTSTART:20250309T070000
END:DAYLIGHT
BEGIN:STANDARD
TZOFFSETFROM:-0400
TZOFFSETTO:-0500
TZNAME:EST
DTSTART:20251102T060000
END:STANDARD
BEGIN:DAYLIGHT
TZOFFSETFROM:-0500
TZOFFSETTO:-0400
TZNAME:EDT
DTSTART:20260308T070000
END:DAYLIGHT
BEGIN:STANDARD
TZOFFSETFROM:-0400
TZOFFSETTO:-0500
TZNAME:EST
DTSTART:20261101T060000
END:STANDARD
BEGIN:DAYLIGHT
TZOFFSETFROM:-0500
TZOFFSETTO:-0400
TZNAME:EDT
DTSTART:20270314T070000
END:DAYLIGHT
BEGIN:STANDARD
TZOFFSETFROM:-0400
TZOFFSETTO:-0500
TZNAME:EST
DTSTART:20271107T060000
END:STANDARD
END:VTIMEZONE
BEGIN:VEVENT
DTSTART;TZID=America/New_York:20260820T190000
DTEND;TZID=America/New_York:20260820T210000
DTSTAMP:20260422T185113
CREATED:20250912T004959Z
LAST-MODIFIED:20251005T183853Z
UID:10003571-1787252400-1787259600@area53aa.org
SUMMARY:Communication Services Committee Meeting (Virtual)
DESCRIPTION:
URL:https://area53aa.org/event/communication-services-committee-meeting-virtual-2-2-3/2026-08-20/
ORGANIZER;CN="Communication Services Committee":MAILTO:CommServices@area53aa.org
LOCATION:https://area53aa.org/event/communication-services-committee-meeting-virtual-2-2-3/2026-08-20/
END:VEVENT
BEGIN:VEVENT
DTSTART;TZID=America/New_York:20260822T090000
DTEND;TZID=America/New_York:20260822T223000
DTSTAMP:20260422T185113
CREATED:20260109T180324Z
LAST-MODIFIED:20260109T180326Z
UID:10003035-1787389200-1787437800@area53aa.org
SUMMARY:Archives Committee Meeting
DESCRIPTION:Join Zoom Meeting\nhttps://us06web.zoom.us/j/8767491565?pwd=T5amisG2BESVqFiB80DodjrElIvQ2Q.1&omn=83164441282 \nMeeting ID: 876 749 1565\nPasscode: Archives \nJoin instructions\nhttps://us06web.zoom.us/meetings/83164441282/invitations?signature=NMfO0zroDmr9XNQTTTBoX6yJoQ_UN0cAdWuWVJlqIgE
URL:https://area53aa.org/event/archives-committee-meeting-2-2-2-2/2026-08-22/
LOCATION:COGF\, 645 W. Broad St.\, Columbus\, 43215\, United States
CATEGORIES:Monthly Standing Committee Meetings
ORGANIZER;CN="Area 53 Archives Committee":MAILTO:archives@area53aa.org
GEO:39.9599571;-83.0178443
X-APPLE-STRUCTURED-LOCATION;VALUE=URI;X-ADDRESS=COGF 645 W. Broad St. Columbus 43215 United States;X-APPLE-RADIUS=500;X-TITLE=645 W. Broad St.:geo:-83.0178443,39.9599571
END:VEVENT
BEGIN:VEVENT
DTSTART;TZID=America/New_York:20260822T110000
DTEND;TZID=America/New_York:20260822T120000
DTSTAMP:20260422T185113
CREATED:20250220T144020Z
LAST-MODIFIED:20250221T122239Z
UID:10002777-1787396400-1787400000@area53aa.org
SUMMARY:Accessibilities Committee Meeting
DESCRIPTION:The Accessibilities Committee meets on Zoom every fourth Saturday of the month from 11 am to 12 noon. \nhttps://zoom.us/j/99325410386?pwd=UXpzMHB0ZndHV1hYVWtDRjkyVlV2UT09 \nMeeting ID: 993 2541 0386\nPasscode: 6sP2cP
URL:https://area53aa.org/event/accessibilities-committee-meeting/2026-08-22/
LOCATION:Online Meeting
CATEGORIES:Monthly Standing Committee Meetings
ORGANIZER;CN="Accessibilities Committee":MAILTO:accessibilities@area53aa.org
END:VEVENT
BEGIN:VEVENT
DTSTART;TZID=America/New_York:20260823T173000
DTEND;TZID=America/New_York:20260823T183000
DTSTAMP:20260422T185113
CREATED:20250215T081335Z
LAST-MODIFIED:20250221T122247Z
UID:10002593-1787506200-1787509800@area53aa.org
SUMMARY:District 34 Meeting
DESCRIPTION:4th Sunday of the month at 5:30 PM \nHoge Memorial Presbyterian Church\, 2930 W Broad St\, Columbus\, OH 43204\, USA
URL:https://area53aa.org/event/district-34-meeting/2026-08-23/
LOCATION:Hoge Memorial Presbyterian Church\, 2930 West Broad Street\, Columbus\, OH\, 43204\, United States
CATEGORIES:Monthly District Meetings
GEO:39.9552438;-83.0786673
X-APPLE-STRUCTURED-LOCATION;VALUE=URI;X-ADDRESS=Hoge Memorial Presbyterian Church 2930 West Broad Street Columbus OH 43204 United States;X-APPLE-RADIUS=500;X-TITLE=2930 West Broad Street:geo:-83.0786673,39.9552438
END:VEVENT
BEGIN:VEVENT
DTSTART;TZID=America/New_York:20260823T183000
DTEND;TZID=America/New_York:20260823T193000
DTSTAMP:20260422T185113
CREATED:20251119T214041Z
LAST-MODIFIED:20251119T214041Z
UID:10003697-1787509800-1787513400@area53aa.org
SUMMARY:District 13/14 Meeting
DESCRIPTION:District 13/14 mtg. \n06:30 pm 07:30 pm \n11/23/2025 \n723 Slocum Ave \nLancaster\, Ohio 43130 United States \nGSR mtg. \nEmail dcm13@area53.org
URL:https://area53aa.org/event/district-13-14-meeting/2026-08-23/
LOCATION:Lancaster Area Intergroup\, 723 Slocum Ave\, Lancaster\, 43130\, United States
CATEGORIES:Monthly District Meetings
GEO:39.7222571;-82.6130773
X-APPLE-STRUCTURED-LOCATION;VALUE=URI;X-ADDRESS=Lancaster Area Intergroup 723 Slocum Ave Lancaster 43130 United States;X-APPLE-RADIUS=500;X-TITLE=723 Slocum Ave:geo:-82.6130773,39.7222571
END:VEVENT
BEGIN:VEVENT
DTSTART;TZID=America/New_York:20260826T183000
DTEND;TZID=America/New_York:20260826T193000
DTSTAMP:20260422T185113
CREATED:20250215T081607Z
LAST-MODIFIED:20250215T081607Z
UID:10002653-1787769000-1787772600@area53aa.org
SUMMARY:District 15 Meeting
DESCRIPTION:4th Wednesday of the month at 6:30 \n431 3rd St\, Marietta\, OH 45750\, USA
URL:https://area53aa.org/event/district-15-meeting/2026-08-26/
LOCATION:Serenity House Marietta\, 431 3rd Street\, Marietta\, OH\, 45750\, United States
CATEGORIES:Monthly District Meetings
ORGANIZER;CN="District 15":MAILTO:dcm15@area53aa.org
GEO:39.4195607;-81.4571447
X-APPLE-STRUCTURED-LOCATION;VALUE=URI;X-ADDRESS=Serenity House Marietta 431 3rd Street Marietta OH 45750 United States;X-APPLE-RADIUS=500;X-TITLE=431 3rd Street:geo:-81.4571447,39.4195607
END:VEVENT
BEGIN:VEVENT
DTSTART;TZID=America/New_York:20260905T100000
DTEND;TZID=America/New_York:20260905T110000
DTSTAMP:20260422T185113
CREATED:20250304T234513Z
LAST-MODIFIED:20250304T234514Z
UID:10002882-1788602400-1788606000@area53aa.org
SUMMARY:CFC Quarterly Meeting
DESCRIPTION:Quarterly meeting of the Correctional Facilities Committee\, where we review and vote on Trusted Servant reports (such as last quarter’s meeting minutes\, funds collected\, literature distributed\, etc.)\, as well as discuss and vote on old and new business for the Committee. We also share brief reports from GIR’s and Outside Sponsors. We highly encourage participation over Zoom if members are unable to physically attend. \nHybrid \nCentral Ohio Group Fellowship of Alcoholics Anonymous\n651 W Broad St\nColumbus\, OH 43215\nUSA \nLink: Zoom Meeting \nMeeting ID: 889 7192 9262 \nPass Code: area53
URL:https://area53aa.org/event/cfc-quarterly-meeting-2/2026-09-05/
LOCATION:COGF\, 645 W. Broad St.\, Columbus\, 43215\, United States
CATEGORIES:Monthly Standing Committee Meetings
ORGANIZER;CN="Area 53 CFC Committee":MAILTO:corrections@area53aa.org
GEO:39.9599571;-83.0178443
X-APPLE-STRUCTURED-LOCATION;VALUE=URI;X-ADDRESS=COGF 645 W. Broad St. Columbus 43215 United States;X-APPLE-RADIUS=500;X-TITLE=645 W. Broad St.:geo:-83.0178443,39.9599571
END:VEVENT
BEGIN:VEVENT
DTSTART;TZID=America/New_York:20261003T100000
DTEND;TZID=America/New_York:20261003T140000
DTSTAMP:20260422T185113
CREATED:20260417T111452Z
LAST-MODIFIED:20260417T111452Z
UID:10003836-1791021600-1791036000@area53aa.org
SUMMARY:Correctional Facilities Committee Workshop
DESCRIPTION:Correctional Facilities Committee Workshop \n10:00 am – 02:00 pm \n10/03/2026 \nPeace Lutheran Church \n455 Clark State Rd \nGahanna\, Ohio 43230 United States
URL:https://area53aa.org/event/correctional-facilities-committee-workshop/
LOCATION:Peace Lutheran Church\, 455 Clark State Rd\, Gahanna\, Ohio\, 43230
CATEGORIES:AA Event,Area 53 Committee Workshops
GEO:40.0237289;-82.8641311
X-APPLE-STRUCTURED-LOCATION;VALUE=URI;X-ADDRESS=Peace Lutheran Church 455 Clark State Rd Gahanna Ohio 43230;X-APPLE-RADIUS=500;X-TITLE=455 Clark State Rd:geo:-82.8641311,40.0237289
END:VEVENT
BEGIN:VEVENT
DTSTART;TZID=America/New_York:20261017T103000
DTEND;TZID=America/New_York:20261017T133000
DTSTAMP:20260422T185113
CREATED:20260302T191206Z
LAST-MODIFIED:20260413T141935Z
UID:10003824-1792233000-1792243800@area53aa.org
SUMMARY:Grapevine Committee Writers Workshop
DESCRIPTION:Area 53 Grapevine Committee Presents: \nAnnual AA Grapevine Workshop \nSaturday\, October 17th\, 2026 \n10:30 AM – 1:30 PM \nEastview Methodist Church \n1045 Ross R. Columbus\, OH 43227 \nPotluck\,  Panels\, Speakers \nBring a dish and a friend!! \nThis committee will provide water and coffee. \ngrapevine@area53aa.org
URL:https://area53aa.org/event/grapevine-committee-writers-workshop/
LOCATION:Eastview Methodist Church\, 1045 Ross Rd.\, Columbus\, 43227\, United States
CATEGORIES:AA Event,Area 53 Committee Workshops,Area 53 News
ORGANIZER;CN="Area 53 Grapevine Committee":MAILTO:grapevine@area53aa.org
GEO:39.9541176;-82.8794763
X-APPLE-STRUCTURED-LOCATION;VALUE=URI;X-ADDRESS=Eastview Methodist Church 1045 Ross Rd. Columbus 43227 United States;X-APPLE-RADIUS=500;X-TITLE=1045 Ross Rd.:geo:-82.8794763,39.9541176
END:VEVENT
END:VCALENDAR