BEGIN:VCALENDAR
VERSION:2.0
PRODID:-//Area 53 AA - ECPv6.15.20//NONSGML v1.0//EN
CALSCALE:GREGORIAN
METHOD:PUBLISH
X-ORIGINAL-URL:https://area53aa.org
X-WR-CALDESC:Events for Area 53 AA
REFRESH-INTERVAL;VALUE=DURATION:PT1H
X-Robots-Tag:noindex
X-PUBLISHED-TTL:PT1H
BEGIN:VTIMEZONE
TZID:America/New_York
BEGIN:DAYLIGHT
TZOFFSETFROM:-0500
TZOFFSETTO:-0400
TZNAME:EDT
DTSTART:20260308T070000
END:DAYLIGHT
BEGIN:STANDARD
TZOFFSETFROM:-0400
TZOFFSETTO:-0500
TZNAME:EST
DTSTART:20261101T060000
END:STANDARD
BEGIN:DAYLIGHT
TZOFFSETFROM:-0500
TZOFFSETTO:-0400
TZNAME:EDT
DTSTART:20270314T070000
END:DAYLIGHT
BEGIN:STANDARD
TZOFFSETFROM:-0400
TZOFFSETTO:-0500
TZNAME:EST
DTSTART:20271107T060000
END:STANDARD
BEGIN:DAYLIGHT
TZOFFSETFROM:-0500
TZOFFSETTO:-0400
TZNAME:EDT
DTSTART:20280312T070000
END:DAYLIGHT
BEGIN:STANDARD
TZOFFSETFROM:-0400
TZOFFSETTO:-0500
TZNAME:EST
DTSTART:20281105T060000
END:STANDARD
END:VTIMEZONE
BEGIN:VEVENT
DTSTART;TZID=America/New_York:20270320T093000
DTEND;TZID=America/New_York:20270320T103000
DTSTAMP:20260423T002718
CREATED:20250215T073903Z
LAST-MODIFIED:20250215T073903Z
UID:10002362-1805535000-1805538600@area53aa.org
SUMMARY:District 26 Meeting
DESCRIPTION:3rd Saturday of the month at 9:30 AM \nWhitehall United Methodist Church\, 525 Bernhard Rd\, Whitehall\, OH 43213\, USA
URL:https://area53aa.org/event/district-26-meeting/2027-03-20/
LOCATION:Whitehall United Methodist Church\, 525 Bernhard Road\, Columbus\, Ohio
CATEGORIES:Monthly District Meetings
ORGANIZER;CN="District 26":MAILTO:dcm26@area53aa.org
GEO:39.9640674;-82.8804352
X-APPLE-STRUCTURED-LOCATION;VALUE=URI;X-ADDRESS=Whitehall United Methodist Church 525 Bernhard Road Columbus Ohio;X-APPLE-RADIUS=500;X-TITLE=525 Bernhard Road:geo:-82.8804352,39.9640674
END:VEVENT
BEGIN:VEVENT
DTSTART;TZID=America/New_York:20270320T110000
DTEND;TZID=America/New_York:20270320T120000
DTSTAMP:20260423T002718
CREATED:20250215T074344Z
LAST-MODIFIED:20250215T074344Z
UID:10002421-1805540400-1805544000@area53aa.org
SUMMARY:District 21 Meeting
DESCRIPTION:3rd Saturday of the month at 11:00 am \nWheelersburg United Methodist Church\, 11605 Gallia Pike Rd\, Wheelersburg\, OH 45694\, USA \nZoom Meeting ID: 457-677-9532\npasscode: 6cdUJ4
URL:https://area53aa.org/event/district-21-meeting/2027-03-20/
LOCATION:Wheelersburg United Methodist Church\, 11605 Gallia Pike Rd\, Wheelersburg\, 45694\, 45694\, United States
CATEGORIES:Monthly District Meetings
ORGANIZER;CN="District 21":MAILTO:dcm21@area53aa.org
GEO:38.7278325;-82.8543713
X-APPLE-STRUCTURED-LOCATION;VALUE=URI;X-ADDRESS=Wheelersburg United Methodist Church 11605 Gallia Pike Rd Wheelersburg 45694 45694 United States;X-APPLE-RADIUS=500;X-TITLE=11605 Gallia Pike Rd:geo:-82.8543713,38.7278325
END:VEVENT
BEGIN:VEVENT
DTSTART;TZID=America/New_York:20270320T113000
DTEND;TZID=America/New_York:20270320T130000
DTSTAMP:20260423T002718
CREATED:20251229T050040Z
LAST-MODIFIED:20251229T050041Z
UID:10003768-1805542200-1805547600@area53aa.org
SUMMARY:District 33 Meeting
DESCRIPTION:Meeting Location\n\n\n\n\n\nMain Library \n96 S. Grant Ave. \nRoom 1c \n11:30 to 1:00 pm \n3rd Saturday of the Month at 11:30 AM \nWho Should Attend?  \n• All Group Service Representatives ( GSRs) \n• Districts Committee Members ( DCMs & Officers) \n• Any AA member interested in service \nPurpose  \nDistrict 33 comes together to:  \n• Share information between groups and Area \n• Coordinate service activities \n• Support the still-suffering alcoholic through unity and service. \n“Our common welfare should come first; personal recovery depends upon A.A. unity.”
URL:https://area53aa.org/event/district-33-meeting-2-2/2027-03-20/
LOCATION:Combulus Metropotlian Main Library\, 96 S. Grant Ave\, Columbus\, 43215\, United States
CATEGORIES:Monthly District Meetings
ORGANIZER;CN="District 33":MAILTO:dcm33@area53aa.org
GEO:39.9613828;-82.9894036
X-APPLE-STRUCTURED-LOCATION;VALUE=URI;X-ADDRESS=Combulus Metropotlian Main Library 96 S. Grant Ave Columbus 43215 United States;X-APPLE-RADIUS=500;X-TITLE=96 S. Grant Ave:geo:-82.9894036,39.9613828
END:VEVENT
BEGIN:VEVENT
DTSTART;TZID=America/New_York:20270320T120000
DTEND;TZID=America/New_York:20270320T130000
DTSTAMP:20260423T002718
CREATED:20240118T035629Z
LAST-MODIFIED:20250215T054843Z
UID:10000465-1805544000-1805547600@area53aa.org
SUMMARY:Treatment Facilities Committee Monthly Meeting
DESCRIPTION:The Treatment Facilities Committee assists individuals\, groups\, and districts in carrying the message to the alcoholic in a treatment facility setting. These settings include rehabilitation centers\, nursing homes\, psychiatric hospitals\, homeless shelters\, transitional housing\, and outpatient programs. \nThe committee meets on the 3rd Saturday of every month at 12 pm in person and on zoom! \nCOGF\, 651 W. Broad St.\, Columbus OH 43215 \nJoin Zoom Meeting\nhttps://us02web.zoom.us/j/83175778784?pwd=c1BlWFJNZ1ZGK2Y4UkgvajBCakNxdz09  \nMeeting ID: 831 7577 8784\nPasscode: Treatment
URL:https://area53aa.org/event/treatment-facilities-committee-monthly-meeting/2027-03-20/
LOCATION:COGF\, 645 W. Broad St.\, Columbus\, 43215\, United States
CATEGORIES:Monthly Standing Committee Meetings
ORGANIZER;CN="Area 53 Treatment Facilities Committee":MAILTO:treatment@area53aa.org
GEO:39.9599571;-83.0178443
X-APPLE-STRUCTURED-LOCATION;VALUE=URI;X-ADDRESS=COGF 645 W. Broad St. Columbus 43215 United States;X-APPLE-RADIUS=500;X-TITLE=645 W. Broad St.:geo:-83.0178443,39.9599571
END:VEVENT
BEGIN:VEVENT
DTSTART;TZID=America/New_York:20270403T100000
DTEND;TZID=America/New_York:20270403T110000
DTSTAMP:20260423T002718
CREATED:20250215T071306Z
LAST-MODIFIED:20250215T071306Z
UID:10001898-1806746400-1806750000@area53aa.org
SUMMARY:District 1 Meeting
DESCRIPTION:District 1 meetings are held every other (even months) 1st Saturday of the month at 10:00 AM. \n440 South St. Paris Street\nBellefontaine OH 43311
URL:https://area53aa.org/event/district-1-meeting/2027-04-03/
LOCATION:Recovery Zone\, 440 South St. Paris Street\, Bellefontaine\, 43311\, United States
CATEGORIES:Monthly District Meetings
ORGANIZER;CN="District 1":MAILTO:dcm01@area53aa.org
GEO:40.3573329;-83.7743358
X-APPLE-STRUCTURED-LOCATION;VALUE=URI;X-ADDRESS=Recovery Zone 440 South St. Paris Street Bellefontaine 43311 United States;X-APPLE-RADIUS=500;X-TITLE=440 South St. Paris Street:geo:-83.7743358,40.3573329
END:VEVENT
END:VCALENDAR