BEGIN:VCALENDAR
VERSION:2.0
PRODID:-//Area 53 AA - ECPv6.15.20//NONSGML v1.0//EN
CALSCALE:GREGORIAN
METHOD:PUBLISH
X-WR-CALNAME:Area 53 AA
X-ORIGINAL-URL:https://area53aa.org
X-WR-CALDESC:Events for Area 53 AA
REFRESH-INTERVAL;VALUE=DURATION:PT1H
X-Robots-Tag:noindex
X-PUBLISHED-TTL:PT1H
BEGIN:VTIMEZONE
TZID:America/New_York
BEGIN:DAYLIGHT
TZOFFSETFROM:-0500
TZOFFSETTO:-0400
TZNAME:EDT
DTSTART:20230312T070000
END:DAYLIGHT
BEGIN:STANDARD
TZOFFSETFROM:-0400
TZOFFSETTO:-0500
TZNAME:EST
DTSTART:20231105T060000
END:STANDARD
BEGIN:DAYLIGHT
TZOFFSETFROM:-0500
TZOFFSETTO:-0400
TZNAME:EDT
DTSTART:20240310T070000
END:DAYLIGHT
BEGIN:STANDARD
TZOFFSETFROM:-0400
TZOFFSETTO:-0500
TZNAME:EST
DTSTART:20241103T060000
END:STANDARD
BEGIN:DAYLIGHT
TZOFFSETFROM:-0500
TZOFFSETTO:-0400
TZNAME:EDT
DTSTART:20250309T070000
END:DAYLIGHT
BEGIN:STANDARD
TZOFFSETFROM:-0400
TZOFFSETTO:-0500
TZNAME:EST
DTSTART:20251102T060000
END:STANDARD
END:VTIMEZONE
BEGIN:VEVENT
DTSTART;VALUE=DATE:20241005
DTEND;VALUE=DATE:20241006
DTSTAMP:20260424T222726
CREATED:20240923T113044Z
LAST-MODIFIED:20240923T113833Z
UID:10001211-1728086400-1728172799@area53aa.org
SUMMARY:Chilli Cook Off - District 34 - Oct 5th
DESCRIPTION:Save the Date \n5th Annual Red\, White and Sober \n\n\n			\n					\n						Download Flyer
URL:https://area53aa.org/event/chilli-cook-off-district-34-oct-5th/
LOCATION:Desert Island Social and Recovery Club\, 501 Josephine Ave\, Columbus\, OH\, 43204\, United States
GEO:39.9434982;-83.0935338
X-APPLE-STRUCTURED-LOCATION;VALUE=URI;X-ADDRESS=Desert Island Social and Recovery Club 501 Josephine Ave Columbus OH 43204 United States;X-APPLE-RADIUS=500;X-TITLE=501 Josephine Ave:geo:-83.0935338,39.9434982
END:VEVENT
BEGIN:VEVENT
DTSTART;TZID=America/New_York:20241005T090000
DTEND;TZID=America/New_York:20241005T150000
DTSTAMP:20260424T222726
CREATED:20240916T115140Z
LAST-MODIFIED:20240916T115309Z
UID:10001210-1728118800-1728140400@area53aa.org
SUMMARY:Cabin Fever - 12 Step Study - District 16 - Oct 5th
DESCRIPTION:Save the Date \n5th Annual Red\, White and Sober \n\n\n			\n					\n						Download Flyer
URL:https://area53aa.org/event/cabin-fever-12-step-study-district-16-oct-5th/
LOCATION:athens County Shrine club\, 50 Connett Rd\, The Plains\, OH\, 45780
GEO:39.3704592;-82.137019
X-APPLE-STRUCTURED-LOCATION;VALUE=URI;X-ADDRESS=athens County Shrine club 50 Connett Rd The Plains OH 45780;X-APPLE-RADIUS=500;X-TITLE=50 Connett Rd:geo:-82.137019,39.3704592
END:VEVENT
BEGIN:VEVENT
DTSTART;TZID=America/New_York:20241005T110000
DTEND;TZID=America/New_York:20241005T120000
DTSTAMP:20260424T222726
CREATED:20240731T144038Z
LAST-MODIFIED:20250228T192734Z
UID:10001157-1728126000-1728129600@area53aa.org
SUMMARY:Grapevine Committee Monthly Meeting
DESCRIPTION:Save the Date \n5th Annual Red\, White and Sober \n\n\n			\n					\n						Download Flyer
URL:https://area53aa.org/event/grapevine-committee-monthly-meeting-2/2024-10-05/
LOCATION:COGF\, 645 W. Broad St.\, Columbus\, 43215\, United States
CATEGORIES:Monthly Standing Committee Meetings
ORGANIZER;CN="Area 53 Grapevine Committee":MAILTO:grapevine@area53aa.org
GEO:39.9599571;-83.0178443
X-APPLE-STRUCTURED-LOCATION;VALUE=URI;X-ADDRESS=COGF 645 W. Broad St. Columbus 43215 United States;X-APPLE-RADIUS=500;X-TITLE=645 W. Broad St.:geo:-83.0178443,39.9599571
END:VEVENT
BEGIN:VEVENT
DTSTART;TZID=America/New_York:20241006T100000
DTEND;TZID=America/New_York:20241006T140000
DTSTAMP:20260424T222726
CREATED:20240817T030243Z
LAST-MODIFIED:20241102T222127Z
UID:10001154-1728208800-1728223200@area53aa.org
SUMMARY:District 26 Presents Rule 62 Day
DESCRIPTION:Save the Date \n5th Annual Red\, White and Sober \n\n\n			\n					\n						Download Flyer
URL:https://area53aa.org/event/32538/
LOCATION:Hannah Park\, 6547 Clark State Road\, Blacklick\, OH\, 43004\, United States
GEO:40.0420532;-82.8187299
X-APPLE-STRUCTURED-LOCATION;VALUE=URI;X-ADDRESS=Hannah Park 6547 Clark State Road Blacklick OH 43004 United States;X-APPLE-RADIUS=500;X-TITLE=6547 Clark State Road:geo:-82.8187299,40.0420532
END:VEVENT
BEGIN:VEVENT
DTSTART;TZID=America/New_York:20241012T100000
DTEND;TZID=America/New_York:20241012T130000
DTSTAMP:20260424T222726
CREATED:20240915T212321Z
LAST-MODIFIED:20241102T222117Z
UID:10001209-1728727200-1728738000@area53aa.org
SUMMARY:District 15 Breakfast: Our Primary Purpose
DESCRIPTION:Save the Date \n5th Annual Red\, White and Sober \n\n\n			\n					\n						Download Flyer
URL:https://area53aa.org/event/district-15-breakfast/
LOCATION:First Presbyterian Church – Marietta\, 201 4th Street\, Marietta\, 45750
GEO:39.4152385;-81.4501992
X-APPLE-STRUCTURED-LOCATION;VALUE=URI;X-ADDRESS=First Presbyterian Church – Marietta 201 4th Street Marietta 45750;X-APPLE-RADIUS=500;X-TITLE=201 4th Street:geo:-81.4501992,39.4152385
END:VEVENT
BEGIN:VEVENT
DTSTART;TZID=America/New_York:20241013T130000
DTEND;TZID=America/New_York:20241013T160000
DTSTAMP:20260424T222727
CREATED:20240622T234320Z
LAST-MODIFIED:20241102T222057Z
UID:10000631-1728824400-1728835200@area53aa.org
SUMMARY:Area Committee Meeting: October 13 2024
DESCRIPTION:Save the Date \n5th Annual Red\, White and Sober \n\n\n			\n					\n						Download Flyer
URL:https://area53aa.org/event/area-committee-meeting-july-9-2023-copy-copy-copy-copy/
LOCATION:Hoge Memorial Presbyterian Church\, 2930 West Broad Street\, Columbus\, OH\, 43204\, United States
CATEGORIES:Area Planning Committee Meetings
GEO:39.9552438;-83.0786673
X-APPLE-STRUCTURED-LOCATION;VALUE=URI;X-ADDRESS=Hoge Memorial Presbyterian Church 2930 West Broad Street Columbus OH 43204 United States;X-APPLE-RADIUS=500;X-TITLE=2930 West Broad Street:geo:-83.0786673,39.9552438
END:VEVENT
BEGIN:VEVENT
DTSTART;TZID=America/New_York:20241019T100000
DTEND;TZID=America/New_York:20241019T140000
DTSTAMP:20260424T222727
CREATED:20240915T130956Z
LAST-MODIFIED:20241102T222011Z
UID:10001208-1729332000-1729346400@area53aa.org
SUMMARY:Corrections Workshop October 19
DESCRIPTION:Save the Date \n5th Annual Red\, White and Sober \n\n\n			\n					\n						Download Flyer
URL:https://area53aa.org/event/corrections-workshop-october-19/
LOCATION:Peace Lutheran Church\, 455 Clark State Rd\, Gahanna\, Ohio\, 43230
GEO:40.0237289;-82.8641311
X-APPLE-STRUCTURED-LOCATION;VALUE=URI;X-ADDRESS=Peace Lutheran Church 455 Clark State Rd Gahanna Ohio 43230;X-APPLE-RADIUS=500;X-TITLE=455 Clark State Rd:geo:-82.8641311,40.0237289
END:VEVENT
BEGIN:VEVENT
DTSTART;TZID=America/New_York:20241019T120000
DTEND;TZID=America/New_York:20241019T130000
DTSTAMP:20260424T222727
CREATED:20240118T035629Z
LAST-MODIFIED:20250215T054843Z
UID:10000436-1729339200-1729342800@area53aa.org
SUMMARY:Treatment Facilities Committee Monthly Meeting
DESCRIPTION:Save the Date \n5th Annual Red\, White and Sober \n\n\n			\n					\n						Download Flyer
URL:https://area53aa.org/event/treatment-facilities-committee-monthly-meeting/2024-10-19/
LOCATION:COGF\, 645 W. Broad St.\, Columbus\, 43215\, United States
CATEGORIES:Monthly Standing Committee Meetings
ORGANIZER;CN="Area 53 Treatment Facilities Committee":MAILTO:treatment@area53aa.org
GEO:39.9599571;-83.0178443
X-APPLE-STRUCTURED-LOCATION;VALUE=URI;X-ADDRESS=COGF 645 W. Broad St. Columbus 43215 United States;X-APPLE-RADIUS=500;X-TITLE=645 W. Broad St.:geo:-83.0178443,39.9599571
END:VEVENT
BEGIN:VEVENT
DTSTART;TZID=America/New_York:20241026T110000
DTEND;TZID=America/New_York:20241026T120000
DTSTAMP:20260424T222727
CREATED:20240108T023654Z
LAST-MODIFIED:20250215T063249Z
UID:10000423-1729940400-1729944000@area53aa.org
SUMMARY:Accessibility Committee Monthly Meeting
DESCRIPTION:Save the Date \n5th Annual Red\, White and Sober \n\n\n			\n					\n						Download Flyer
URL:https://area53aa.org/event/accessibility-committee-monthly-meeting/2024-10-26/
LOCATION:
CATEGORIES:Monthly Standing Committee Meetings
END:VEVENT
BEGIN:VEVENT
DTSTART;TZID=America/New_York:20241026T180000
DTEND;TZID=America/New_York:20241026T210000
DTSTAMP:20260424T222727
CREATED:20240819T111039Z
LAST-MODIFIED:20241102T222002Z
UID:10001156-1729965600-1729976400@area53aa.org
SUMMARY:District 28 Stay Sober for October 2024
DESCRIPTION:Save the Date \n5th Annual Red\, White and Sober \n\n\n			\n					\n						Download Flyer
URL:https://area53aa.org/event/district-28-stay-sober-for-october-2024/
LOCATION:Christian Assembly Church\, 4099 Karl Rd\, Columbus\, 43224\, United States
ORGANIZER;CN="District 28":MAILTO:dcm28@area53aa.org
GEO:40.0515572;-82.9782409
X-APPLE-STRUCTURED-LOCATION;VALUE=URI;X-ADDRESS=Christian Assembly Church 4099 Karl Rd Columbus 43224 United States;X-APPLE-RADIUS=500;X-TITLE=4099 Karl Rd:geo:-82.9782409,40.0515572
END:VEVENT
BEGIN:VEVENT
DTSTART;TZID=America/New_York:20241027T163000
DTEND;TZID=America/New_York:20241027T203000
DTSTAMP:20260424T222727
CREATED:20240915T125707Z
LAST-MODIFIED:20241102T221952Z
UID:10001207-1730046600-1730061000@area53aa.org
SUMMARY:Marengo Octsoberfest - Oct 27th
DESCRIPTION:Save the Date \n5th Annual Red\, White and Sober \n\n\n			\n					\n						Download Flyer
URL:https://area53aa.org/event/marengo-octsoberfest-oct-27th/
LOCATION:American Legion\, 1549 Co Rd 26\, Marengo\, 43334\, United States
CATEGORIES:Group Anniversary
GEO:40.4095337;-82.8099375
X-APPLE-STRUCTURED-LOCATION;VALUE=URI;X-ADDRESS=American Legion 1549 Co Rd 26 Marengo 43334 United States;X-APPLE-RADIUS=500;X-TITLE=1549 Co Rd 26:geo:-82.8099375,40.4095337
END:VEVENT
END:VCALENDAR