BEGIN:VCALENDAR
VERSION:2.0
PRODID:-//Area 53 AA - ECPv6.15.20//NONSGML v1.0//EN
CALSCALE:GREGORIAN
METHOD:PUBLISH
X-ORIGINAL-URL:https://area53aa.org
X-WR-CALDESC:Events for Area 53 AA
REFRESH-INTERVAL;VALUE=DURATION:PT1H
X-Robots-Tag:noindex
X-PUBLISHED-TTL:PT1H
BEGIN:VTIMEZONE
TZID:America/New_York
BEGIN:DAYLIGHT
TZOFFSETFROM:-0500
TZOFFSETTO:-0400
TZNAME:EDT
DTSTART:20230312T070000
END:DAYLIGHT
BEGIN:STANDARD
TZOFFSETFROM:-0400
TZOFFSETTO:-0500
TZNAME:EST
DTSTART:20231105T060000
END:STANDARD
BEGIN:DAYLIGHT
TZOFFSETFROM:-0500
TZOFFSETTO:-0400
TZNAME:EDT
DTSTART:20240310T070000
END:DAYLIGHT
BEGIN:STANDARD
TZOFFSETFROM:-0400
TZOFFSETTO:-0500
TZNAME:EST
DTSTART:20241103T060000
END:STANDARD
BEGIN:DAYLIGHT
TZOFFSETFROM:-0500
TZOFFSETTO:-0400
TZNAME:EDT
DTSTART:20250309T070000
END:DAYLIGHT
BEGIN:STANDARD
TZOFFSETFROM:-0400
TZOFFSETTO:-0500
TZNAME:EST
DTSTART:20251102T060000
END:STANDARD
END:VTIMEZONE
BEGIN:VEVENT
DTSTART;TZID=America/New_York:20241101T183000
DTEND;TZID=America/New_York:20241103T110000
DTSTAMP:20260424T191155
CREATED:20241006T000952Z
LAST-MODIFIED:20241006T000952Z
UID:10001212-1730485800-1730631600@area53aa.org
SUMMARY:13th Annual Buckeye Roundup
DESCRIPTION:Save the Date \n5th Annual Red\, White and Sober \n\n\n			\n					\n						Download Flyer
URL:https://area53aa.org/event/13th-annual-buckeye-roundup/
LOCATION:Holiday Inn Cincinnati Eastgate\, 4501 Eastgate Blvd.\, Batavia\, Ohio\, 45245
GEO:39.099645;-84.2750867
X-APPLE-STRUCTURED-LOCATION;VALUE=URI;X-ADDRESS=Holiday Inn Cincinnati Eastgate 4501 Eastgate Blvd. Batavia Ohio 45245;X-APPLE-RADIUS=500;X-TITLE=4501 Eastgate Blvd.:geo:-84.2750867,39.099645
END:VEVENT
BEGIN:VEVENT
DTSTART;TZID=America/New_York:20241102T110000
DTEND;TZID=America/New_York:20241102T120000
DTSTAMP:20260424T191155
CREATED:20240731T144038Z
LAST-MODIFIED:20250228T192734Z
UID:10001158-1730545200-1730548800@area53aa.org
SUMMARY:Grapevine Committee Monthly Meeting
DESCRIPTION:Save the Date \n5th Annual Red\, White and Sober \n\n\n			\n					\n						Download Flyer
URL:https://area53aa.org/event/grapevine-committee-monthly-meeting-2/2024-11-02/
LOCATION:COGF\, 645 W. Broad St.\, Columbus\, 43215\, United States
CATEGORIES:Monthly Standing Committee Meetings
ORGANIZER;CN="Area 53 Grapevine Committee":MAILTO:grapevine@area53aa.org
GEO:39.9599571;-83.0178443
X-APPLE-STRUCTURED-LOCATION;VALUE=URI;X-ADDRESS=COGF 645 W. Broad St. Columbus 43215 United States;X-APPLE-RADIUS=500;X-TITLE=645 W. Broad St.:geo:-83.0178443,39.9599571
END:VEVENT
BEGIN:VEVENT
DTSTART;TZID=America/New_York:20241106T193000
DTEND;TZID=America/New_York:20241106T203000
DTSTAMP:20260424T191155
CREATED:20241102T205903Z
LAST-MODIFIED:20241110T224225Z
UID:10001278-1730921400-1730925000@area53aa.org
SUMMARY:Mini Conference Planning Committee
DESCRIPTION:Save the Date \n5th Annual Red\, White and Sober \n\n\n			\n					\n						Download Flyer
URL:https://area53aa.org/event/mini-conference-planning-committee-3/
LOCATION:COGF\, 645 W. Broad St.\, Columbus\, 43215\, United States
CATEGORIES:Area Planning Committee Meetings
GEO:39.9599571;-83.0178443
X-APPLE-STRUCTURED-LOCATION;VALUE=URI;X-ADDRESS=COGF 645 W. Broad St. Columbus 43215 United States;X-APPLE-RADIUS=500;X-TITLE=645 W. Broad St.:geo:-83.0178443,39.9599571
END:VEVENT
BEGIN:VEVENT
DTSTART;TZID=America/New_York:20241110T180000
DTEND;TZID=America/New_York:20241110T200000
DTSTAMP:20260424T191155
CREATED:20241026T104939Z
LAST-MODIFIED:20241110T224245Z
UID:10001215-1731261600-1731268800@area53aa.org
SUMMARY:Boiled Owls Anniversary - Nov 10th
DESCRIPTION:Save the Date \n5th Annual Red\, White and Sober \n\n\n			\n					\n						Download Flyer
URL:https://area53aa.org/event/boiled-owls-anniversary-nov-10th/
LOCATION:Crestview Presbyterian Church\, 350 E. Tulane\, Columbus\, Ohio\, 43202
CATEGORIES:Group Anniversary
GEO:40.0232105;-83.0040125
X-APPLE-STRUCTURED-LOCATION;VALUE=URI;X-ADDRESS=Crestview Presbyterian Church 350 E. Tulane Columbus Ohio 43202;X-APPLE-RADIUS=500;X-TITLE=350 E. Tulane:geo:-83.0040125,40.0232105
END:VEVENT
BEGIN:VEVENT
DTSTART;TZID=America/New_York:20241114T190000
DTEND;TZID=America/New_York:20241114T200000
DTSTAMP:20260424T191155
CREATED:20241102T205118Z
LAST-MODIFIED:20241202T002654Z
UID:10001216-1731610800-1731614400@area53aa.org
SUMMARY:Communications Service Committee Meeting
DESCRIPTION:Save the Date \n5th Annual Red\, White and Sober \n\n\n			\n					\n						Download Flyer
URL:https://area53aa.org/event/communications-service-committee-meeting/
LOCATION:https://us02web.zoom.us/j/86119235689?pwd=r4zBqI2ddqxIPPELSGMFqpY1VbBILZ.1
CATEGORIES:Area Planning Committee Meetings
END:VEVENT
BEGIN:VEVENT
DTSTART;TZID=America/New_York:20241116T120000
DTEND;TZID=America/New_York:20241116T130000
DTSTAMP:20260424T191155
CREATED:20240118T035629Z
LAST-MODIFIED:20250215T054843Z
UID:10000437-1731758400-1731762000@area53aa.org
SUMMARY:Treatment Facilities Committee Monthly Meeting
DESCRIPTION:Save the Date \n5th Annual Red\, White and Sober \n\n\n			\n					\n						Download Flyer
URL:https://area53aa.org/event/treatment-facilities-committee-monthly-meeting/2024-11-16/
LOCATION:COGF\, 645 W. Broad St.\, Columbus\, 43215\, United States
CATEGORIES:Monthly Standing Committee Meetings
ORGANIZER;CN="Area 53 Treatment Facilities Committee":MAILTO:treatment@area53aa.org
GEO:39.9599571;-83.0178443
X-APPLE-STRUCTURED-LOCATION;VALUE=URI;X-ADDRESS=COGF 645 W. Broad St. Columbus 43215 United States;X-APPLE-RADIUS=500;X-TITLE=645 W. Broad St.:geo:-83.0178443,39.9599571
END:VEVENT
BEGIN:VEVENT
DTSTART;TZID=America/New_York:20241117T133000
DTEND;TZID=America/New_York:20241117T163000
DTSTAMP:20260424T191155
CREATED:20241013T174945Z
LAST-MODIFIED:20241202T002713Z
UID:10001213-1731850200-1731861000@area53aa.org
SUMMARY:Traditions Workshop - Group Services
DESCRIPTION:Save the Date \n5th Annual Red\, White and Sober \n\n\n			\n					\n						Download Flyer
URL:https://area53aa.org/event/traditions-workshop-group-services/
LOCATION:Club McKinley\, 2998 McKinley Ave\, Columbus\, 43228\, United States
CATEGORIES:Area 53 Committee Workshops
GEO:39.9863891;-83.0757141
X-APPLE-STRUCTURED-LOCATION;VALUE=URI;X-ADDRESS=Club McKinley 2998 McKinley Ave Columbus 43228 United States;X-APPLE-RADIUS=500;X-TITLE=2998 McKinley Ave:geo:-83.0757141,39.9863891
END:VEVENT
BEGIN:VEVENT
DTSTART;TZID=America/New_York:20241122T190000
DTEND;TZID=America/New_York:20241122T211500
DTSTAMP:20260424T191155
CREATED:20241013T175720Z
LAST-MODIFIED:20241202T002725Z
UID:10001214-1732302000-1732310100@area53aa.org
SUMMARY:District 12 Yearly Gathering 2024
DESCRIPTION:Save the Date \n5th Annual Red\, White and Sober \n\n\n			\n					\n						Download Flyer
URL:https://area53aa.org/event/district-12-yearly-gathering-2024/
LOCATION:Covenant Presbyterian Church\, 201 North Limestone Street\, Springfield\, 45503\, United States
ORGANIZER;CN="District 12":MAILTO:dcm12@area53aa.org
GEO:39.9276354;-83.8084326
X-APPLE-STRUCTURED-LOCATION;VALUE=URI;X-ADDRESS=Covenant Presbyterian Church 201 North Limestone Street Springfield 45503 United States;X-APPLE-RADIUS=500;X-TITLE=201 North Limestone Street:geo:-83.8084326,39.9276354
END:VEVENT
BEGIN:VEVENT
DTSTART;TZID=America/New_York:20241123T110000
DTEND;TZID=America/New_York:20241123T120000
DTSTAMP:20260424T191155
CREATED:20240108T023654Z
LAST-MODIFIED:20250215T063249Z
UID:10000424-1732359600-1732363200@area53aa.org
SUMMARY:Accessibility Committee Monthly Meeting
DESCRIPTION:Save the Date \n5th Annual Red\, White and Sober \n\n\n			\n					\n						Download Flyer
URL:https://area53aa.org/event/accessibility-committee-monthly-meeting/2024-11-23/
LOCATION:
CATEGORIES:Monthly Standing Committee Meetings
END:VEVENT
BEGIN:VEVENT
DTSTART;TZID=America/New_York:20241123T140000
DTEND;TZID=America/New_York:20241123T200000
DTSTAMP:20260424T191155
CREATED:20241109T122837Z
LAST-MODIFIED:20241202T002637Z
UID:10001281-1732370400-1732392000@area53aa.org
SUMMARY:OYPAA 2025 Host Committee Elections
DESCRIPTION:Save the Date \n5th Annual Red\, White and Sober \n\n\n			\n					\n						Download Flyer
URL:https://area53aa.org/event/oypaa-2025-host-committee-elections/
LOCATION:200 E Livingston Columbus\, OH\, 200 E Livingston Ave\, Columbus\, OH\, 43215\, United States
GEO:39.9529748;-82.9936238
X-APPLE-STRUCTURED-LOCATION;VALUE=URI;X-ADDRESS=200 E Livingston Columbus OH 200 E Livingston Ave Columbus OH 43215 United States;X-APPLE-RADIUS=500;X-TITLE=200 E Livingston Ave:geo:-82.9936238,39.9529748
END:VEVENT
BEGIN:VEVENT
DTSTART;TZID=America/New_York:20241128T080000
DTEND;TZID=America/New_York:20241128T103000
DTSTAMP:20260424T191155
CREATED:20241102T154043Z
LAST-MODIFIED:20241202T002610Z
UID:10001277-1732780800-1732789800@area53aa.org
SUMMARY:Thanksgiving Gratitude Breakfast & Tickathon - Nov 28
DESCRIPTION:Save the Date \n5th Annual Red\, White and Sober \n\n\n			\n					\n						Download Flyer
URL:https://area53aa.org/event/thanksgiving-gratitude-breakfast-tickathon-nov-28/
LOCATION:St. Luke’s Episcopal Church\, 320 2nd St\, Marietta\, 45750\, United States
CATEGORIES:Group Anniversary
GEO:39.4168196;-81.4554762
X-APPLE-STRUCTURED-LOCATION;VALUE=URI;X-ADDRESS=St. Luke’s Episcopal Church 320 2nd St Marietta 45750 United States;X-APPLE-RADIUS=500;X-TITLE=320 2nd St:geo:-81.4554762,39.4168196
END:VEVENT
END:VCALENDAR