BEGIN:VCALENDAR
VERSION:2.0
PRODID:-//Area 53 AA - ECPv6.15.20//NONSGML v1.0//EN
CALSCALE:GREGORIAN
METHOD:PUBLISH
X-WR-CALNAME:Area 53 AA
X-ORIGINAL-URL:https://area53aa.org
X-WR-CALDESC:Events for Area 53 AA
REFRESH-INTERVAL;VALUE=DURATION:PT1H
X-Robots-Tag:noindex
X-PUBLISHED-TTL:PT1H
BEGIN:VTIMEZONE
TZID:America/New_York
BEGIN:DAYLIGHT
TZOFFSETFROM:-0500
TZOFFSETTO:-0400
TZNAME:EDT
DTSTART:20230312T070000
END:DAYLIGHT
BEGIN:STANDARD
TZOFFSETFROM:-0400
TZOFFSETTO:-0500
TZNAME:EST
DTSTART:20231105T060000
END:STANDARD
BEGIN:DAYLIGHT
TZOFFSETFROM:-0500
TZOFFSETTO:-0400
TZNAME:EDT
DTSTART:20240310T070000
END:DAYLIGHT
BEGIN:STANDARD
TZOFFSETFROM:-0400
TZOFFSETTO:-0500
TZNAME:EST
DTSTART:20241103T060000
END:STANDARD
BEGIN:DAYLIGHT
TZOFFSETFROM:-0500
TZOFFSETTO:-0400
TZNAME:EDT
DTSTART:20250309T070000
END:DAYLIGHT
BEGIN:STANDARD
TZOFFSETFROM:-0400
TZOFFSETTO:-0500
TZNAME:EST
DTSTART:20251102T060000
END:STANDARD
BEGIN:DAYLIGHT
TZOFFSETFROM:-0500
TZOFFSETTO:-0400
TZNAME:EDT
DTSTART:20260308T070000
END:DAYLIGHT
BEGIN:STANDARD
TZOFFSETFROM:-0400
TZOFFSETTO:-0500
TZNAME:EST
DTSTART:20261101T060000
END:STANDARD
END:VTIMEZONE
BEGIN:VEVENT
DTSTART;TZID=America/New_York:20250326T183000
DTEND;TZID=America/New_York:20250326T193000
DTSTAMP:20260424T123410
CREATED:20250215T081607Z
LAST-MODIFIED:20250215T081607Z
UID:10002636-1743013800-1743017400@area53aa.org
SUMMARY:District 15 Meeting
DESCRIPTION:4th Wednesday of the month at 6:30 \n431 3rd St\, Marietta\, OH 45750\, USA
URL:https://area53aa.org/event/district-15-meeting/2025-03-26/
LOCATION:Serenity House Marietta\, 431 3rd Street\, Marietta\, OH\, 45750\, United States
CATEGORIES:Monthly District Meetings
ORGANIZER;CN="District 15":MAILTO:dcm15@area53aa.org
GEO:39.4195607;-81.4571447
X-APPLE-STRUCTURED-LOCATION;VALUE=URI;X-ADDRESS=Serenity House Marietta 431 3rd Street Marietta OH 45750 United States;X-APPLE-RADIUS=500;X-TITLE=431 3rd Street:geo:-81.4571447,39.4195607
END:VEVENT
BEGIN:VEVENT
DTSTART;TZID=America/New_York:20250323T173000
DTEND;TZID=America/New_York:20250323T183000
DTSTAMP:20260424T123410
CREATED:20250215T081335Z
LAST-MODIFIED:20250221T122247Z
UID:10002576-1742751000-1742754600@area53aa.org
SUMMARY:District 34 Meeting
DESCRIPTION:4th Sunday of the month at 5:30 PM \nHoge Memorial Presbyterian Church\, 2930 W Broad St\, Columbus\, OH 43204\, USA
URL:https://area53aa.org/event/district-34-meeting/2025-03-23/
LOCATION:Hoge Memorial Presbyterian Church\, 2930 West Broad Street\, Columbus\, OH\, 43204\, United States
CATEGORIES:Monthly District Meetings
GEO:39.9552438;-83.0786673
X-APPLE-STRUCTURED-LOCATION;VALUE=URI;X-ADDRESS=Hoge Memorial Presbyterian Church 2930 West Broad Street Columbus OH 43204 United States;X-APPLE-RADIUS=500;X-TITLE=2930 West Broad Street:geo:-83.0786673,39.9552438
END:VEVENT
BEGIN:VEVENT
DTSTART;TZID=America/New_York:20250322T110000
DTEND;TZID=America/New_York:20250322T120000
DTSTAMP:20260424T123410
CREATED:20250220T144020Z
LAST-MODIFIED:20250221T122239Z
UID:10002760-1742641200-1742644800@area53aa.org
SUMMARY:Accessibilities Committee Meeting
DESCRIPTION:The Accessibilities Committee meets on Zoom every fourth Saturday of the month from 11 am to 12 noon. \nhttps://zoom.us/j/99325410386?pwd=UXpzMHB0ZndHV1hYVWtDRjkyVlV2UT09 \nMeeting ID: 993 2541 0386\nPasscode: 6sP2cP
URL:https://area53aa.org/event/accessibilities-committee-meeting/2025-03-22/
LOCATION:Online Meeting
CATEGORIES:Monthly Standing Committee Meetings
ORGANIZER;CN="Accessibilities Committee":MAILTO:accessibilities@area53aa.org
END:VEVENT
BEGIN:VEVENT
DTSTART;VALUE=DATE:20250321
DTEND;VALUE=DATE:20250323
DTSTAMP:20260424T123410
CREATED:20250129T175842Z
LAST-MODIFIED:20250129T180756Z
UID:10001422-1742515200-1742687999@area53aa.org
SUMMARY:Area 55 Mini Conference 2025
DESCRIPTION:Click the button below to exit area53aa.org and go to Area 55 Website to learn more about the Area 55 Mini Conference. \nTHIS IS NOT AREA 53 MINI CONFERENCE \n			\n							Area 55 Website
URL:https://area53aa.org/event/area-55-mini-conference-2025/
LOCATION:First United Methodist Church\, 1526 E Wooster St\, Bowling Green\, 43402\, United States
GEO:41.3735986;-83.6275012
X-APPLE-STRUCTURED-LOCATION;VALUE=URI;X-ADDRESS=First United Methodist Church 1526 E Wooster St Bowling Green 43402 United States;X-APPLE-RADIUS=500;X-TITLE=1526 E Wooster St:geo:-83.6275012,41.3735986
END:VEVENT
BEGIN:VEVENT
DTSTART;TZID=America/New_York:20250316T180000
DTEND;TZID=America/New_York:20250316T190000
DTSTAMP:20260424T123410
CREATED:20250215T081126Z
LAST-MODIFIED:20250215T081126Z
UID:10002516-1742148000-1742151600@area53aa.org
SUMMARY:District 19 Meeting
DESCRIPTION:3rd Sunday of the Month at 6:00 PM
URL:https://area53aa.org/event/district-19-meeting/2025-03-16/
LOCATION:Sabina United Methodist Church\, 61 W Elm St\, Sabina\, 45169\, United States
CATEGORIES:Monthly District Meetings
ORGANIZER;CN="District 19":MAILTO:dcm19@area53aa.org
GEO:39.4903491;-83.6374472
X-APPLE-STRUCTURED-LOCATION;VALUE=URI;X-ADDRESS=Sabina United Methodist Church 61 W Elm St Sabina 45169 United States;X-APPLE-RADIUS=500;X-TITLE=61 W Elm St:geo:-83.6374472,39.4903491
END:VEVENT
BEGIN:VEVENT
DTSTART;TZID=America/New_York:20250316T160000
DTEND;TZID=America/New_York:20250316T170000
DTSTAMP:20260424T123410
CREATED:20250215T080944Z
LAST-MODIFIED:20250215T080944Z
UID:10002457-1742140800-1742144400@area53aa.org
SUMMARY:District 12 Meeting
DESCRIPTION:3rd Sunday of the Month at 4:00 PM
URL:https://area53aa.org/event/district-12-meeting/2025-03-16/
LOCATION:Springfield Alano Club Inc\, 1557 E Main St\, Springfield\, 45503\, United States
CATEGORIES:Monthly District Meetings
ORGANIZER;CN="District 12":MAILTO:dcm12@area53aa.org
GEO:39.9231477;-83.7860254
X-APPLE-STRUCTURED-LOCATION;VALUE=URI;X-ADDRESS=Springfield Alano Club Inc 1557 E Main St Springfield 45503 United States;X-APPLE-RADIUS=500;X-TITLE=1557 E Main St:geo:-83.7860254,39.9231477
END:VEVENT
BEGIN:VEVENT
DTSTART;TZID=America/New_York:20250316T150000
DTEND;TZID=America/New_York:20250316T163000
DTSTAMP:20260424T123410
CREATED:20250208T233428Z
LAST-MODIFIED:20250215T062320Z
UID:10001690-1742137200-1742142600@area53aa.org
SUMMARY:CPC/PI Committee Meeting
DESCRIPTION:CPC-PI Committee Monthly Meeting \n03:00 pm 04:30 pm \n02/16/2025 \nFranklinton Library \n1061 W Town St \nColumbus Ohio 43222 United States \nMeeting held in large Meeting Room on second floor. Zoom access available for those unable to attend in person. \n			\n						More Info
URL:https://area53aa.org/event/cpc-pi-committee-meeting-feb-16-2025/2025-03-16/
LOCATION:Franklinton Library\, 1061 W Town St\, Columbus\, 43222\, United States
CATEGORIES:Monthly Standing Committee Meetings
ORGANIZER;CN="Area 53 CPC-PI Committee":MAILTO:cpcpi@area53aa.org
GEO:39.9551728;-83.0277954
X-APPLE-STRUCTURED-LOCATION;VALUE=URI;X-ADDRESS=Franklinton Library 1061 W Town St Columbus 43222 United States;X-APPLE-RADIUS=500;X-TITLE=1061 W Town St:geo:-83.0277954,39.9551728
END:VEVENT
BEGIN:VEVENT
DTSTART;TZID=America/New_York:20250315T120000
DTEND;TZID=America/New_York:20250315T130000
DTSTAMP:20260424T123410
CREATED:20240118T035629Z
LAST-MODIFIED:20250215T054843Z
UID:10000441-1742040000-1742043600@area53aa.org
SUMMARY:Treatment Facilities Committee Monthly Meeting
DESCRIPTION:The Treatment Facilities Committee assists individuals\, groups\, and districts in carrying the message to the alcoholic in a treatment facility setting. These settings include rehabilitation centers\, nursing homes\, psychiatric hospitals\, homeless shelters\, transitional housing\, and outpatient programs. \nThe committee meets on the 3rd Saturday of every month at 12 pm in person and on zoom! \nCOGF\, 651 W. Broad St.\, Columbus OH 43215 \nJoin Zoom Meeting\nhttps://us02web.zoom.us/j/83175778784?pwd=c1BlWFJNZ1ZGK2Y4UkgvajBCakNxdz09  \nMeeting ID: 831 7577 8784\nPasscode: Treatment
URL:https://area53aa.org/event/treatment-facilities-committee-monthly-meeting/2025-03-15/
LOCATION:COGF\, 645 W. Broad St.\, Columbus\, 43215\, United States
CATEGORIES:Monthly Standing Committee Meetings
ORGANIZER;CN="Area 53 Treatment Facilities Committee":MAILTO:treatment@area53aa.org
GEO:39.9599571;-83.0178443
X-APPLE-STRUCTURED-LOCATION;VALUE=URI;X-ADDRESS=COGF 645 W. Broad St. Columbus 43215 United States;X-APPLE-RADIUS=500;X-TITLE=645 W. Broad St.:geo:-83.0178443,39.9599571
END:VEVENT
BEGIN:VEVENT
DTSTART;TZID=America/New_York:20250315T110000
DTEND;TZID=America/New_York:20250315T120000
DTSTAMP:20260424T123410
CREATED:20250215T074344Z
LAST-MODIFIED:20250215T074344Z
UID:10002397-1742036400-1742040000@area53aa.org
SUMMARY:District 21 Meeting
DESCRIPTION:3rd Saturday of the month at 11:00 am \nWheelersburg United Methodist Church\, 11605 Gallia Pike Rd\, Wheelersburg\, OH 45694\, USA \nZoom Meeting ID: 457-677-9532\npasscode: 6cdUJ4
URL:https://area53aa.org/event/district-21-meeting/2025-03-15/
LOCATION:Wheelersburg United Methodist Church\, 11605 Gallia Pike Rd\, Wheelersburg\, 45694\, 45694\, United States
CATEGORIES:Monthly District Meetings
ORGANIZER;CN="District 21":MAILTO:dcm21@area53aa.org
GEO:38.7278325;-82.8543713
X-APPLE-STRUCTURED-LOCATION;VALUE=URI;X-ADDRESS=Wheelersburg United Methodist Church 11605 Gallia Pike Rd Wheelersburg 45694 45694 United States;X-APPLE-RADIUS=500;X-TITLE=11605 Gallia Pike Rd:geo:-82.8543713,38.7278325
END:VEVENT
BEGIN:VEVENT
DTSTART;TZID=America/New_York:20250315T093000
DTEND;TZID=America/New_York:20250315T103000
DTSTAMP:20260424T123410
CREATED:20250215T073903Z
LAST-MODIFIED:20250215T073903Z
UID:10002338-1742031000-1742034600@area53aa.org
SUMMARY:District 26 Meeting
DESCRIPTION:3rd Saturday of the month at 9:30 AM \nWhitehall United Methodist Church\, 525 Bernhard Rd\, Whitehall\, OH 43213\, USA
URL:https://area53aa.org/event/district-26-meeting/2025-03-15/
LOCATION:Whitehall United Methodist Church\, 525 Bernhard Road\, Columbus\, Ohio
CATEGORIES:Monthly District Meetings
ORGANIZER;CN="District 26":MAILTO:dcm26@area53aa.org
GEO:39.9640674;-82.8804352
X-APPLE-STRUCTURED-LOCATION;VALUE=URI;X-ADDRESS=Whitehall United Methodist Church 525 Bernhard Road Columbus Ohio;X-APPLE-RADIUS=500;X-TITLE=525 Bernhard Road:geo:-82.8804352,39.9640674
END:VEVENT
BEGIN:VEVENT
DTSTART;TZID=America/New_York:20250315T080000
DTEND;TZID=America/New_York:20250315T170000
DTSTAMP:20260424T123410
CREATED:20250215T055600Z
LAST-MODIFIED:20250215T055600Z
UID:10001631-1742025600-1742058000@area53aa.org
SUMMARY:District 7 Meeting
DESCRIPTION:District 7 Meetings \nDistrict 7 meets on the third Saturday of each month at 10:30am. \nDistrict meetings are in-person at  \nI.S.R.C.\n554 Moxahala Avenue\nZanesville OH 43701.
URL:https://area53aa.org/event/district-7-meeting/2025-03-15/
LOCATION:I.s.r.c.\, 554 Moxahala Ave\, Zanesville\, 43701\, United States
CATEGORIES:Monthly District Meetings
ORGANIZER;CN="District 7":MAILTO:dcm07@area53aa.org
GEO:39.9302383;-82.0053096
X-APPLE-STRUCTURED-LOCATION;VALUE=URI;X-ADDRESS=I.s.r.c. 554 Moxahala Ave Zanesville 43701 United States;X-APPLE-RADIUS=500;X-TITLE=554 Moxahala Ave:geo:-82.0053096,39.9302383
END:VEVENT
BEGIN:VEVENT
DTSTART;TZID=America/New_York:20250314T150000
DTEND;TZID=America/New_York:20250316T120000
DTSTAMP:20260424T123410
CREATED:20250129T180409Z
LAST-MODIFIED:20250129T181821Z
UID:10001423-1741964400-1742126400@area53aa.org
SUMMARY:Area 56 Mini Conference 2025
DESCRIPTION:Click the button below to exit area53aa.org and go to Area 56 Website to learn more about the Area 56 Mini Conference. \nTHIS IS NOT AREA 53 MINI CONFERENCE \n Area 56 Website
URL:https://area53aa.org/event/area-56-mini-conference-2025/
LOCATION:Hope Hotel\, 10823 Chidlaw Rd unit 823\, Dayton\, 45433\, United States
GEO:39.8001771;-84.0432672
X-APPLE-STRUCTURED-LOCATION;VALUE=URI;X-ADDRESS=Hope Hotel 10823 Chidlaw Rd unit 823 Dayton 45433 United States;X-APPLE-RADIUS=500;X-TITLE=10823 Chidlaw Rd unit 823:geo:-84.0432672,39.8001771
END:VEVENT
BEGIN:VEVENT
DTSTART;TZID=America/New_York:20250310T183000
DTEND;TZID=America/New_York:20250310T200000
DTSTAMP:20260424T123410
CREATED:20250215T073650Z
LAST-MODIFIED:20250306T145144Z
UID:10002894-1741631400-1741636800@area53aa.org
SUMMARY:District 28 Meeting
DESCRIPTION:2nd Monday of the month at 6:30 PM. \nCentral Vineyard Church\n55 E Blake Ave\, Columbus\, OH 43202
URL:https://area53aa.org/event/district-28-meeting/2025-03-10/
LOCATION:Central Vineyard Church\, 55 E Blake Ave\, Columbus\, 43202\, United States
CATEGORIES:Monthly District Meetings
ORGANIZER;CN="District 28":MAILTO:dcm28@area53aa.org
GEO:40.0118086;-83.0088728
X-APPLE-STRUCTURED-LOCATION;VALUE=URI;X-ADDRESS=Central Vineyard Church 55 E Blake Ave Columbus 43202 United States;X-APPLE-RADIUS=500;X-TITLE=55 E Blake Ave:geo:-83.0088728,40.0118086
END:VEVENT
BEGIN:VEVENT
DTSTART;TZID=America/New_York:20250309T100000
DTEND;TZID=America/New_York:20250309T160000
DTSTAMP:20260424T123410
CREATED:20250129T182933Z
LAST-MODIFIED:20250309T104030Z
UID:10001424-1741514400-1741536000@area53aa.org
SUMMARY:Area 53 Assembly March 2025
DESCRIPTION:Assembly Documents
URL:https://area53aa.org/event/area-53-assembly-march-2025/
LOCATION:Deer Creek Lodge & Conference Center\, 22300 State Park Road\, Mt. Sterling\, OH\, 43143\, United States
CATEGORIES:Area 53 Assembly,Area 53 News
GEO:39.615948;-83.2362629
X-APPLE-STRUCTURED-LOCATION;VALUE=URI;X-ADDRESS=Deer Creek Lodge & Conference Center 22300 State Park Road Mt. Sterling OH 43143 United States;X-APPLE-RADIUS=500;X-TITLE=22300 State Park Road:geo:-83.2362629,39.615948
END:VEVENT
BEGIN:VEVENT
DTSTART;TZID=America/New_York:20250307T150000
DTEND;TZID=America/New_York:20250309T150000
DTSTAMP:20260424T123410
CREATED:20241208T154451Z
LAST-MODIFIED:20250308T062710Z
UID:10001285-1741359600-1741532400@area53aa.org
SUMMARY:2025 Area 53 Mini Conference
DESCRIPTION:Online Registration is closed. You can still register for this event in person at the door.
URL:https://area53aa.org/event/2025-area-53-mini-conference-copy/
LOCATION:Deer Creek Lodge & Conference Center\, 22300 State Park Road\, Mt. Sterling\, OH\, 43143\, United States
CATEGORIES:Area 53 Mini-Conference,Area 53 News
GEO:39.615948;-83.2362629
X-APPLE-STRUCTURED-LOCATION;VALUE=URI;X-ADDRESS=Deer Creek Lodge & Conference Center 22300 State Park Road Mt. Sterling OH 43143 United States;X-APPLE-RADIUS=500;X-TITLE=22300 State Park Road:geo:-83.2362629,39.615948
END:VEVENT
BEGIN:VEVENT
DTSTART;TZID=America/New_York:20250305T180000
DTEND;TZID=America/New_York:20250305T190000
DTSTAMP:20260424T123410
CREATED:20250215T072558Z
LAST-MODIFIED:20250215T072558Z
UID:10002157-1741197600-1741201200@area53aa.org
SUMMARY:District 10 Meeting
DESCRIPTION:Group GSR’s and anyone interested in service work at the Group\, District\, and/or Area level should consider attending this meeting.  District meetings will occur regularly on the first Wednesday of every month\, beginning in March at the location above.  This is where information at the group level is exchanged with other groups\, representing District 10\, to Area 53 and further information from Area 53 passed onto GSR’s at the group level to share with members attending AA meetings. \nKroger\, 6417 Columbus Pike\, Lewis Center\, OH 43035\, USA
URL:https://area53aa.org/event/district-10-meeting/
LOCATION:Kroger\, 6417 Columbus Pike\, Lewis Center\, 43035\, United States
CATEGORIES:Monthly District Meetings
GEO:40.2031987;-83.0275992
X-APPLE-STRUCTURED-LOCATION;VALUE=URI;X-ADDRESS=Kroger 6417 Columbus Pike Lewis Center 43035 United States;X-APPLE-RADIUS=500;X-TITLE=6417 Columbus Pike:geo:-83.0275992,40.2031987
END:VEVENT
BEGIN:VEVENT
DTSTART;TZID=America/New_York:20250301T100000
DTEND;TZID=America/New_York:20250301T110000
DTSTAMP:20260424T123410
CREATED:20250215T070541Z
LAST-MODIFIED:20250215T070541Z
UID:10001870-1740823200-1740826800@area53aa.org
SUMMARY:CFC Quarterly Meeting
DESCRIPTION:Central Ohio Group Fellowship of Alcoholics Anonymous\n651 W Broad St\nColumbus\, OH 43215\nUSA \nLink: Zoom Meeting \nMeeting ID: 889 7192 9262 \nPass Code: area53
URL:https://area53aa.org/event/cfc-quarterly-meeting/
LOCATION:COGF\, 645 W. Broad St.\, Columbus\, 43215\, United States
CATEGORIES:Monthly Standing Committee Meetings
ORGANIZER;CN="Area 53 CFC Committee":MAILTO:corrections@area53aa.org
GEO:39.9599571;-83.0178443
X-APPLE-STRUCTURED-LOCATION;VALUE=URI;X-ADDRESS=COGF 645 W. Broad St. Columbus 43215 United States;X-APPLE-RADIUS=500;X-TITLE=645 W. Broad St.:geo:-83.0178443,39.9599571
END:VEVENT
BEGIN:VEVENT
DTSTART;TZID=America/New_York:20250301T090000
DTEND;TZID=America/New_York:20250301T223000
DTSTAMP:20260424T123410
CREATED:20250215T063850Z
LAST-MODIFIED:20250225T014619Z
UID:10002819-1740819600-1740868200@area53aa.org
SUMMARY:Archives Committee Meeting
DESCRIPTION:Central Ohio Group Fellowship \n651 West Broad Street \nColumbus\, OH 43215 \nhttps://us02web.zoom.us/j/83238428181?pwd=cjJiMnpJd3ptcE9XZTZvOVdWU1NOZz09
URL:https://area53aa.org/event/archives-committee-meeting-2/
LOCATION:COGF\, 645 W. Broad St.\, Columbus\, 43215\, United States
CATEGORIES:Monthly Standing Committee Meetings
ORGANIZER;CN="Area 53 Archives Committee":MAILTO:archives@area53aa.org
GEO:39.9599571;-83.0178443
X-APPLE-STRUCTURED-LOCATION;VALUE=URI;X-ADDRESS=COGF 645 W. Broad St. Columbus 43215 United States;X-APPLE-RADIUS=500;X-TITLE=645 W. Broad St.:geo:-83.0178443,39.9599571
END:VEVENT
BEGIN:VEVENT
DTSTART;TZID=America/New_York:20250222T173000
DTEND;TZID=America/New_York:20250222T200000
DTSTAMP:20260424T123410
CREATED:20241218T124135Z
LAST-MODIFIED:20250221T122108Z
UID:10001289-1740245400-1740254400@area53aa.org
SUMMARY:Early Evening Faith and Hope Group 34th Anniversary Celebration!
DESCRIPTION:Join us as we celebrate 34 years of 5:45 Early Evening faith\, hope\, and fellowship! Date: Saturday\, February 22nd\, 2024 Time: 5:30 PM – 8:00 PM Location: Trinity United Church of Christ\, 1180 Shanley Drive\, Columbus\, OH 43224 What to Expect: \n\nFood: We’ll have pizza and a potluck! Please bring your favorite side dish to share.\nFellowship: Connect with friends and members of the Early Evening Faith and Hope Group.\nAA Speaker: A special AA speaker (TBD) will share their story at 7:00 PM.\n\nCome celebrate with us! All are welcome.
URL:https://area53aa.org/event/early-evening-faith-and-hope-group-34th-anniversary-celebration/
LOCATION:Trinity United Church of Christ\, 1180 Shanley Dr\, Columbus\, OH\, 43224\, United States
CATEGORIES:Area 53 News,Group Anniversary
GEO:40.0573375;-82.9871568
X-APPLE-STRUCTURED-LOCATION;VALUE=URI;X-ADDRESS=Trinity United Church of Christ 1180 Shanley Dr Columbus OH 43224 United States;X-APPLE-RADIUS=500;X-TITLE=1180 Shanley Dr:geo:-82.9871568,40.0573375
END:VEVENT
BEGIN:VEVENT
DTSTART;TZID=America/New_York:20250220T143000
DTEND;TZID=America/New_York:20250220T153000
DTSTAMP:20260424T123410
CREATED:20250218T002705Z
LAST-MODIFIED:20250218T002705Z
UID:10002756-1740061800-1740065400@area53aa.org
SUMMARY:Intergroup Liaison Committee Meeting
DESCRIPTION:Topic: Inter group liaison committee meeting\nTime: Feb 20\, 2025 02:30 PM Eastern Time (US and Canada)\nJoin Zoom Meeting\nhttps://us02web.zoom.us/j/83643249018?pwd=ueDwcgn2B1DFTKaaZig2CUJzybG7de.1 \nMeeting ID: 836 4324 9018\nPasscode: area53
URL:https://area53aa.org/event/intergroup-liaison-committee-meeting/
LOCATION:https://us02web.zoom.us/j/83643249018?pwd=ueDwcgn2B1DFTKaaZig2CUJzybG7de.1
END:VEVENT
BEGIN:VEVENT
DTSTART;TZID=America/New_York:20250217T071500
DTEND;TZID=America/New_York:20250217T093000
DTSTAMP:20260424T123410
CREATED:20250116T151303Z
LAST-MODIFIED:20250116T151445Z
UID:10001359-1739776500-1739784600@area53aa.org
SUMMARY:New Freedom Anniversary Breakfast - Feb 17 2025
DESCRIPTION:We invite you to celebrate with us at the New Freedom Anniversary Breakfast! \nDate: Sunday\, February 17th\, 2025\nTime: 7:15 AM\nLocation: 85 W. Bridge Street\, Dublin\, Ohio 43017\nEnjoy a delicious breakfast\, reconnect with friends\, and hear from special guest speaker\, Matt W.\nWe look forward to celebrating with you! \nDownload flyer here. Or Click Image below. 
URL:https://area53aa.org/event/new-freedom-anniversary-breakfast-feb-17-2025/
LOCATION:Dublin Community Church\, 81 West Bridge Street\, Dublin\, Ohio\, 43017
CATEGORIES:Area 53 News,Group Anniversary
GEO:40.0986599;-83.1158895
X-APPLE-STRUCTURED-LOCATION;VALUE=URI;X-ADDRESS=Dublin Community Church 81 West Bridge Street Dublin Ohio 43017;X-APPLE-RADIUS=500;X-TITLE=81 West Bridge Street:geo:-83.1158895,40.0986599
END:VEVENT
BEGIN:VEVENT
DTSTART;TZID=America/New_York:20250215T100000
DTEND;TZID=America/New_York:20250215T123000
DTSTAMP:20260424T123410
CREATED:20250110T135259Z
LAST-MODIFIED:20250110T135654Z
UID:10001358-1739613600-1739622600@area53aa.org
SUMMARY:Area 53 Archives Committee Workshop - Feb 15th 2025
DESCRIPTION:Area 53 Archives Committee Workshop\nTime: 10:00 am 12:30 pm \nDate: 02/15/2025 \nLocation: \nPeace Lutheran Church  \n455 Clark State Road \nGahanna\, Ohio\, 43230 \nCoffee and refreshments will be served. This is a free event\, and all AA members are welcome. The workshop will focus on the following: \n\nMarkings on the Journey\, the GSO Archives Film.\nPurpose and Activities of the Area 53 Archives Committee\, Teri G presenter.\nHank P. and the Big Book\, A PowerPoint Presentation\, Chris J presenter.\n\nPhone tlgardner7@yahoo.com (614) 432-5437 9:00 am \n				\n				\n				\n	Click Image to download Flyer or HERE
URL:https://area53aa.org/event/area-53-archives-committee-workshop-feb-15th-2025/
LOCATION:Peace Lutheran Church\, 455 Clark State Rd\, Gahanna\, Ohio\, 43230
CATEGORIES:Area 53 Committee Workshops,Area 53 News
GEO:40.0237289;-82.8641311
X-APPLE-STRUCTURED-LOCATION;VALUE=URI;X-ADDRESS=Peace Lutheran Church 455 Clark State Rd Gahanna Ohio 43230;X-APPLE-RADIUS=500;X-TITLE=455 Clark State Rd:geo:-82.8641311,40.0237289
END:VEVENT
BEGIN:VEVENT
DTSTART;TZID=America/New_York:20250214T043000
DTEND;TZID=America/New_York:20250214T050000
DTSTAMP:20260424T123410
CREATED:20250214T090904Z
LAST-MODIFIED:20250214T090904Z
UID:10001610-1739507400-1739509200@area53aa.org
SUMMARY:Test Hybrid Meeting
DESCRIPTION:
URL:https://area53aa.org/event/test-hybrid-meeting/
LOCATION:https://us02web.zoom.us/j/87126774685?pwd=DuUhENiODUjzUvH0wEvRuO01jTajYa.1
END:VEVENT
BEGIN:VEVENT
DTSTART;TZID=America/New_York:20250207T080000
DTEND;TZID=America/New_York:20250207T233000
DTSTAMP:20260424T123410
CREATED:20250204T092103Z
LAST-MODIFIED:20250204T092609Z
UID:10001426-1738915200-1738971000@area53aa.org
SUMMARY:Register for Rooms Mini Conference
DESCRIPTION:Last Day to register for rooms for the 2025 Area 53 Mini Conference. \n			\n							Call Deer Creek\n					\n			\n							Deer Creek Website
URL:https://area53aa.org/event/register-for-rooms-mini-conference/
LOCATION:Deer Creek Lodge & Conference Center\, 22300 State Park Road\, Mt. Sterling\, OH\, 43143\, United States
CATEGORIES:Area 53 Mini-Conference
ORGANIZER;CN="Area 53 Mini-Conference Committee":MAILTO:altdelegate@area53aa.org
GEO:39.615948;-83.2362629
X-APPLE-STRUCTURED-LOCATION;VALUE=URI;X-ADDRESS=Deer Creek Lodge & Conference Center 22300 State Park Road Mt. Sterling OH 43143 United States;X-APPLE-RADIUS=500;X-TITLE=22300 State Park Road:geo:-83.2362629,39.615948
END:VEVENT
BEGIN:VEVENT
DTSTART;TZID=America/New_York:20250201T100000
DTEND;TZID=America/New_York:20250201T150000
DTSTAMP:20260424T123410
CREATED:20250108T205214Z
LAST-MODIFIED:20250108T210057Z
UID:10001357-1738404000-1738422000@area53aa.org
SUMMARY:District 19 Three Legacies Workshop
DESCRIPTION:Join District 19 for the Three Legacies Workshop.\nFeaturing Speakers Howie H & John C\nWhen: February 1\, 2025 \nTime: 10 AM – 3 PM \nWhere: 733 State Route 41 SW\, Washington Courthouse\, OH 43160 \nContact JP with questions: (513) 207-2113
URL:https://area53aa.org/event/district-19-three-legacies-workshop/
LOCATION:All Saints Church\, 733 State Rte 41\,\, Washington Court House\, OH\, 43160\, United States
CATEGORIES:Area 53 News,District Events
ORGANIZER;CN="District 19":MAILTO:dcm19@area53aa.org
GEO:39.5240735;-83.4437437
X-APPLE-STRUCTURED-LOCATION;VALUE=URI;X-ADDRESS=All Saints Church 733 State Rte 41 Washington Court House OH 43160 United States;X-APPLE-RADIUS=500;X-TITLE=733 State Rte 41\,:geo:-83.4437437,39.5240735
END:VEVENT
BEGIN:VEVENT
DTSTART;TZID=America/New_York:20250125T090000
DTEND;TZID=America/New_York:20250125T100000
DTSTAMP:20260424T123410
CREATED:20241220T021707Z
LAST-MODIFIED:20250214T085227Z
UID:10001290-1737795600-1737799200@area53aa.org
SUMMARY:Archives Committee Meeting
DESCRIPTION:Mission Statement\nThe Area 53 Archives Committee works to aid groups\, districts and the Area Committees in preserving our AA story. This includes maintaining a repository of valuable artifacts and records from our past and present to ensure the integrity of the Area 53 history. \nOur Collection \nHoldings of the Area 53 Archives Committee include the the physical collection of Area 53 documents\, speaker recordings\, and memorabilia as well as online oral histories.  We are guided in this work by resources from the AA General Service Office and the National AA Archives Workshop. \nJoin Zoom Meeting https://us02web.zoom.us/j/81919369048?pwd=i1WuivYqKdtLHwPdcbLbviTMQNehVz.1 \nMeeting ID: 832 3842 8181 \nPasscode: Archives
URL:https://area53aa.org/event/archives-committee-meeting/
LOCATION:OH
CATEGORIES:Monthly Standing Committee Meetings
END:VEVENT
BEGIN:VEVENT
DTSTART;TZID=America/New_York:20250112T130000
DTEND;TZID=America/New_York:20250112T160000
DTSTAMP:20260424T123410
CREATED:20250102T221635Z
LAST-MODIFIED:20250102T221928Z
UID:10001355-1736686800-1736697600@area53aa.org
SUMMARY:Area Planning Committee Meeting
DESCRIPTION:Join us for the Area Planing Committee Meeting. \nWhen: January 12th 2025 \nTime: 1:00 PM – 4:00 PM \nWhere: \nHoge Memorial Presbyterian Church \n\n\n\n2930 West Broad Street\nColumbus\, OH 43204
URL:https://area53aa.org/event/area-planning-committee-meeting-01-12-2025/
LOCATION:Hoge Memorial Presbyterian Church\, 2930 West Broad Street\, Columbus\, OH\, 43204\, United States
CATEGORIES:Area 53 News,Area Planning Committee Meetings
GEO:39.9552438;-83.0786673
X-APPLE-STRUCTURED-LOCATION;VALUE=URI;X-ADDRESS=Hoge Memorial Presbyterian Church 2930 West Broad Street Columbus OH 43204 United States;X-APPLE-RADIUS=500;X-TITLE=2930 West Broad Street:geo:-83.0786673,39.9552438
END:VEVENT
BEGIN:VEVENT
DTSTART;TZID=America/New_York:20250112T100000
DTEND;TZID=America/New_York:20250112T120000
DTSTAMP:20260424T123410
CREATED:20250102T221952Z
LAST-MODIFIED:20250102T222114Z
UID:10001356-1736676000-1736683200@area53aa.org
SUMMARY:DCM Meeting Jan 12th 2025
DESCRIPTION:Join us for the DCM Meeting. \nWhen: January 12th 2025 \nTime: 10:00 AM – 12:00 PM \nWhere: \nHoge Memorial Presbyterian Church \n\n\n\n2930 West Broad Street\nColumbus\, OH 43204
URL:https://area53aa.org/event/dcm-meeting-jan-12th-2025/
LOCATION:Hoge Memorial Presbyterian Church\, 2930 West Broad Street\, Columbus\, OH\, 43204\, United States
GEO:39.9552438;-83.0786673
X-APPLE-STRUCTURED-LOCATION;VALUE=URI;X-ADDRESS=Hoge Memorial Presbyterian Church 2930 West Broad Street Columbus OH 43204 United States;X-APPLE-RADIUS=500;X-TITLE=2930 West Broad Street:geo:-83.0786673,39.9552438
END:VEVENT
BEGIN:VEVENT
DTSTART;TZID=America/New_York:20241231T210000
DTEND;TZID=America/New_York:20250101T000000
DTSTAMP:20260424T123410
CREATED:20241212T115038Z
LAST-MODIFIED:20241220T160620Z
UID:10001286-1735678800-1735689600@area53aa.org
SUMMARY:OYPAA - XLII New Years Eve Party
DESCRIPTION:
URL:https://area53aa.org/event/oypaanyeparty/
LOCATION:Indianola Presbyterian Church\, 1970 Waldeck Ave.\, Columbus\, OH\, 43201
ORGANIZER;CN="OYPAA":MAILTO:oypaa38@gmail.com
GEO:40.0031531;-83.0051248
X-APPLE-STRUCTURED-LOCATION;VALUE=URI;X-ADDRESS=Indianola Presbyterian Church 1970 Waldeck Ave. Columbus OH 43201;X-APPLE-RADIUS=500;X-TITLE=1970 Waldeck Ave.:geo:-83.0051248,40.0031531
END:VEVENT
BEGIN:VEVENT
DTSTART;TZID=America/New_York:20241231T190000
DTEND;TZID=America/New_York:20241231T220000
DTSTAMP:20260424T123410
CREATED:20241124T133438Z
LAST-MODIFIED:20241202T002525Z
UID:10001284-1735671600-1735682400@area53aa.org
SUMMARY:New Year Eve Party - District 11
DESCRIPTION:Dance the night away with good music and lots of fun games. Please bring an appetizer to share. Draw a ticket to give a 15 minute lead. See you there.
URL:https://area53aa.org/event/new-year-eve-party-district-11/
LOCATION:MARYSVILLE CHURCH OF THE NAZARENE\, 1126 N Maple St.\, MARYSVILLE\,\, Ohio\, 43040
CATEGORIES:Area 53 News,District Events
ORGANIZER;CN="District 11":MAILTO:dcm11@area53aa.org
GEO:40.2511589;-83.3721775
X-APPLE-STRUCTURED-LOCATION;VALUE=URI;X-ADDRESS=MARYSVILLE CHURCH OF THE NAZARENE 1126 N Maple St. MARYSVILLE Ohio 43040;X-APPLE-RADIUS=500;X-TITLE=1126 N Maple St.:geo:-83.3721775,40.2511589
END:VEVENT
END:VCALENDAR