BEGIN:VCALENDAR
VERSION:2.0
PRODID:-//Area 53 AA - ECPv6.15.20//NONSGML v1.0//EN
CALSCALE:GREGORIAN
METHOD:PUBLISH
X-WR-CALNAME:Area 53 AA
X-ORIGINAL-URL:https://area53aa.org
X-WR-CALDESC:Events for Area 53 AA
REFRESH-INTERVAL;VALUE=DURATION:PT1H
X-Robots-Tag:noindex
X-PUBLISHED-TTL:PT1H
BEGIN:VTIMEZONE
TZID:America/New_York
BEGIN:DAYLIGHT
TZOFFSETFROM:-0500
TZOFFSETTO:-0400
TZNAME:EDT
DTSTART:20240310T070000
END:DAYLIGHT
BEGIN:STANDARD
TZOFFSETFROM:-0400
TZOFFSETTO:-0500
TZNAME:EST
DTSTART:20241103T060000
END:STANDARD
BEGIN:DAYLIGHT
TZOFFSETFROM:-0500
TZOFFSETTO:-0400
TZNAME:EDT
DTSTART:20250309T070000
END:DAYLIGHT
BEGIN:STANDARD
TZOFFSETFROM:-0400
TZOFFSETTO:-0500
TZNAME:EST
DTSTART:20251102T060000
END:STANDARD
BEGIN:DAYLIGHT
TZOFFSETFROM:-0500
TZOFFSETTO:-0400
TZNAME:EDT
DTSTART:20260308T070000
END:DAYLIGHT
BEGIN:STANDARD
TZOFFSETFROM:-0400
TZOFFSETTO:-0500
TZNAME:EST
DTSTART:20261101T060000
END:STANDARD
END:VTIMEZONE
BEGIN:VEVENT
DTSTART;TZID=America/New_York:20250802T160000
DTEND;TZID=America/New_York:20250802T200000
DTSTAMP:20260423T075623
CREATED:20250701T112516Z
LAST-MODIFIED:20250707T170848Z
UID:10003335-1754150400-1754164800@area53aa.org
SUMMARY:District 11 Cookout
DESCRIPTION:Save the Date \n5th Annual Red\, White and Sober \n\n\n			\n					\n						Download Flyer
URL:https://area53aa.org/event/district-11-cookout/
LOCATION:American Legion Park\, 205 Park St\, Marysville\, 43040\, United States
GEO:40.3528816;-83.2662663
X-APPLE-STRUCTURED-LOCATION;VALUE=URI;X-ADDRESS=American Legion Park 205 Park St Marysville 43040 United States;X-APPLE-RADIUS=500;X-TITLE=205 Park St:geo:-83.2662663,40.3528816
END:VEVENT
BEGIN:VEVENT
DTSTART;TZID=America/New_York:20250802T110000
DTEND;TZID=America/New_York:20250802T120000
DTSTAMP:20260423T075623
CREATED:20250718T204218Z
LAST-MODIFIED:20250718T204219Z
UID:10001165-1754132400-1754136000@area53aa.org
SUMMARY:Grapevine Committee Monthly Meeting
DESCRIPTION:Save the Date \n5th Annual Red\, White and Sober \n\n\n			\n					\n						Download Flyer
URL:https://area53aa.org/event/grapevine-committee-monthly-meeting-2-2-2/2025-08-02/
LOCATION:COGF\, 645 W. Broad St.\, Columbus\, 43215\, United States
CATEGORIES:Monthly Standing Committee Meetings
ORGANIZER;CN="Area 53 Grapevine Committee":MAILTO:grapevine@area53aa.org
GEO:39.9599571;-83.0178443
X-APPLE-STRUCTURED-LOCATION;VALUE=URI;X-ADDRESS=COGF 645 W. Broad St. Columbus 43215 United States;X-APPLE-RADIUS=500;X-TITLE=645 W. Broad St.:geo:-83.0178443,39.9599571
END:VEVENT
BEGIN:VEVENT
DTSTART;TZID=America/New_York:20250802T100000
DTEND;TZID=America/New_York:20250802T110000
DTSTAMP:20260423T075623
CREATED:20250215T071306Z
LAST-MODIFIED:20250215T071306Z
UID:10001888-1754128800-1754132400@area53aa.org
SUMMARY:District 1 Meeting
DESCRIPTION:Save the Date \n5th Annual Red\, White and Sober \n\n\n			\n					\n						Download Flyer
URL:https://area53aa.org/event/district-1-meeting/2025-08-02/
LOCATION:Recovery Zone\, 440 South St. Paris Street\, Bellefontaine\, 43311\, United States
CATEGORIES:Monthly District Meetings
ORGANIZER;CN="District 1":MAILTO:dcm01@area53aa.org
GEO:40.3573329;-83.7743358
X-APPLE-STRUCTURED-LOCATION;VALUE=URI;X-ADDRESS=Recovery Zone 440 South St. Paris Street Bellefontaine 43311 United States;X-APPLE-RADIUS=500;X-TITLE=440 South St. Paris Street:geo:-83.7743358,40.3573329
END:VEVENT
BEGIN:VEVENT
DTSTART;TZID=America/New_York:20250727T173000
DTEND;TZID=America/New_York:20250727T183000
DTSTAMP:20260423T075623
CREATED:20250215T081335Z
LAST-MODIFIED:20250221T122247Z
UID:10002580-1753637400-1753641000@area53aa.org
SUMMARY:District 34 Meeting
DESCRIPTION:Save the Date \n5th Annual Red\, White and Sober \n\n\n			\n					\n						Download Flyer
URL:https://area53aa.org/event/district-34-meeting/2025-07-27/
LOCATION:Hoge Memorial Presbyterian Church\, 2930 West Broad Street\, Columbus\, OH\, 43204\, United States
CATEGORIES:Monthly District Meetings
GEO:39.9552438;-83.0786673
X-APPLE-STRUCTURED-LOCATION;VALUE=URI;X-ADDRESS=Hoge Memorial Presbyterian Church 2930 West Broad Street Columbus OH 43204 United States;X-APPLE-RADIUS=500;X-TITLE=2930 West Broad Street:geo:-83.0786673,39.9552438
END:VEVENT
BEGIN:VEVENT
DTSTART;TZID=America/New_York:20250726T160000
DTEND;TZID=America/New_York:20250726T193000
DTSTAMP:20260423T075623
CREATED:20250603T153656Z
LAST-MODIFIED:20250707T170842Z
UID:10003328-1753545600-1753558200@area53aa.org
SUMMARY:Original Hillbilly Group of AA 57th Anniversary
DESCRIPTION:Save the Date \n5th Annual Red\, White and Sober \n\n\n			\n					\n						Download Flyer
URL:https://area53aa.org/event/original-hillbilly-group-of-aa-57th-anniversary/
LOCATION:Belle Valley Park\, 109 Main St\, Belle Valley\, 43717\, United States
GEO:39.7897954;-81.5542094
X-APPLE-STRUCTURED-LOCATION;VALUE=URI;X-ADDRESS=Belle Valley Park 109 Main St Belle Valley 43717 United States;X-APPLE-RADIUS=500;X-TITLE=109 Main St:geo:-81.5542094,39.7897954
END:VEVENT
BEGIN:VEVENT
DTSTART;TZID=America/New_York:20250726T110000
DTEND;TZID=America/New_York:20250726T120000
DTSTAMP:20260423T075623
CREATED:20250220T144020Z
LAST-MODIFIED:20250221T122239Z
UID:10002764-1753527600-1753531200@area53aa.org
SUMMARY:Accessibilities Committee Meeting
DESCRIPTION:Save the Date \n5th Annual Red\, White and Sober \n\n\n			\n					\n						Download Flyer
URL:https://area53aa.org/event/accessibilities-committee-meeting/2025-07-26/
LOCATION:Online Meeting
CATEGORIES:Monthly Standing Committee Meetings
ORGANIZER;CN="Accessibilities Committee":MAILTO:accessibilities@area53aa.org
END:VEVENT
BEGIN:VEVENT
DTSTART;TZID=America/New_York:20250726T090000
DTEND;TZID=America/New_York:20250726T223000
DTSTAMP:20260423T075623
CREATED:20250327T113843Z
LAST-MODIFIED:20250327T113844Z
UID:10003022-1753520400-1753569000@area53aa.org
SUMMARY:Archives Committee Meeting
DESCRIPTION:Save the Date \n5th Annual Red\, White and Sober \n\n\n			\n					\n						Download Flyer
URL:https://area53aa.org/event/archives-committee-meeting-2-2/2025-07-26/
LOCATION:COGF\, 645 W. Broad St.\, Columbus\, 43215\, United States
CATEGORIES:Monthly Standing Committee Meetings
ORGANIZER;CN="Area 53 Archives Committee":MAILTO:archives@area53aa.org
GEO:39.9599571;-83.0178443
X-APPLE-STRUCTURED-LOCATION;VALUE=URI;X-ADDRESS=COGF 645 W. Broad St. Columbus 43215 United States;X-APPLE-RADIUS=500;X-TITLE=645 W. Broad St.:geo:-83.0178443,39.9599571
END:VEVENT
BEGIN:VEVENT
DTSTART;TZID=America/New_York:20250725T203000
DTEND;TZID=America/New_York:20250725T230000
DTSTAMP:20260423T075623
CREATED:20250125T075337Z
LAST-MODIFIED:20250125T075636Z
UID:10001366-1753475400-1753484400@area53aa.org
SUMMARY:OYPAA - Game Night
DESCRIPTION:Save the Date \n5th Annual Red\, White and Sober \n\n\n			\n					\n						Download Flyer
URL:https://area53aa.org/event/oypaa-game-night/2025-07-25/
LOCATION:Indianola Presbyterian Church\, 1970 Waldeck Ave.\, Columbus\, OH\, 43201
CATEGORIES:Area 53 News
ORGANIZER;CN="OYPAA":MAILTO:oypaa38@gmail.com
GEO:40.0031531;-83.0051248
X-APPLE-STRUCTURED-LOCATION;VALUE=URI;X-ADDRESS=Indianola Presbyterian Church 1970 Waldeck Ave. Columbus OH 43201;X-APPLE-RADIUS=500;X-TITLE=1970 Waldeck Ave.:geo:-83.0051248,40.0031531
END:VEVENT
BEGIN:VEVENT
DTSTART;TZID=America/New_York:20250723T183000
DTEND;TZID=America/New_York:20250723T193000
DTSTAMP:20260423T075623
CREATED:20250215T081607Z
LAST-MODIFIED:20250215T081607Z
UID:10002640-1753295400-1753299000@area53aa.org
SUMMARY:District 15 Meeting
DESCRIPTION:Save the Date \n5th Annual Red\, White and Sober \n\n\n			\n					\n						Download Flyer
URL:https://area53aa.org/event/district-15-meeting/2025-07-23/
LOCATION:Serenity House Marietta\, 431 3rd Street\, Marietta\, OH\, 45750\, United States
CATEGORIES:Monthly District Meetings
ORGANIZER;CN="District 15":MAILTO:dcm15@area53aa.org
GEO:39.4195607;-81.4571447
X-APPLE-STRUCTURED-LOCATION;VALUE=URI;X-ADDRESS=Serenity House Marietta 431 3rd Street Marietta OH 45750 United States;X-APPLE-RADIUS=500;X-TITLE=431 3rd Street:geo:-81.4571447,39.4195607
END:VEVENT
BEGIN:VEVENT
DTSTART;TZID=America/New_York:20250721T183000
DTEND;TZID=America/New_York:20250721T200000
DTSTAMP:20260423T075623
CREATED:20250717T220340Z
LAST-MODIFIED:20250717T220340Z
UID:10003406-1753122600-1753128000@area53aa.org
SUMMARY:District 28 Meeting
DESCRIPTION:Save the Date \n5th Annual Red\, White and Sober \n\n\n			\n					\n						Download Flyer
URL:https://area53aa.org/event/district-28-meeting-2/2025-07-21/
LOCATION:Central Vineyard Church\, 55 E Blake Ave\, Columbus\, 43202\, United States
CATEGORIES:Monthly District Meetings
ORGANIZER;CN="District 28":MAILTO:dcm28@area53aa.org
GEO:40.0118086;-83.0088728
X-APPLE-STRUCTURED-LOCATION;VALUE=URI;X-ADDRESS=Central Vineyard Church 55 E Blake Ave Columbus 43202 United States;X-APPLE-RADIUS=500;X-TITLE=55 E Blake Ave:geo:-83.0088728,40.0118086
END:VEVENT
BEGIN:VEVENT
DTSTART;TZID=America/New_York:20250720T180000
DTEND;TZID=America/New_York:20250720T190000
DTSTAMP:20260423T075623
CREATED:20250215T081126Z
LAST-MODIFIED:20250215T081126Z
UID:10002520-1753034400-1753038000@area53aa.org
SUMMARY:District 19 Meeting
DESCRIPTION:Save the Date \n5th Annual Red\, White and Sober \n\n\n			\n					\n						Download Flyer
URL:https://area53aa.org/event/district-19-meeting/2025-07-20/
LOCATION:Sabina United Methodist Church\, 61 W Elm St\, Sabina\, 45169\, United States
CATEGORIES:Monthly District Meetings
ORGANIZER;CN="District 19":MAILTO:dcm19@area53aa.org
GEO:39.4903491;-83.6374472
X-APPLE-STRUCTURED-LOCATION;VALUE=URI;X-ADDRESS=Sabina United Methodist Church 61 W Elm St Sabina 45169 United States;X-APPLE-RADIUS=500;X-TITLE=61 W Elm St:geo:-83.6374472,39.4903491
END:VEVENT
BEGIN:VEVENT
DTSTART;TZID=America/New_York:20250720T160000
DTEND;TZID=America/New_York:20250720T170000
DTSTAMP:20260423T075623
CREATED:20250215T080944Z
LAST-MODIFIED:20250215T080944Z
UID:10002461-1753027200-1753030800@area53aa.org
SUMMARY:District 12 Meeting
DESCRIPTION:Save the Date \n5th Annual Red\, White and Sober \n\n\n			\n					\n						Download Flyer
URL:https://area53aa.org/event/district-12-meeting/2025-07-20/
LOCATION:Springfield Alano Club Inc\, 1557 E Main St\, Springfield\, 45503\, United States
CATEGORIES:Monthly District Meetings
ORGANIZER;CN="District 12":MAILTO:dcm12@area53aa.org
GEO:39.9231477;-83.7860254
X-APPLE-STRUCTURED-LOCATION;VALUE=URI;X-ADDRESS=Springfield Alano Club Inc 1557 E Main St Springfield 45503 United States;X-APPLE-RADIUS=500;X-TITLE=1557 E Main St:geo:-83.7860254,39.9231477
END:VEVENT
BEGIN:VEVENT
DTSTART;TZID=America/New_York:20250720T150000
DTEND;TZID=America/New_York:20250720T163000
DTSTAMP:20260423T075623
CREATED:20250208T233428Z
LAST-MODIFIED:20250215T062320Z
UID:10001694-1753023600-1753029000@area53aa.org
SUMMARY:CPC/PI Committee Meeting
DESCRIPTION:Save the Date \n5th Annual Red\, White and Sober \n\n\n			\n					\n						Download Flyer
URL:https://area53aa.org/event/cpc-pi-committee-meeting-feb-16-2025/2025-07-20/
LOCATION:Franklinton Library\, 1061 W Town St\, Columbus\, 43222\, United States
CATEGORIES:Monthly Standing Committee Meetings
ORGANIZER;CN="Area 53 CPC-PI Committee":MAILTO:cpcpi@area53aa.org
GEO:39.9551728;-83.0277954
X-APPLE-STRUCTURED-LOCATION;VALUE=URI;X-ADDRESS=Franklinton Library 1061 W Town St Columbus 43222 United States;X-APPLE-RADIUS=500;X-TITLE=1061 W Town St:geo:-83.0277954,39.9551728
END:VEVENT
BEGIN:VEVENT
DTSTART;TZID=America/New_York:20250719T120000
DTEND;TZID=America/New_York:20250719T130000
DTSTAMP:20260423T075623
CREATED:20240118T035629Z
LAST-MODIFIED:20250215T054843Z
UID:10000445-1752926400-1752930000@area53aa.org
SUMMARY:Treatment Facilities Committee Monthly Meeting
DESCRIPTION:Save the Date \n5th Annual Red\, White and Sober \n\n\n			\n					\n						Download Flyer
URL:https://area53aa.org/event/treatment-facilities-committee-monthly-meeting/2025-07-19/
LOCATION:COGF\, 645 W. Broad St.\, Columbus\, 43215\, United States
CATEGORIES:Monthly Standing Committee Meetings
ORGANIZER;CN="Area 53 Treatment Facilities Committee":MAILTO:treatment@area53aa.org
GEO:39.9599571;-83.0178443
X-APPLE-STRUCTURED-LOCATION;VALUE=URI;X-ADDRESS=COGF 645 W. Broad St. Columbus 43215 United States;X-APPLE-RADIUS=500;X-TITLE=645 W. Broad St.:geo:-83.0178443,39.9599571
END:VEVENT
BEGIN:VEVENT
DTSTART;TZID=America/New_York:20250719T110000
DTEND;TZID=America/New_York:20250719T120000
DTSTAMP:20260423T075623
CREATED:20250215T074344Z
LAST-MODIFIED:20250215T074344Z
UID:10002401-1752922800-1752926400@area53aa.org
SUMMARY:District 21 Meeting
DESCRIPTION:Save the Date \n5th Annual Red\, White and Sober \n\n\n			\n					\n						Download Flyer
URL:https://area53aa.org/event/district-21-meeting/2025-07-19/
LOCATION:Wheelersburg United Methodist Church\, 11605 Gallia Pike Rd\, Wheelersburg\, 45694\, 45694\, United States
CATEGORIES:Monthly District Meetings
ORGANIZER;CN="District 21":MAILTO:dcm21@area53aa.org
GEO:38.7278325;-82.8543713
X-APPLE-STRUCTURED-LOCATION;VALUE=URI;X-ADDRESS=Wheelersburg United Methodist Church 11605 Gallia Pike Rd Wheelersburg 45694 45694 United States;X-APPLE-RADIUS=500;X-TITLE=11605 Gallia Pike Rd:geo:-82.8543713,38.7278325
END:VEVENT
BEGIN:VEVENT
DTSTART;TZID=America/New_York:20250719T093000
DTEND;TZID=America/New_York:20250719T103000
DTSTAMP:20260423T075623
CREATED:20250215T073903Z
LAST-MODIFIED:20250215T073903Z
UID:10002342-1752917400-1752921000@area53aa.org
SUMMARY:District 26 Meeting
DESCRIPTION:Save the Date \n5th Annual Red\, White and Sober \n\n\n			\n					\n						Download Flyer
URL:https://area53aa.org/event/district-26-meeting/2025-07-19/
LOCATION:Whitehall United Methodist Church\, 525 Bernhard Road\, Columbus\, Ohio
CATEGORIES:Monthly District Meetings
ORGANIZER;CN="District 26":MAILTO:dcm26@area53aa.org
GEO:39.9640674;-82.8804352
X-APPLE-STRUCTURED-LOCATION;VALUE=URI;X-ADDRESS=Whitehall United Methodist Church 525 Bernhard Road Columbus Ohio;X-APPLE-RADIUS=500;X-TITLE=525 Bernhard Road:geo:-82.8804352,39.9640674
END:VEVENT
BEGIN:VEVENT
DTSTART;TZID=America/New_York:20250719T080000
DTEND;TZID=America/New_York:20250719T170000
DTSTAMP:20260423T075623
CREATED:20250215T055600Z
LAST-MODIFIED:20250215T055600Z
UID:10001635-1752912000-1752944400@area53aa.org
SUMMARY:District 7 Meeting
DESCRIPTION:Save the Date \n5th Annual Red\, White and Sober \n\n\n			\n					\n						Download Flyer
URL:https://area53aa.org/event/district-7-meeting/2025-07-19/
LOCATION:I.s.r.c.\, 554 Moxahala Ave\, Zanesville\, 43701\, United States
CATEGORIES:Monthly District Meetings
ORGANIZER;CN="District 7":MAILTO:dcm07@area53aa.org
GEO:39.9302383;-82.0053096
X-APPLE-STRUCTURED-LOCATION;VALUE=URI;X-ADDRESS=I.s.r.c. 554 Moxahala Ave Zanesville 43701 United States;X-APPLE-RADIUS=500;X-TITLE=554 Moxahala Ave:geo:-82.0053096,39.9302383
END:VEVENT
BEGIN:VEVENT
DTSTART;TZID=America/New_York:20250713T130000
DTEND;TZID=America/New_York:20250713T160000
DTSTAMP:20260423T075623
CREATED:20250701T115021Z
LAST-MODIFIED:20250709T153132Z
UID:10003336-1752411600-1752422400@area53aa.org
SUMMARY:Area Planning Committee July 13
DESCRIPTION:Save the Date \n5th Annual Red\, White and Sober \n\n\n			\n					\n						Download Flyer
URL:https://area53aa.org/event/area-planning-committee-july-13/
LOCATION:Hoge Memorial Presbyterian Church\, 2930 West Broad Street\, Columbus\, OH\, 43204\, United States
GEO:39.9552438;-83.0786673
X-APPLE-STRUCTURED-LOCATION;VALUE=URI;X-ADDRESS=Hoge Memorial Presbyterian Church 2930 West Broad Street Columbus OH 43204 United States;X-APPLE-RADIUS=500;X-TITLE=2930 West Broad Street:geo:-83.0786673,39.9552438
END:VEVENT
BEGIN:VEVENT
DTSTART;TZID=America/New_York:20250713T100000
DTEND;TZID=America/New_York:20250713T120000
DTSTAMP:20260423T075623
CREATED:20250701T120140Z
LAST-MODIFIED:20250701T120140Z
UID:10003337-1752400800-1752408000@area53aa.org
SUMMARY:DCM Meeting July
DESCRIPTION:Save the Date \n5th Annual Red\, White and Sober \n\n\n			\n					\n						Download Flyer
URL:https://area53aa.org/event/dcm-meeting-july/
LOCATION:Hoge Memorial Presbyterian Church\, 2930 West Broad Street\, Columbus\, OH\, 43204\, United States
CATEGORIES:AREA 53 EVENTS,Area Planning Committee Meetings
ORGANIZER;CN="Area 53 DCMC":MAILTO:dcmc@area53aa.org
GEO:39.9552438;-83.0786673
X-APPLE-STRUCTURED-LOCATION;VALUE=URI;X-ADDRESS=Hoge Memorial Presbyterian Church 2930 West Broad Street Columbus OH 43204 United States;X-APPLE-RADIUS=500;X-TITLE=2930 West Broad Street:geo:-83.0786673,39.9552438
END:VEVENT
BEGIN:VEVENT
DTSTART;TZID=America/New_York:20250712T170000
DTEND;TZID=America/New_York:20250712T210000
DTSTAMP:20260423T075623
CREATED:20250619T153304Z
LAST-MODIFIED:20250619T153304Z
UID:10003332-1752339600-1752354000@area53aa.org
SUMMARY:OYPAA XLII Presents: Sober Games
DESCRIPTION:Save the Date \n5th Annual Red\, White and Sober \n\n\n			\n					\n						Download Flyer
URL:https://area53aa.org/event/oypaa-xlii-presents-sober-games/
LOCATION:6648 state route 38 NE\, Bloomingburg OH 43106\, 6648 SR 38 NE\, Bloomingburg\, OH\, 43106
GEO:39.6142841;-83.4002554
X-APPLE-STRUCTURED-LOCATION;VALUE=URI;X-ADDRESS=6648 state route 38 NE Bloomingburg OH 43106 6648 SR 38 NE Bloomingburg OH 43106;X-APPLE-RADIUS=500;X-TITLE=6648 SR 38 NE:geo:-83.4002554,39.6142841
END:VEVENT
BEGIN:VEVENT
DTSTART;TZID=America/New_York:20250707T180000
DTEND;TZID=America/New_York:20250707T190000
DTSTAMP:20260423T075623
CREATED:20250215T072305Z
LAST-MODIFIED:20250215T072305Z
UID:10002101-1751911200-1751914800@area53aa.org
SUMMARY:District 11 Meeting
DESCRIPTION:Save the Date \n5th Annual Red\, White and Sober \n\n\n			\n					\n						Download Flyer
URL:https://area53aa.org/event/district-11-meeting/2025-07-07/
LOCATION:First Presbyterian Church – Marysville\, 210 West Fifth Street\, Marysville\, OH\, 43040
CATEGORIES:Monthly District Meetings
ORGANIZER;CN="District 11":MAILTO:dcm11@area53aa.org
GEO:40.2367951;-83.3685043
X-APPLE-STRUCTURED-LOCATION;VALUE=URI;X-ADDRESS=First Presbyterian Church – Marysville 210 West Fifth Street Marysville OH 43040;X-APPLE-RADIUS=500;X-TITLE=210 West Fifth Street:geo:-83.3685043,40.2367951
END:VEVENT
BEGIN:VEVENT
DTSTART;TZID=America/New_York:20250706T170000
DTEND;TZID=America/New_York:20250706T180000
DTSTAMP:20260423T075623
CREATED:20250215T072108Z
LAST-MODIFIED:20250215T072108Z
UID:10002041-1751821200-1751824800@area53aa.org
SUMMARY:District 17 Meeting
DESCRIPTION:Save the Date \n5th Annual Red\, White and Sober \n\n\n			\n					\n						Download Flyer
URL:https://area53aa.org/event/district-17-meeting/2025-07-06/
LOCATION:Sacred Heart Church and Rectory\, 161 Mulberry Ave\, Pomeroy\, o\, 45769\, United States
CATEGORIES:Monthly District Meetings
ORGANIZER;CN="district 17":MAILTO:dcm17@area53aa.org
GEO:39.0295211;-82.0371166
X-APPLE-STRUCTURED-LOCATION;VALUE=URI;X-ADDRESS=Sacred Heart Church and Rectory 161 Mulberry Ave Pomeroy o 45769 United States;X-APPLE-RADIUS=500;X-TITLE=161 Mulberry Ave:geo:-82.0371166,39.0295211
END:VEVENT
BEGIN:VEVENT
DTSTART;TZID=America/New_York:20250706T170000
DTEND;TZID=America/New_York:20250706T180000
DTSTAMP:20260423T075623
CREATED:20250215T071735Z
LAST-MODIFIED:20250215T071735Z
UID:10001981-1751821200-1751824800@area53aa.org
SUMMARY:District 16 Meeting
DESCRIPTION:Save the Date \n5th Annual Red\, White and Sober \n\n\n			\n					\n						Download Flyer
URL:https://area53aa.org/event/district-16-meeting/2025-07-06/
LOCATION:Athens First United Methodist Church\, 2 S College St\, Athens\, 45701\, United States
CATEGORIES:Monthly District Meetings
ORGANIZER;CN="District 16":MAILTO:dcm16@area53aa.org
GEO:39.3290904;-82.0992208
X-APPLE-STRUCTURED-LOCATION;VALUE=URI;X-ADDRESS=Athens First United Methodist Church 2 S College St Athens 45701 United States;X-APPLE-RADIUS=500;X-TITLE=2 S College St:geo:-82.0992208,39.3290904
END:VEVENT
BEGIN:VEVENT
DTSTART;TZID=America/New_York:20250706T130000
DTEND;TZID=America/New_York:20250706T140000
DTSTAMP:20260423T075623
CREATED:20250215T071520Z
LAST-MODIFIED:20250215T071520Z
UID:10001921-1751806800-1751810400@area53aa.org
SUMMARY:District 8/9 Meeting
DESCRIPTION:Save the Date \n5th Annual Red\, White and Sober \n\n\n			\n					\n						Download Flyer
URL:https://area53aa.org/event/district-8-9-meeting/2025-07-06/
LOCATION:Trinity Episcopal Church\, 76 East Main Street\, Newark\, OH\, 43055\, United States
CATEGORIES:Monthly District Meetings
ORGANIZER;CN="District 8/9":MAILTO:dcm08@area53aa.org
GEO:40.0588719;-82.3995484
X-APPLE-STRUCTURED-LOCATION;VALUE=URI;X-ADDRESS=Trinity Episcopal Church 76 East Main Street Newark OH 43055 United States;X-APPLE-RADIUS=500;X-TITLE=76 East Main Street:geo:-82.3995484,40.0588719
END:VEVENT
BEGIN:VEVENT
DTSTART;TZID=America/New_York:20250705T150000
DTEND;TZID=America/New_York:20250705T190000
DTSTAMP:20260423T075623
CREATED:20250513T131349Z
LAST-MODIFIED:20250703T152006Z
UID:10003319-1751727600-1751742000@area53aa.org
SUMMARY:Red\, White & Sober 2025
DESCRIPTION:Save the Date \n5th Annual Red\, White and Sober \n\n\n			\n					\n						Download Flyer
URL:https://area53aa.org/event/red-white-sober-2025/
LOCATION:Trinity United Church of Christ\, 1180 Shanley Dr\, Columbus\, OH\, 43224\, United States
CATEGORIES:District Events
ORGANIZER;CN="District 28":MAILTO:dcm28@area53aa.org
GEO:40.0573375;-82.9871568
X-APPLE-STRUCTURED-LOCATION;VALUE=URI;X-ADDRESS=Trinity United Church of Christ 1180 Shanley Dr Columbus OH 43224 United States;X-APPLE-RADIUS=500;X-TITLE=1180 Shanley Dr:geo:-82.9871568,40.0573375
END:VEVENT
BEGIN:VEVENT
DTSTART;TZID=America/New_York:20250705T123000
DTEND;TZID=America/New_York:20250705T160000
DTSTAMP:20260423T075623
CREATED:20250528T154741Z
LAST-MODIFIED:20250703T151954Z
UID:10003323-1751718600-1751731200@area53aa.org
SUMMARY:District 16 July Picnic
DESCRIPTION:Save the Date \n5th Annual Red\, White and Sober \n\n\n			\n					\n						Download Flyer
URL:https://area53aa.org/event/district-16-july-picnic/
LOCATION:Dairy Lane Park\, Dairy Lane Park\, Athens\, OH\, 45701
ORGANIZER;CN="District 16":MAILTO:dcm16@area53aa.org
GEO:39.3190777;-82.1125325
X-APPLE-STRUCTURED-LOCATION;VALUE=URI;X-ADDRESS=Dairy Lane Park Dairy Lane Park Athens OH 45701;X-APPLE-RADIUS=500;X-TITLE=Dairy Lane Park:geo:-82.1125325,39.3190777
END:VEVENT
BEGIN:VEVENT
DTSTART;VALUE=DATE:20250703
DTEND;VALUE=DATE:20250707
DTSTAMP:20260423T075623
CREATED:20250219T083642Z
LAST-MODIFIED:20250619T144226Z
UID:10002757-1751500800-1751846399@area53aa.org
SUMMARY:AA International Convention 2025
DESCRIPTION:Save the Date \n5th Annual Red\, White and Sober \n\n\n			\n					\n						Download Flyer
URL:https://area53aa.org/event/aa-international-convention-2025/
LOCATION:Vancouver Convention Centre\, 1055 Canada Pl\, Vancouver\, BC\, V6C 0C3\, Canada
CATEGORIES:Area 53 News,International Convention
ATTACH;FMTTYPE=image/png:https://area53aa.org/wp-content/uploads/2025/02/01-IC2025-logo-standard-tm-e1739954359162.png
GEO:49.2883926;-123.1155421
X-APPLE-STRUCTURED-LOCATION;VALUE=URI;X-ADDRESS=Vancouver Convention Centre 1055 Canada Pl Vancouver BC V6C 0C3 Canada;X-APPLE-RADIUS=500;X-TITLE=1055 Canada Pl:geo:-123.1155421,49.2883926
END:VEVENT
BEGIN:VEVENT
DTSTART;TZID=America/New_York:20250702T180000
DTEND;TZID=America/New_York:20250702T190000
DTSTAMP:20260423T075623
CREATED:20250215T073412Z
LAST-MODIFIED:20250215T073412Z
UID:10002222-1751479200-1751482800@area53aa.org
SUMMARY:District 30 Meeting
DESCRIPTION:Save the Date \n5th Annual Red\, White and Sober \n\n\n			\n					\n						Download Flyer
URL:https://area53aa.org/event/district-30-meeting/2025-07-02/
LOCATION:Panera Bread – Tremont Rd\, 3278 Tremont Rd\, Columbus\, Ohio\, 43221
CATEGORIES:Monthly District Meetings
ORGANIZER;CN="District 30":MAILTO:dcm30@area53aa.org
GEO:40.0619394;-83.0429341
X-APPLE-STRUCTURED-LOCATION;VALUE=URI;X-ADDRESS=Panera Bread – Tremont Rd 3278 Tremont Rd Columbus Ohio 43221;X-APPLE-RADIUS=500;X-TITLE=3278 Tremont Rd:geo:-83.0429341,40.0619394
END:VEVENT
BEGIN:VEVENT
DTSTART;TZID=America/New_York:20250702T180000
DTEND;TZID=America/New_York:20250702T190000
DTSTAMP:20260423T075623
CREATED:20250215T072759Z
LAST-MODIFIED:20250215T072759Z
UID:10002162-1751479200-1751482800@area53aa.org
SUMMARY:District 22 Meeting
DESCRIPTION:Save the Date \n5th Annual Red\, White and Sober \n\n\n			\n					\n						Download Flyer
URL:https://area53aa.org/event/district-22-meeting/2025-07-02/
LOCATION:OH
CATEGORIES:Monthly District Meetings
ORGANIZER;CN="District 22":MAILTO:dcm22@area53aa.org
END:VEVENT
BEGIN:VEVENT
DTSTART;TZID=America/New_York:20250628T150000
DTEND;TZID=America/New_York:20250628T170000
DTSTAMP:20260423T075623
CREATED:20250415T111446Z
LAST-MODIFIED:20250619T144237Z
UID:10003082-1751122800-1751130000@area53aa.org
SUMMARY:Marietta Serenity Group Anniversary Picnic - June 28
DESCRIPTION:Save the Date \n5th Annual Red\, White and Sober \n\n\n			\n					\n						Download Flyer
URL:https://area53aa.org/event/marietta-serenity-group-anniversary-picnic-june-28/
LOCATION:Tomlinson Park\, 601 WV-14\, Williamstown\, WV\, 26187\, United States
CATEGORIES:Area 53 News
GEO:39.3993875;-81.4481395
X-APPLE-STRUCTURED-LOCATION;VALUE=URI;X-ADDRESS=Tomlinson Park 601 WV-14 Williamstown WV 26187 United States;X-APPLE-RADIUS=500;X-TITLE=601 WV-14:geo:-81.4481395,39.3993875
END:VEVENT
END:VCALENDAR