BEGIN:VCALENDAR
VERSION:2.0
PRODID:-//Area 53 AA - ECPv6.15.20//NONSGML v1.0//EN
CALSCALE:GREGORIAN
METHOD:PUBLISH
X-ORIGINAL-URL:https://area53aa.org
X-WR-CALDESC:Events for Area 53 AA
REFRESH-INTERVAL;VALUE=DURATION:PT1H
X-Robots-Tag:noindex
X-PUBLISHED-TTL:PT1H
BEGIN:VTIMEZONE
TZID:America/New_York
BEGIN:DAYLIGHT
TZOFFSETFROM:-0500
TZOFFSETTO:-0400
TZNAME:EDT
DTSTART:20240310T070000
END:DAYLIGHT
BEGIN:STANDARD
TZOFFSETFROM:-0400
TZOFFSETTO:-0500
TZNAME:EST
DTSTART:20241103T060000
END:STANDARD
BEGIN:DAYLIGHT
TZOFFSETFROM:-0500
TZOFFSETTO:-0400
TZNAME:EDT
DTSTART:20250309T070000
END:DAYLIGHT
BEGIN:STANDARD
TZOFFSETFROM:-0400
TZOFFSETTO:-0500
TZNAME:EST
DTSTART:20251102T060000
END:STANDARD
BEGIN:DAYLIGHT
TZOFFSETFROM:-0500
TZOFFSETTO:-0400
TZNAME:EDT
DTSTART:20260308T070000
END:DAYLIGHT
BEGIN:STANDARD
TZOFFSETFROM:-0400
TZOFFSETTO:-0500
TZNAME:EST
DTSTART:20261101T060000
END:STANDARD
END:VTIMEZONE
BEGIN:VEVENT
DTSTART;TZID=America/New_York:20250907T170000
DTEND;TZID=America/New_York:20250907T180000
DTSTAMP:20260423T045220
CREATED:20250215T072108Z
LAST-MODIFIED:20250215T072108Z
UID:10002043-1757264400-1757268000@area53aa.org
SUMMARY:District 17 Meeting
DESCRIPTION:Save the Date \n5th Annual Red\, White and Sober \n\n\n			\n					\n						Download Flyer
URL:https://area53aa.org/event/district-17-meeting/2025-09-07/
LOCATION:Sacred Heart Church and Rectory\, 161 Mulberry Ave\, Pomeroy\, o\, 45769\, United States
CATEGORIES:Monthly District Meetings
ORGANIZER;CN="district 17":MAILTO:dcm17@area53aa.org
GEO:39.0295211;-82.0371166
X-APPLE-STRUCTURED-LOCATION;VALUE=URI;X-ADDRESS=Sacred Heart Church and Rectory 161 Mulberry Ave Pomeroy o 45769 United States;X-APPLE-RADIUS=500;X-TITLE=161 Mulberry Ave:geo:-82.0371166,39.0295211
END:VEVENT
BEGIN:VEVENT
DTSTART;TZID=America/New_York:20250907T170000
DTEND;TZID=America/New_York:20250907T180000
DTSTAMP:20260423T045220
CREATED:20250215T071735Z
LAST-MODIFIED:20250215T071735Z
UID:10001983-1757264400-1757268000@area53aa.org
SUMMARY:District 16 Meeting
DESCRIPTION:Save the Date \n5th Annual Red\, White and Sober \n\n\n			\n					\n						Download Flyer
URL:https://area53aa.org/event/district-16-meeting/2025-09-07/
LOCATION:Athens First United Methodist Church\, 2 S College St\, Athens\, 45701\, United States
CATEGORIES:Monthly District Meetings
ORGANIZER;CN="District 16":MAILTO:dcm16@area53aa.org
GEO:39.3290904;-82.0992208
X-APPLE-STRUCTURED-LOCATION;VALUE=URI;X-ADDRESS=Athens First United Methodist Church 2 S College St Athens 45701 United States;X-APPLE-RADIUS=500;X-TITLE=2 S College St:geo:-82.0992208,39.3290904
END:VEVENT
BEGIN:VEVENT
DTSTART;TZID=America/New_York:20250907T130000
DTEND;TZID=America/New_York:20250907T140000
DTSTAMP:20260423T045220
CREATED:20250215T071520Z
LAST-MODIFIED:20250215T071520Z
UID:10001923-1757250000-1757253600@area53aa.org
SUMMARY:District 8/9 Meeting
DESCRIPTION:Save the Date \n5th Annual Red\, White and Sober \n\n\n			\n					\n						Download Flyer
URL:https://area53aa.org/event/district-8-9-meeting/2025-09-07/
LOCATION:Trinity Episcopal Church\, 76 East Main Street\, Newark\, OH\, 43055\, United States
CATEGORIES:Monthly District Meetings
ORGANIZER;CN="District 8/9":MAILTO:dcm08@area53aa.org
GEO:40.0588719;-82.3995484
X-APPLE-STRUCTURED-LOCATION;VALUE=URI;X-ADDRESS=Trinity Episcopal Church 76 East Main Street Newark OH 43055 United States;X-APPLE-RADIUS=500;X-TITLE=76 East Main Street:geo:-82.3995484,40.0588719
END:VEVENT
BEGIN:VEVENT
DTSTART;TZID=America/New_York:20250906T180000
DTEND;TZID=America/New_York:20250906T210000
DTSTAMP:20260423T045220
CREATED:20250717T023912Z
LAST-MODIFIED:20250717T023912Z
UID:10003340-1757181600-1757192400@area53aa.org
SUMMARY:Byesville B.Y.O.B Group 10th Anniversary
DESCRIPTION:Save the Date \n5th Annual Red\, White and Sober \n\n\n			\n					\n						Download Flyer
URL:https://area53aa.org/event/byesville-b-y-o-b-group-10th-anniversary/
LOCATION:Stop 9 Church of Christ\, 68880 Southgate Rd.\, Byesville\, Ohio\, 43723\, United States
CATEGORIES:Group Anniversary
GEO:39.9829015;-81.5701351
X-APPLE-STRUCTURED-LOCATION;VALUE=URI;X-ADDRESS=Stop 9 Church of Christ 68880 Southgate Rd. Byesville Ohio 43723 United States;X-APPLE-RADIUS=500;X-TITLE=68880 Southgate Rd.:geo:-81.5701351,39.9829015
END:VEVENT
BEGIN:VEVENT
DTSTART;TZID=America/New_York:20250906T110000
DTEND;TZID=America/New_York:20250906T120000
DTSTAMP:20260423T045220
CREATED:20250718T204218Z
LAST-MODIFIED:20250718T204219Z
UID:10001166-1757156400-1757160000@area53aa.org
SUMMARY:Grapevine Committee Monthly Meeting
DESCRIPTION:Save the Date \n5th Annual Red\, White and Sober \n\n\n			\n					\n						Download Flyer
URL:https://area53aa.org/event/grapevine-committee-monthly-meeting-2-2-2/2025-09-06/
LOCATION:COGF\, 645 W. Broad St.\, Columbus\, 43215\, United States
CATEGORIES:Monthly Standing Committee Meetings
ORGANIZER;CN="Area 53 Grapevine Committee":MAILTO:grapevine@area53aa.org
GEO:39.9599571;-83.0178443
X-APPLE-STRUCTURED-LOCATION;VALUE=URI;X-ADDRESS=COGF 645 W. Broad St. Columbus 43215 United States;X-APPLE-RADIUS=500;X-TITLE=645 W. Broad St.:geo:-83.0178443,39.9599571
END:VEVENT
BEGIN:VEVENT
DTSTART;TZID=America/New_York:20250906T100000
DTEND;TZID=America/New_York:20250906T110000
DTSTAMP:20260423T045220
CREATED:20250304T234513Z
LAST-MODIFIED:20250304T234514Z
UID:10002879-1757152800-1757156400@area53aa.org
SUMMARY:CFC Quarterly Meeting
DESCRIPTION:Save the Date \n5th Annual Red\, White and Sober \n\n\n			\n					\n						Download Flyer
URL:https://area53aa.org/event/cfc-quarterly-meeting-2/2025-09-06/
LOCATION:COGF\, 645 W. Broad St.\, Columbus\, 43215\, United States
CATEGORIES:Monthly Standing Committee Meetings
ORGANIZER;CN="Area 53 CFC Committee":MAILTO:corrections@area53aa.org
GEO:39.9599571;-83.0178443
X-APPLE-STRUCTURED-LOCATION;VALUE=URI;X-ADDRESS=COGF 645 W. Broad St. Columbus 43215 United States;X-APPLE-RADIUS=500;X-TITLE=645 W. Broad St.:geo:-83.0178443,39.9599571
END:VEVENT
BEGIN:VEVENT
DTSTART;TZID=America/New_York:20250903T180000
DTEND;TZID=America/New_York:20250903T190000
DTSTAMP:20260423T045220
CREATED:20250215T073412Z
LAST-MODIFIED:20250215T073412Z
UID:10002224-1756922400-1756926000@area53aa.org
SUMMARY:District 30 Meeting
DESCRIPTION:Save the Date \n5th Annual Red\, White and Sober \n\n\n			\n					\n						Download Flyer
URL:https://area53aa.org/event/district-30-meeting/2025-09-03/
LOCATION:Panera Bread – Tremont Rd\, 3278 Tremont Rd\, Columbus\, Ohio\, 43221
CATEGORIES:Monthly District Meetings
ORGANIZER;CN="District 30":MAILTO:dcm30@area53aa.org
GEO:40.0619394;-83.0429341
X-APPLE-STRUCTURED-LOCATION;VALUE=URI;X-ADDRESS=Panera Bread – Tremont Rd 3278 Tremont Rd Columbus Ohio 43221;X-APPLE-RADIUS=500;X-TITLE=3278 Tremont Rd:geo:-83.0429341,40.0619394
END:VEVENT
BEGIN:VEVENT
DTSTART;TZID=America/New_York:20250903T180000
DTEND;TZID=America/New_York:20250903T190000
DTSTAMP:20260423T045220
CREATED:20250215T072759Z
LAST-MODIFIED:20250215T072759Z
UID:10002164-1756922400-1756926000@area53aa.org
SUMMARY:District 22 Meeting
DESCRIPTION:Save the Date \n5th Annual Red\, White and Sober \n\n\n			\n					\n						Download Flyer
URL:https://area53aa.org/event/district-22-meeting/2025-09-03/
LOCATION:OH
CATEGORIES:Monthly District Meetings
ORGANIZER;CN="District 22":MAILTO:dcm22@area53aa.org
END:VEVENT
BEGIN:VEVENT
DTSTART;TZID=America/New_York:20250901T180000
DTEND;TZID=America/New_York:20250901T190000
DTSTAMP:20260423T045220
CREATED:20250215T072305Z
LAST-MODIFIED:20250215T072305Z
UID:10002103-1756749600-1756753200@area53aa.org
SUMMARY:District 11 Meeting
DESCRIPTION:Save the Date \n5th Annual Red\, White and Sober \n\n\n			\n					\n						Download Flyer
URL:https://area53aa.org/event/district-11-meeting/2025-09-01/
LOCATION:First Presbyterian Church – Marysville\, 210 West Fifth Street\, Marysville\, OH\, 43040
CATEGORIES:Monthly District Meetings
ORGANIZER;CN="District 11":MAILTO:dcm11@area53aa.org
GEO:40.2367951;-83.3685043
X-APPLE-STRUCTURED-LOCATION;VALUE=URI;X-ADDRESS=First Presbyterian Church – Marysville 210 West Fifth Street Marysville OH 43040;X-APPLE-RADIUS=500;X-TITLE=210 West Fifth Street:geo:-83.3685043,40.2367951
END:VEVENT
BEGIN:VEVENT
DTSTART;TZID=America/New_York:20250829T203000
DTEND;TZID=America/New_York:20250829T230000
DTSTAMP:20260423T045221
CREATED:20250125T075337Z
LAST-MODIFIED:20250125T075636Z
UID:10001367-1756499400-1756508400@area53aa.org
SUMMARY:OYPAA - Game Night
DESCRIPTION:Save the Date \n5th Annual Red\, White and Sober \n\n\n			\n					\n						Download Flyer
URL:https://area53aa.org/event/oypaa-game-night/2025-08-29/
LOCATION:Indianola Presbyterian Church\, 1970 Waldeck Ave.\, Columbus\, OH\, 43201
CATEGORIES:Area 53 News
ORGANIZER;CN="OYPAA":MAILTO:oypaa38@gmail.com
GEO:40.0031531;-83.0051248
X-APPLE-STRUCTURED-LOCATION;VALUE=URI;X-ADDRESS=Indianola Presbyterian Church 1970 Waldeck Ave. Columbus OH 43201;X-APPLE-RADIUS=500;X-TITLE=1970 Waldeck Ave.:geo:-83.0051248,40.0031531
END:VEVENT
BEGIN:VEVENT
DTSTART;TZID=America/New_York:20250827T183000
DTEND;TZID=America/New_York:20250827T193000
DTSTAMP:20260423T045221
CREATED:20250215T081607Z
LAST-MODIFIED:20250215T081607Z
UID:10002641-1756319400-1756323000@area53aa.org
SUMMARY:District 15 Meeting
DESCRIPTION:Save the Date \n5th Annual Red\, White and Sober \n\n\n			\n					\n						Download Flyer
URL:https://area53aa.org/event/district-15-meeting/2025-08-27/
LOCATION:Serenity House Marietta\, 431 3rd Street\, Marietta\, OH\, 45750\, United States
CATEGORIES:Monthly District Meetings
ORGANIZER;CN="District 15":MAILTO:dcm15@area53aa.org
GEO:39.4195607;-81.4571447
X-APPLE-STRUCTURED-LOCATION;VALUE=URI;X-ADDRESS=Serenity House Marietta 431 3rd Street Marietta OH 45750 United States;X-APPLE-RADIUS=500;X-TITLE=431 3rd Street:geo:-81.4571447,39.4195607
END:VEVENT
BEGIN:VEVENT
DTSTART;TZID=America/New_York:20250824T173000
DTEND;TZID=America/New_York:20250824T183000
DTSTAMP:20260423T045221
CREATED:20250215T081335Z
LAST-MODIFIED:20250221T122247Z
UID:10002581-1756056600-1756060200@area53aa.org
SUMMARY:District 34 Meeting
DESCRIPTION:Save the Date \n5th Annual Red\, White and Sober \n\n\n			\n					\n						Download Flyer
URL:https://area53aa.org/event/district-34-meeting/2025-08-24/
LOCATION:Hoge Memorial Presbyterian Church\, 2930 West Broad Street\, Columbus\, OH\, 43204\, United States
CATEGORIES:Monthly District Meetings
GEO:39.9552438;-83.0786673
X-APPLE-STRUCTURED-LOCATION;VALUE=URI;X-ADDRESS=Hoge Memorial Presbyterian Church 2930 West Broad Street Columbus OH 43204 United States;X-APPLE-RADIUS=500;X-TITLE=2930 West Broad Street:geo:-83.0786673,39.9552438
END:VEVENT
BEGIN:VEVENT
DTSTART;TZID=America/New_York:20250823T120000
DTEND;TZID=America/New_York:20250823T203000
DTSTAMP:20260423T045221
CREATED:20250717T022826Z
LAST-MODIFIED:20250717T022827Z
UID:10003339-1755950400-1755981000@area53aa.org
SUMMARY:Mad River Group's 45 Annual Hog Roast
DESCRIPTION:Save the Date \n5th Annual Red\, White and Sober \n\n\n			\n					\n						Download Flyer
URL:https://area53aa.org/event/mad-river-groups-45-annual-hog-roast/
LOCATION:melvin miller park\, 731 Children’s Home Rd\, Urbana\, OH\, 43077
CATEGORIES:Group Anniversary
GEO:40.1207745;-83.7363847
X-APPLE-STRUCTURED-LOCATION;VALUE=URI;X-ADDRESS=melvin miller park 731 Children’s Home Rd Urbana OH 43077;X-APPLE-RADIUS=500;X-TITLE=731 Children’s Home Rd:geo:-83.7363847,40.1207745
END:VEVENT
BEGIN:VEVENT
DTSTART;TZID=America/New_York:20250823T110000
DTEND;TZID=America/New_York:20250823T153000
DTSTAMP:20260423T045221
CREATED:20250603T151849Z
LAST-MODIFIED:20250603T152509Z
UID:10003325-1755946800-1755963000@area53aa.org
SUMMARY:Pleasant Valley Group 79th Anniversary Hog Roast
DESCRIPTION:Save the Date \n5th Annual Red\, White and Sober \n\n\n			\n					\n						Download Flyer
URL:https://area53aa.org/event/pleasant-valley-group-79th-anniversary-hog-roast/
LOCATION:Mason County WV Farm Museum\, 1458 Fairground Road\, Point Pleasant\, WV\, 25550
CATEGORIES:Group Anniversary
ORGANIZER;CN="Pleasant Valley Group":MAILTO:roc49er@yahoo.com
GEO:38.9199665;-82.0883185
X-APPLE-STRUCTURED-LOCATION;VALUE=URI;X-ADDRESS=Mason County WV Farm Museum 1458 Fairground Road Point Pleasant WV 25550;X-APPLE-RADIUS=500;X-TITLE=1458 Fairground Road:geo:-82.0883185,38.9199665
END:VEVENT
BEGIN:VEVENT
DTSTART;TZID=America/New_York:20250823T110000
DTEND;TZID=America/New_York:20250823T120000
DTSTAMP:20260423T045221
CREATED:20250220T144020Z
LAST-MODIFIED:20250221T122239Z
UID:10002765-1755946800-1755950400@area53aa.org
SUMMARY:Accessibilities Committee Meeting
DESCRIPTION:Save the Date \n5th Annual Red\, White and Sober \n\n\n			\n					\n						Download Flyer
URL:https://area53aa.org/event/accessibilities-committee-meeting/2025-08-23/
LOCATION:Online Meeting
CATEGORIES:Monthly Standing Committee Meetings
ORGANIZER;CN="Accessibilities Committee":MAILTO:accessibilities@area53aa.org
END:VEVENT
BEGIN:VEVENT
DTSTART;TZID=America/New_York:20250823T090000
DTEND;TZID=America/New_York:20250823T223000
DTSTAMP:20260423T045221
CREATED:20250327T113843Z
LAST-MODIFIED:20250327T113844Z
UID:10003023-1755939600-1755988200@area53aa.org
SUMMARY:Archives Committee Meeting
DESCRIPTION:Save the Date \n5th Annual Red\, White and Sober \n\n\n			\n					\n						Download Flyer
URL:https://area53aa.org/event/archives-committee-meeting-2-2/2025-08-23/
LOCATION:COGF\, 645 W. Broad St.\, Columbus\, 43215\, United States
CATEGORIES:Monthly Standing Committee Meetings
ORGANIZER;CN="Area 53 Archives Committee":MAILTO:archives@area53aa.org
GEO:39.9599571;-83.0178443
X-APPLE-STRUCTURED-LOCATION;VALUE=URI;X-ADDRESS=COGF 645 W. Broad St. Columbus 43215 United States;X-APPLE-RADIUS=500;X-TITLE=645 W. Broad St.:geo:-83.0178443,39.9599571
END:VEVENT
BEGIN:VEVENT
DTSTART;VALUE=DATE:20250822
DTEND;VALUE=DATE:20250825
DTSTAMP:20260423T045221
CREATED:20250707T164809Z
LAST-MODIFIED:20250817T121036Z
UID:10003338-1755820800-1756079999@area53aa.org
SUMMARY:2025 East Central Regional Forum
DESCRIPTION:Save the Date \n5th Annual Red\, White and Sober \n\n\n			\n					\n						Download Flyer
URL:https://area53aa.org/event/2025-east-central-regional-forum/
LOCATION:Marriott Indianapolis Downtown\, 350 West Maryland Street\, Indianapolis\, IN\, 46225\, United States
GEO:39.7665632;-86.1647809
X-APPLE-STRUCTURED-LOCATION;VALUE=URI;X-ADDRESS=Marriott Indianapolis Downtown 350 West Maryland Street Indianapolis IN 46225 United States;X-APPLE-RADIUS=500;X-TITLE=350 West Maryland Street:geo:-86.1647809,39.7665632
END:VEVENT
BEGIN:VEVENT
DTSTART;TZID=America/New_York:20250817T180000
DTEND;TZID=America/New_York:20250817T190000
DTSTAMP:20260423T045221
CREATED:20250215T081126Z
LAST-MODIFIED:20250215T081126Z
UID:10002521-1755453600-1755457200@area53aa.org
SUMMARY:District 19 Meeting
DESCRIPTION:Save the Date \n5th Annual Red\, White and Sober \n\n\n			\n					\n						Download Flyer
URL:https://area53aa.org/event/district-19-meeting/2025-08-17/
LOCATION:Sabina United Methodist Church\, 61 W Elm St\, Sabina\, 45169\, United States
CATEGORIES:Monthly District Meetings
ORGANIZER;CN="District 19":MAILTO:dcm19@area53aa.org
GEO:39.4903491;-83.6374472
X-APPLE-STRUCTURED-LOCATION;VALUE=URI;X-ADDRESS=Sabina United Methodist Church 61 W Elm St Sabina 45169 United States;X-APPLE-RADIUS=500;X-TITLE=61 W Elm St:geo:-83.6374472,39.4903491
END:VEVENT
BEGIN:VEVENT
DTSTART;TZID=America/New_York:20250817T170000
DTEND;TZID=America/New_York:20250817T190000
DTSTAMP:20260423T045221
CREATED:20250701T110702Z
LAST-MODIFIED:20250817T121028Z
UID:10003333-1755450000-1755457200@area53aa.org
SUMMARY:McArtur Group Picnic
DESCRIPTION:Save the Date \n5th Annual Red\, White and Sober \n\n\n			\n					\n						Download Flyer
URL:https://area53aa.org/event/mcartur-group-picnic/
LOCATION:Wyman Park\, 510 Northview Rd\, McArthur\, OH\, 45651
GEO:39.2503525;-82.4857412
X-APPLE-STRUCTURED-LOCATION;VALUE=URI;X-ADDRESS=Wyman Park 510 Northview Rd McArthur OH 45651;X-APPLE-RADIUS=500;X-TITLE=510 Northview Rd:geo:-82.4857412,39.2503525
END:VEVENT
BEGIN:VEVENT
DTSTART;TZID=America/New_York:20250817T160000
DTEND;TZID=America/New_York:20250817T170000
DTSTAMP:20260423T045221
CREATED:20250215T080944Z
LAST-MODIFIED:20250215T080944Z
UID:10002462-1755446400-1755450000@area53aa.org
SUMMARY:District 12 Meeting
DESCRIPTION:Save the Date \n5th Annual Red\, White and Sober \n\n\n			\n					\n						Download Flyer
URL:https://area53aa.org/event/district-12-meeting/2025-08-17/
LOCATION:Springfield Alano Club Inc\, 1557 E Main St\, Springfield\, 45503\, United States
CATEGORIES:Monthly District Meetings
ORGANIZER;CN="District 12":MAILTO:dcm12@area53aa.org
GEO:39.9231477;-83.7860254
X-APPLE-STRUCTURED-LOCATION;VALUE=URI;X-ADDRESS=Springfield Alano Club Inc 1557 E Main St Springfield 45503 United States;X-APPLE-RADIUS=500;X-TITLE=1557 E Main St:geo:-83.7860254,39.9231477
END:VEVENT
BEGIN:VEVENT
DTSTART;TZID=America/New_York:20250817T150000
DTEND;TZID=America/New_York:20250817T163000
DTSTAMP:20260423T045221
CREATED:20250208T233428Z
LAST-MODIFIED:20250215T062320Z
UID:10001695-1755442800-1755448200@area53aa.org
SUMMARY:CPC/PI Committee Meeting
DESCRIPTION:Save the Date \n5th Annual Red\, White and Sober \n\n\n			\n					\n						Download Flyer
URL:https://area53aa.org/event/cpc-pi-committee-meeting-feb-16-2025/2025-08-17/
LOCATION:Franklinton Library\, 1061 W Town St\, Columbus\, 43222\, United States
CATEGORIES:Monthly Standing Committee Meetings
ORGANIZER;CN="Area 53 CPC-PI Committee":MAILTO:cpcpi@area53aa.org
GEO:39.9551728;-83.0277954
X-APPLE-STRUCTURED-LOCATION;VALUE=URI;X-ADDRESS=Franklinton Library 1061 W Town St Columbus 43222 United States;X-APPLE-RADIUS=500;X-TITLE=1061 W Town St:geo:-83.0277954,39.9551728
END:VEVENT
BEGIN:VEVENT
DTSTART;TZID=America/New_York:20250816T120000
DTEND;TZID=America/New_York:20250816T133000
DTSTAMP:20260423T045221
CREATED:20250812T182714Z
LAST-MODIFIED:20250812T183105Z
UID:10003417-1755345600-1755351000@area53aa.org
SUMMARY:District 33 Meeting
DESCRIPTION:Save the Date \n5th Annual Red\, White and Sober \n\n\n			\n					\n						Download Flyer
URL:https://area53aa.org/event/district-33-meeting/
LOCATION:Combulus Metropotlian Main Library\, 96 S. Grant Ave\, Columbus\, 43215\, United States
CATEGORIES:Monthly District Meetings
ORGANIZER;CN="District 33":MAILTO:dcm33@area53aa.org
GEO:39.9613828;-82.9894036
X-APPLE-STRUCTURED-LOCATION;VALUE=URI;X-ADDRESS=Combulus Metropotlian Main Library 96 S. Grant Ave Columbus 43215 United States;X-APPLE-RADIUS=500;X-TITLE=96 S. Grant Ave:geo:-82.9894036,39.9613828
END:VEVENT
BEGIN:VEVENT
DTSTART;TZID=America/New_York:20250816T120000
DTEND;TZID=America/New_York:20250816T130000
DTSTAMP:20260423T045221
CREATED:20240118T035629Z
LAST-MODIFIED:20250215T054843Z
UID:10000446-1755345600-1755349200@area53aa.org
SUMMARY:Treatment Facilities Committee Monthly Meeting
DESCRIPTION:Save the Date \n5th Annual Red\, White and Sober \n\n\n			\n					\n						Download Flyer
URL:https://area53aa.org/event/treatment-facilities-committee-monthly-meeting/2025-08-16/
LOCATION:COGF\, 645 W. Broad St.\, Columbus\, 43215\, United States
CATEGORIES:Monthly Standing Committee Meetings
ORGANIZER;CN="Area 53 Treatment Facilities Committee":MAILTO:treatment@area53aa.org
GEO:39.9599571;-83.0178443
X-APPLE-STRUCTURED-LOCATION;VALUE=URI;X-ADDRESS=COGF 645 W. Broad St. Columbus 43215 United States;X-APPLE-RADIUS=500;X-TITLE=645 W. Broad St.:geo:-83.0178443,39.9599571
END:VEVENT
BEGIN:VEVENT
DTSTART;TZID=America/New_York:20250816T110000
DTEND;TZID=America/New_York:20250816T120000
DTSTAMP:20260423T045221
CREATED:20250215T074344Z
LAST-MODIFIED:20250215T074344Z
UID:10002402-1755342000-1755345600@area53aa.org
SUMMARY:District 21 Meeting
DESCRIPTION:Save the Date \n5th Annual Red\, White and Sober \n\n\n			\n					\n						Download Flyer
URL:https://area53aa.org/event/district-21-meeting/2025-08-16/
LOCATION:Wheelersburg United Methodist Church\, 11605 Gallia Pike Rd\, Wheelersburg\, 45694\, 45694\, United States
CATEGORIES:Monthly District Meetings
ORGANIZER;CN="District 21":MAILTO:dcm21@area53aa.org
GEO:38.7278325;-82.8543713
X-APPLE-STRUCTURED-LOCATION;VALUE=URI;X-ADDRESS=Wheelersburg United Methodist Church 11605 Gallia Pike Rd Wheelersburg 45694 45694 United States;X-APPLE-RADIUS=500;X-TITLE=11605 Gallia Pike Rd:geo:-82.8543713,38.7278325
END:VEVENT
BEGIN:VEVENT
DTSTART;TZID=America/New_York:20250816T093000
DTEND;TZID=America/New_York:20250816T103000
DTSTAMP:20260423T045221
CREATED:20250215T073903Z
LAST-MODIFIED:20250215T073903Z
UID:10002343-1755336600-1755340200@area53aa.org
SUMMARY:District 26 Meeting
DESCRIPTION:Save the Date \n5th Annual Red\, White and Sober \n\n\n			\n					\n						Download Flyer
URL:https://area53aa.org/event/district-26-meeting/2025-08-16/
LOCATION:Whitehall United Methodist Church\, 525 Bernhard Road\, Columbus\, Ohio
CATEGORIES:Monthly District Meetings
ORGANIZER;CN="District 26":MAILTO:dcm26@area53aa.org
GEO:39.9640674;-82.8804352
X-APPLE-STRUCTURED-LOCATION;VALUE=URI;X-ADDRESS=Whitehall United Methodist Church 525 Bernhard Road Columbus Ohio;X-APPLE-RADIUS=500;X-TITLE=525 Bernhard Road:geo:-82.8804352,39.9640674
END:VEVENT
BEGIN:VEVENT
DTSTART;TZID=America/New_York:20250816T080000
DTEND;TZID=America/New_York:20250816T170000
DTSTAMP:20260423T045221
CREATED:20250215T055600Z
LAST-MODIFIED:20250215T055600Z
UID:10001636-1755331200-1755363600@area53aa.org
SUMMARY:District 7 Meeting
DESCRIPTION:Save the Date \n5th Annual Red\, White and Sober \n\n\n			\n					\n						Download Flyer
URL:https://area53aa.org/event/district-7-meeting/2025-08-16/
LOCATION:I.s.r.c.\, 554 Moxahala Ave\, Zanesville\, 43701\, United States
CATEGORIES:Monthly District Meetings
ORGANIZER;CN="District 7":MAILTO:dcm07@area53aa.org
GEO:39.9302383;-82.0053096
X-APPLE-STRUCTURED-LOCATION;VALUE=URI;X-ADDRESS=I.s.r.c. 554 Moxahala Ave Zanesville 43701 United States;X-APPLE-RADIUS=500;X-TITLE=554 Moxahala Ave:geo:-82.0053096,39.9302383
END:VEVENT
BEGIN:VEVENT
DTSTART;TZID=America/New_York:20250815T183000
DTEND;TZID=America/New_York:20250815T210000
DTSTAMP:20260423T045221
CREATED:20250728T032706Z
LAST-MODIFIED:20250728T034622Z
UID:10003410-1755282600-1755291600@area53aa.org
SUMMARY:The Willingness Group of AA 36th Anniversary
DESCRIPTION:Save the Date \n5th Annual Red\, White and Sober \n\n\n			\n					\n						Download Flyer
URL:https://area53aa.org/event/the-willingness-group-of-aa-36th-anniversary/
LOCATION:Lord of Life Lutheran Church\, 2480 West Dublin Granville Road\, Worthington\, Ohio\, 43235
CATEGORIES:Group Anniversary
ATTACH;FMTTYPE=image/png:https://area53aa.org/wp-content/uploads/2025/07/qr-2.png
GEO:40.0909939;-83.0560529
X-APPLE-STRUCTURED-LOCATION;VALUE=URI;X-ADDRESS=Lord of Life Lutheran Church 2480 West Dublin Granville Road Worthington Ohio 43235;X-APPLE-RADIUS=500;X-TITLE=2480 West Dublin Granville Road:geo:-83.0560529,40.0909939
END:VEVENT
BEGIN:VEVENT
DTSTART;TZID=America/New_York:20250811T183000
DTEND;TZID=America/New_York:20250811T200000
DTSTAMP:20260423T045221
CREATED:20250215T073650Z
LAST-MODIFIED:20250306T145144Z
UID:10002899-1754937000-1754942400@area53aa.org
SUMMARY:District 28 Meeting
DESCRIPTION:Save the Date \n5th Annual Red\, White and Sober \n\n\n			\n					\n						Download Flyer
URL:https://area53aa.org/event/district-28-meeting/2025-08-11/
LOCATION:Central Vineyard Church\, 55 E Blake Ave\, Columbus\, 43202\, United States
CATEGORIES:Monthly District Meetings
ORGANIZER;CN="District 28":MAILTO:dcm28@area53aa.org
GEO:40.0118086;-83.0088728
X-APPLE-STRUCTURED-LOCATION;VALUE=URI;X-ADDRESS=Central Vineyard Church 55 E Blake Ave Columbus 43202 United States;X-APPLE-RADIUS=500;X-TITLE=55 E Blake Ave:geo:-83.0088728,40.0118086
END:VEVENT
BEGIN:VEVENT
DTSTART;TZID=America/New_York:20250809T110000
DTEND;TZID=America/New_York:20250809T150000
DTSTAMP:20260423T045221
CREATED:20250404T024644Z
LAST-MODIFIED:20250404T024733Z
UID:10003079-1754737200-1754751600@area53aa.org
SUMMARY:WOODSFIELD BIG BOOK STUDY 43rd ANNIVERSERY
DESCRIPTION:Save the Date \n5th Annual Red\, White and Sober \n\n\n			\n					\n						Download Flyer
URL:https://area53aa.org/event/woodsfield-big-book-study-43rd-anniversery/
LOCATION:Woodsfield Church of the Nazarene\, 223 Maple Ave.\, Woodsfield\, OH\, 43793\, United States
CATEGORIES:Group Anniversary
GEO:39.7664756;-81.1047836
X-APPLE-STRUCTURED-LOCATION;VALUE=URI;X-ADDRESS=Woodsfield Church of the Nazarene 223 Maple Ave. Woodsfield OH 43793 United States;X-APPLE-RADIUS=500;X-TITLE=223 Maple Ave.:geo:-81.1047836,39.7664756
END:VEVENT
BEGIN:VEVENT
DTSTART;TZID=America/New_York:20250808T150000
DTEND;TZID=America/New_York:20250810T120000
DTSTAMP:20260423T045221
CREATED:20250511T152653Z
LAST-MODIFIED:20250804T210228Z
UID:10003317-1754665200-1754827200@area53aa.org
SUMMARY:69th Ohio State Convention
DESCRIPTION:Save the Date \n5th Annual Red\, White and Sober \n\n\n			\n					\n						Download Flyer
URL:https://area53aa.org/event/69th-ohio-state-convention/
LOCATION:Delta Hotels Toledo\, 3100 Glendale Ave.\, Toledo\, OH\, 43614\, United States
CATEGORIES:Area 53 News
ATTACH;FMTTYPE=image/png:https://area53aa.org/wp-content/uploads/2025/05/Screenshot-2025-08-04-170051.png
GEO:41.6165661;-83.6195975
X-APPLE-STRUCTURED-LOCATION;VALUE=URI;X-ADDRESS=Delta Hotels Toledo 3100 Glendale Ave. Toledo OH 43614 United States;X-APPLE-RADIUS=500;X-TITLE=3100 Glendale Ave.:geo:-83.6195975,41.6165661
END:VEVENT
END:VCALENDAR