BEGIN:VCALENDAR
VERSION:2.0
PRODID:-//Area 53 AA - ECPv6.15.20//NONSGML v1.0//EN
CALSCALE:GREGORIAN
METHOD:PUBLISH
X-WR-CALNAME:Area 53 AA
X-ORIGINAL-URL:https://area53aa.org
X-WR-CALDESC:Events for Area 53 AA
REFRESH-INTERVAL;VALUE=DURATION:PT1H
X-Robots-Tag:noindex
X-PUBLISHED-TTL:PT1H
BEGIN:VTIMEZONE
TZID:America/New_York
BEGIN:DAYLIGHT
TZOFFSETFROM:-0500
TZOFFSETTO:-0400
TZNAME:EDT
DTSTART:20240310T070000
END:DAYLIGHT
BEGIN:STANDARD
TZOFFSETFROM:-0400
TZOFFSETTO:-0500
TZNAME:EST
DTSTART:20241103T060000
END:STANDARD
BEGIN:DAYLIGHT
TZOFFSETFROM:-0500
TZOFFSETTO:-0400
TZNAME:EDT
DTSTART:20250309T070000
END:DAYLIGHT
BEGIN:STANDARD
TZOFFSETFROM:-0400
TZOFFSETTO:-0500
TZNAME:EST
DTSTART:20251102T060000
END:STANDARD
BEGIN:DAYLIGHT
TZOFFSETFROM:-0500
TZOFFSETTO:-0400
TZNAME:EDT
DTSTART:20260308T070000
END:DAYLIGHT
BEGIN:STANDARD
TZOFFSETFROM:-0400
TZOFFSETTO:-0500
TZNAME:EST
DTSTART:20261101T060000
END:STANDARD
END:VTIMEZONE
BEGIN:VEVENT
DTSTART;TZID=America/New_York:20251005T170000
DTEND;TZID=America/New_York:20251005T180000
DTSTAMP:20260422T175419
CREATED:20250215T072108Z
LAST-MODIFIED:20250215T072108Z
UID:10002044-1759683600-1759687200@area53aa.org
SUMMARY:District 17 Meeting
DESCRIPTION:Save the Date \n5th Annual Red\, White and Sober \n\n\n			\n					\n						Download Flyer
URL:https://area53aa.org/event/district-17-meeting/2025-10-05/
LOCATION:Sacred Heart Church and Rectory\, 161 Mulberry Ave\, Pomeroy\, o\, 45769\, United States
CATEGORIES:Monthly District Meetings
ORGANIZER;CN="district 17":MAILTO:dcm17@area53aa.org
GEO:39.0295211;-82.0371166
X-APPLE-STRUCTURED-LOCATION;VALUE=URI;X-ADDRESS=Sacred Heart Church and Rectory 161 Mulberry Ave Pomeroy o 45769 United States;X-APPLE-RADIUS=500;X-TITLE=161 Mulberry Ave:geo:-82.0371166,39.0295211
END:VEVENT
BEGIN:VEVENT
DTSTART;TZID=America/New_York:20251005T170000
DTEND;TZID=America/New_York:20251005T180000
DTSTAMP:20260422T175419
CREATED:20250215T071735Z
LAST-MODIFIED:20250215T071735Z
UID:10001984-1759683600-1759687200@area53aa.org
SUMMARY:District 16 Meeting
DESCRIPTION:Save the Date \n5th Annual Red\, White and Sober \n\n\n			\n					\n						Download Flyer
URL:https://area53aa.org/event/district-16-meeting/2025-10-05/
LOCATION:Athens First United Methodist Church\, 2 S College St\, Athens\, 45701\, United States
CATEGORIES:Monthly District Meetings
ORGANIZER;CN="District 16":MAILTO:dcm16@area53aa.org
GEO:39.3290904;-82.0992208
X-APPLE-STRUCTURED-LOCATION;VALUE=URI;X-ADDRESS=Athens First United Methodist Church 2 S College St Athens 45701 United States;X-APPLE-RADIUS=500;X-TITLE=2 S College St:geo:-82.0992208,39.3290904
END:VEVENT
BEGIN:VEVENT
DTSTART;TZID=America/New_York:20251005T130000
DTEND;TZID=America/New_York:20251005T140000
DTSTAMP:20260422T175419
CREATED:20250215T071520Z
LAST-MODIFIED:20250215T071520Z
UID:10001924-1759669200-1759672800@area53aa.org
SUMMARY:District 8/9 Meeting
DESCRIPTION:Save the Date \n5th Annual Red\, White and Sober \n\n\n			\n					\n						Download Flyer
URL:https://area53aa.org/event/district-8-9-meeting/2025-10-05/
LOCATION:Trinity Episcopal Church\, 76 East Main Street\, Newark\, OH\, 43055\, United States
CATEGORIES:Monthly District Meetings
ORGANIZER;CN="District 8/9":MAILTO:dcm08@area53aa.org
GEO:40.0588719;-82.3995484
X-APPLE-STRUCTURED-LOCATION;VALUE=URI;X-ADDRESS=Trinity Episcopal Church 76 East Main Street Newark OH 43055 United States;X-APPLE-RADIUS=500;X-TITLE=76 East Main Street:geo:-82.3995484,40.0588719
END:VEVENT
BEGIN:VEVENT
DTSTART;TZID=America/New_York:20251004T110000
DTEND;TZID=America/New_York:20251004T120000
DTSTAMP:20260422T175419
CREATED:20250718T204218Z
LAST-MODIFIED:20250718T204219Z
UID:10001167-1759575600-1759579200@area53aa.org
SUMMARY:Grapevine Committee Monthly Meeting
DESCRIPTION:Save the Date \n5th Annual Red\, White and Sober \n\n\n			\n					\n						Download Flyer
URL:https://area53aa.org/event/grapevine-committee-monthly-meeting-2-2-2/2025-10-04/
LOCATION:COGF\, 645 W. Broad St.\, Columbus\, 43215\, United States
CATEGORIES:Monthly Standing Committee Meetings
ORGANIZER;CN="Area 53 Grapevine Committee":MAILTO:grapevine@area53aa.org
GEO:39.9599571;-83.0178443
X-APPLE-STRUCTURED-LOCATION;VALUE=URI;X-ADDRESS=COGF 645 W. Broad St. Columbus 43215 United States;X-APPLE-RADIUS=500;X-TITLE=645 W. Broad St.:geo:-83.0178443,39.9599571
END:VEVENT
BEGIN:VEVENT
DTSTART;TZID=America/New_York:20251004T100000
DTEND;TZID=America/New_York:20251004T110000
DTSTAMP:20260422T175419
CREATED:20250215T071306Z
LAST-MODIFIED:20250215T071306Z
UID:10001889-1759572000-1759575600@area53aa.org
SUMMARY:District 1 Meeting
DESCRIPTION:Save the Date \n5th Annual Red\, White and Sober \n\n\n			\n					\n						Download Flyer
URL:https://area53aa.org/event/district-1-meeting/2025-10-04/
LOCATION:Recovery Zone\, 440 South St. Paris Street\, Bellefontaine\, 43311\, United States
CATEGORIES:Monthly District Meetings
ORGANIZER;CN="District 1":MAILTO:dcm01@area53aa.org
GEO:40.3573329;-83.7743358
X-APPLE-STRUCTURED-LOCATION;VALUE=URI;X-ADDRESS=Recovery Zone 440 South St. Paris Street Bellefontaine 43311 United States;X-APPLE-RADIUS=500;X-TITLE=440 South St. Paris Street:geo:-83.7743358,40.3573329
END:VEVENT
BEGIN:VEVENT
DTSTART;TZID=America/New_York:20251001T180000
DTEND;TZID=America/New_York:20251001T190000
DTSTAMP:20260422T175419
CREATED:20250215T073412Z
LAST-MODIFIED:20250215T073412Z
UID:10002225-1759341600-1759345200@area53aa.org
SUMMARY:District 30 Meeting
DESCRIPTION:Save the Date \n5th Annual Red\, White and Sober \n\n\n			\n					\n						Download Flyer
URL:https://area53aa.org/event/district-30-meeting/2025-10-01/
LOCATION:Panera Bread – Tremont Rd\, 3278 Tremont Rd\, Columbus\, Ohio\, 43221
CATEGORIES:Monthly District Meetings
ORGANIZER;CN="District 30":MAILTO:dcm30@area53aa.org
GEO:40.0619394;-83.0429341
X-APPLE-STRUCTURED-LOCATION;VALUE=URI;X-ADDRESS=Panera Bread – Tremont Rd 3278 Tremont Rd Columbus Ohio 43221;X-APPLE-RADIUS=500;X-TITLE=3278 Tremont Rd:geo:-83.0429341,40.0619394
END:VEVENT
BEGIN:VEVENT
DTSTART;TZID=America/New_York:20251001T180000
DTEND;TZID=America/New_York:20251001T190000
DTSTAMP:20260422T175419
CREATED:20250215T072759Z
LAST-MODIFIED:20250215T072759Z
UID:10002165-1759341600-1759345200@area53aa.org
SUMMARY:District 22 Meeting
DESCRIPTION:Save the Date \n5th Annual Red\, White and Sober \n\n\n			\n					\n						Download Flyer
URL:https://area53aa.org/event/district-22-meeting/2025-10-01/
LOCATION:OH
CATEGORIES:Monthly District Meetings
ORGANIZER;CN="District 22":MAILTO:dcm22@area53aa.org
END:VEVENT
BEGIN:VEVENT
DTSTART;TZID=America/New_York:20250928T173000
DTEND;TZID=America/New_York:20250928T183000
DTSTAMP:20260422T175419
CREATED:20250215T081335Z
LAST-MODIFIED:20250221T122247Z
UID:10002582-1759080600-1759084200@area53aa.org
SUMMARY:District 34 Meeting
DESCRIPTION:Save the Date \n5th Annual Red\, White and Sober \n\n\n			\n					\n						Download Flyer
URL:https://area53aa.org/event/district-34-meeting/2025-09-28/
LOCATION:Hoge Memorial Presbyterian Church\, 2930 West Broad Street\, Columbus\, OH\, 43204\, United States
CATEGORIES:Monthly District Meetings
GEO:39.9552438;-83.0786673
X-APPLE-STRUCTURED-LOCATION;VALUE=URI;X-ADDRESS=Hoge Memorial Presbyterian Church 2930 West Broad Street Columbus OH 43204 United States;X-APPLE-RADIUS=500;X-TITLE=2930 West Broad Street:geo:-83.0786673,39.9552438
END:VEVENT
BEGIN:VEVENT
DTSTART;TZID=America/New_York:20250927T110000
DTEND;TZID=America/New_York:20250927T120000
DTSTAMP:20260422T175419
CREATED:20250220T144020Z
LAST-MODIFIED:20250221T122239Z
UID:10002766-1758970800-1758974400@area53aa.org
SUMMARY:Accessibilities Committee Meeting
DESCRIPTION:Save the Date \n5th Annual Red\, White and Sober \n\n\n			\n					\n						Download Flyer
URL:https://area53aa.org/event/accessibilities-committee-meeting/2025-09-27/
LOCATION:Online Meeting
CATEGORIES:Monthly Standing Committee Meetings
ORGANIZER;CN="Accessibilities Committee":MAILTO:accessibilities@area53aa.org
END:VEVENT
BEGIN:VEVENT
DTSTART;TZID=America/New_York:20250927T100000
DTEND;TZID=America/New_York:20250927T140000
DTSTAMP:20260422T175419
CREATED:20250603T153151Z
LAST-MODIFIED:20250603T153151Z
UID:10003327-1758967200-1758981600@area53aa.org
SUMMARY:District 26 - Rule 62 Picnic
DESCRIPTION:Save the Date \n5th Annual Red\, White and Sober \n\n\n			\n					\n						Download Flyer
URL:https://area53aa.org/event/district-26-rule-62-picnic/
LOCATION:Hannah Park\, 6547 Clark State Road\, Blacklick\, OH\, 43004\, United States
ORGANIZER;CN="District 26":MAILTO:dcm26@area53aa.org
GEO:40.0420532;-82.8187299
X-APPLE-STRUCTURED-LOCATION;VALUE=URI;X-ADDRESS=Hannah Park 6547 Clark State Road Blacklick OH 43004 United States;X-APPLE-RADIUS=500;X-TITLE=6547 Clark State Road:geo:-82.8187299,40.0420532
END:VEVENT
BEGIN:VEVENT
DTSTART;TZID=America/New_York:20250927T090000
DTEND;TZID=America/New_York:20250927T223000
DTSTAMP:20260422T175419
CREATED:20250327T113843Z
LAST-MODIFIED:20250327T113844Z
UID:10003024-1758963600-1759012200@area53aa.org
SUMMARY:Archives Committee Meeting
DESCRIPTION:Save the Date \n5th Annual Red\, White and Sober \n\n\n			\n					\n						Download Flyer
URL:https://area53aa.org/event/archives-committee-meeting-2-2/2025-09-27/
LOCATION:COGF\, 645 W. Broad St.\, Columbus\, 43215\, United States
CATEGORIES:Monthly Standing Committee Meetings
ORGANIZER;CN="Area 53 Archives Committee":MAILTO:archives@area53aa.org
GEO:39.9599571;-83.0178443
X-APPLE-STRUCTURED-LOCATION;VALUE=URI;X-ADDRESS=COGF 645 W. Broad St. Columbus 43215 United States;X-APPLE-RADIUS=500;X-TITLE=645 W. Broad St.:geo:-83.0178443,39.9599571
END:VEVENT
BEGIN:VEVENT
DTSTART;TZID=America/New_York:20250926T203000
DTEND;TZID=America/New_York:20250926T230000
DTSTAMP:20260422T175419
CREATED:20250125T075337Z
LAST-MODIFIED:20250125T075636Z
UID:10001368-1758918600-1758927600@area53aa.org
SUMMARY:OYPAA - Game Night
DESCRIPTION:Save the Date \n5th Annual Red\, White and Sober \n\n\n			\n					\n						Download Flyer
URL:https://area53aa.org/event/oypaa-game-night/2025-09-26/
LOCATION:Indianola Presbyterian Church\, 1970 Waldeck Ave.\, Columbus\, OH\, 43201
CATEGORIES:Area 53 News
ORGANIZER;CN="OYPAA":MAILTO:oypaa38@gmail.com
GEO:40.0031531;-83.0051248
X-APPLE-STRUCTURED-LOCATION;VALUE=URI;X-ADDRESS=Indianola Presbyterian Church 1970 Waldeck Ave. Columbus OH 43201;X-APPLE-RADIUS=500;X-TITLE=1970 Waldeck Ave.:geo:-83.0051248,40.0031531
END:VEVENT
BEGIN:VEVENT
DTSTART;TZID=America/New_York:20250924T183000
DTEND;TZID=America/New_York:20250924T193000
DTSTAMP:20260422T175419
CREATED:20250215T081607Z
LAST-MODIFIED:20250215T081607Z
UID:10002642-1758738600-1758742200@area53aa.org
SUMMARY:District 15 Meeting
DESCRIPTION:Save the Date \n5th Annual Red\, White and Sober \n\n\n			\n					\n						Download Flyer
URL:https://area53aa.org/event/district-15-meeting/2025-09-24/
LOCATION:Serenity House Marietta\, 431 3rd Street\, Marietta\, OH\, 45750\, United States
CATEGORIES:Monthly District Meetings
ORGANIZER;CN="District 15":MAILTO:dcm15@area53aa.org
GEO:39.4195607;-81.4571447
X-APPLE-STRUCTURED-LOCATION;VALUE=URI;X-ADDRESS=Serenity House Marietta 431 3rd Street Marietta OH 45750 United States;X-APPLE-RADIUS=500;X-TITLE=431 3rd Street:geo:-81.4571447,39.4195607
END:VEVENT
BEGIN:VEVENT
DTSTART;TZID=America/New_York:20250921T180000
DTEND;TZID=America/New_York:20250921T190000
DTSTAMP:20260422T175419
CREATED:20250215T081126Z
LAST-MODIFIED:20250215T081126Z
UID:10002522-1758477600-1758481200@area53aa.org
SUMMARY:District 19 Meeting
DESCRIPTION:Save the Date \n5th Annual Red\, White and Sober \n\n\n			\n					\n						Download Flyer
URL:https://area53aa.org/event/district-19-meeting/2025-09-21/
LOCATION:Sabina United Methodist Church\, 61 W Elm St\, Sabina\, 45169\, United States
CATEGORIES:Monthly District Meetings
ORGANIZER;CN="District 19":MAILTO:dcm19@area53aa.org
GEO:39.4903491;-83.6374472
X-APPLE-STRUCTURED-LOCATION;VALUE=URI;X-ADDRESS=Sabina United Methodist Church 61 W Elm St Sabina 45169 United States;X-APPLE-RADIUS=500;X-TITLE=61 W Elm St:geo:-83.6374472,39.4903491
END:VEVENT
BEGIN:VEVENT
DTSTART;TZID=America/New_York:20250921T160000
DTEND;TZID=America/New_York:20250921T170000
DTSTAMP:20260422T175419
CREATED:20250215T080944Z
LAST-MODIFIED:20250215T080944Z
UID:10002463-1758470400-1758474000@area53aa.org
SUMMARY:District 12 Meeting
DESCRIPTION:Save the Date \n5th Annual Red\, White and Sober \n\n\n			\n					\n						Download Flyer
URL:https://area53aa.org/event/district-12-meeting/2025-09-21/
LOCATION:Springfield Alano Club Inc\, 1557 E Main St\, Springfield\, 45503\, United States
CATEGORIES:Monthly District Meetings
ORGANIZER;CN="District 12":MAILTO:dcm12@area53aa.org
GEO:39.9231477;-83.7860254
X-APPLE-STRUCTURED-LOCATION;VALUE=URI;X-ADDRESS=Springfield Alano Club Inc 1557 E Main St Springfield 45503 United States;X-APPLE-RADIUS=500;X-TITLE=1557 E Main St:geo:-83.7860254,39.9231477
END:VEVENT
BEGIN:VEVENT
DTSTART;TZID=America/New_York:20250921T150000
DTEND;TZID=America/New_York:20250921T163000
DTSTAMP:20260422T175419
CREATED:20250208T233428Z
LAST-MODIFIED:20250215T062320Z
UID:10001696-1758466800-1758472200@area53aa.org
SUMMARY:CPC/PI Committee Meeting
DESCRIPTION:Save the Date \n5th Annual Red\, White and Sober \n\n\n			\n					\n						Download Flyer
URL:https://area53aa.org/event/cpc-pi-committee-meeting-feb-16-2025/2025-09-21/
LOCATION:Franklinton Library\, 1061 W Town St\, Columbus\, 43222\, United States
CATEGORIES:Monthly Standing Committee Meetings
ORGANIZER;CN="Area 53 CPC-PI Committee":MAILTO:cpcpi@area53aa.org
GEO:39.9551728;-83.0277954
X-APPLE-STRUCTURED-LOCATION;VALUE=URI;X-ADDRESS=Franklinton Library 1061 W Town St Columbus 43222 United States;X-APPLE-RADIUS=500;X-TITLE=1061 W Town St:geo:-83.0277954,39.9551728
END:VEVENT
BEGIN:VEVENT
DTSTART;TZID=America/New_York:20250920T150000
DTEND;TZID=America/New_York:20250920T190000
DTSTAMP:20260422T175419
CREATED:20250811T160204Z
LAST-MODIFIED:20250811T160350Z
UID:10003414-1758380400-1758394800@area53aa.org
SUMMARY:LIA Ride for Sobriety
DESCRIPTION:Save the Date \n5th Annual Red\, White and Sober \n\n\n			\n					\n						Download Flyer
URL:https://area53aa.org/event/lia-ride-for-sobriety/
LOCATION:Lancaster Area Intergroup\, 723 Slocum Ave\, Lancaster\, 43130\, United States
CATEGORIES:Intergroup Event
GEO:39.7222571;-82.6130773
X-APPLE-STRUCTURED-LOCATION;VALUE=URI;X-ADDRESS=Lancaster Area Intergroup 723 Slocum Ave Lancaster 43130 United States;X-APPLE-RADIUS=500;X-TITLE=723 Slocum Ave:geo:-82.6130773,39.7222571
END:VEVENT
BEGIN:VEVENT
DTSTART;TZID=America/New_York:20250920T120000
DTEND;TZID=America/New_York:20250920T130000
DTSTAMP:20260422T175419
CREATED:20240118T035629Z
LAST-MODIFIED:20250215T054843Z
UID:10000447-1758369600-1758373200@area53aa.org
SUMMARY:Treatment Facilities Committee Monthly Meeting
DESCRIPTION:Save the Date \n5th Annual Red\, White and Sober \n\n\n			\n					\n						Download Flyer
URL:https://area53aa.org/event/treatment-facilities-committee-monthly-meeting/2025-09-20/
LOCATION:COGF\, 645 W. Broad St.\, Columbus\, 43215\, United States
CATEGORIES:Monthly Standing Committee Meetings
ORGANIZER;CN="Area 53 Treatment Facilities Committee":MAILTO:treatment@area53aa.org
GEO:39.9599571;-83.0178443
X-APPLE-STRUCTURED-LOCATION;VALUE=URI;X-ADDRESS=COGF 645 W. Broad St. Columbus 43215 United States;X-APPLE-RADIUS=500;X-TITLE=645 W. Broad St.:geo:-83.0178443,39.9599571
END:VEVENT
BEGIN:VEVENT
DTSTART;TZID=America/New_York:20250920T110000
DTEND;TZID=America/New_York:20250920T120000
DTSTAMP:20260422T175419
CREATED:20250215T074344Z
LAST-MODIFIED:20250215T074344Z
UID:10002403-1758366000-1758369600@area53aa.org
SUMMARY:District 21 Meeting
DESCRIPTION:Save the Date \n5th Annual Red\, White and Sober \n\n\n			\n					\n						Download Flyer
URL:https://area53aa.org/event/district-21-meeting/2025-09-20/
LOCATION:Wheelersburg United Methodist Church\, 11605 Gallia Pike Rd\, Wheelersburg\, 45694\, 45694\, United States
CATEGORIES:Monthly District Meetings
ORGANIZER;CN="District 21":MAILTO:dcm21@area53aa.org
GEO:38.7278325;-82.8543713
X-APPLE-STRUCTURED-LOCATION;VALUE=URI;X-ADDRESS=Wheelersburg United Methodist Church 11605 Gallia Pike Rd Wheelersburg 45694 45694 United States;X-APPLE-RADIUS=500;X-TITLE=11605 Gallia Pike Rd:geo:-82.8543713,38.7278325
END:VEVENT
BEGIN:VEVENT
DTSTART;TZID=America/New_York:20250920T100000
DTEND;TZID=America/New_York:20250920T140000
DTSTAMP:20260422T175419
CREATED:20250701T111745Z
LAST-MODIFIED:20250702T113344Z
UID:10003334-1758362400-1758376800@area53aa.org
SUMMARY:Corrections Facility Committee Workshop
DESCRIPTION:Save the Date \n5th Annual Red\, White and Sober \n\n\n			\n					\n						Download Flyer
URL:https://area53aa.org/event/corrections-facility-committee-workshop/
LOCATION:Peace Lutheran Church\, 455 Clark State Rd\, Gahanna\, Ohio\, 43230
CATEGORIES:Area 53 Committee Workshops
ORGANIZER;CN="Area 53 CFC Committee":MAILTO:corrections@area53aa.org
GEO:40.0237289;-82.8641311
X-APPLE-STRUCTURED-LOCATION;VALUE=URI;X-ADDRESS=Peace Lutheran Church 455 Clark State Rd Gahanna Ohio 43230;X-APPLE-RADIUS=500;X-TITLE=455 Clark State Rd:geo:-82.8641311,40.0237289
END:VEVENT
BEGIN:VEVENT
DTSTART;TZID=America/New_York:20250920T100000
DTEND;TZID=America/New_York:20250920T123000
DTSTAMP:20260422T175419
CREATED:20250910T181121Z
LAST-MODIFIED:20250910T181459Z
UID:10003539-1758362400-1758371400@area53aa.org
SUMMARY:ANNUAL AA GRAPEVINE WORKSHOP
DESCRIPTION:Save the Date \n5th Annual Red\, White and Sober \n\n\n			\n					\n						Download Flyer
URL:https://area53aa.org/event/annual-aa-grapevine-workshop/
LOCATION:Eastview Methodist Church\, 1045 Ross Rd.\, Columbus\, 43227\, United States
CATEGORIES:Area 53 Committee Workshops
ORGANIZER;CN="Area 53 Grapevine Committee":MAILTO:grapevine@area53aa.org
GEO:39.9541176;-82.8794763
X-APPLE-STRUCTURED-LOCATION;VALUE=URI;X-ADDRESS=Eastview Methodist Church 1045 Ross Rd. Columbus 43227 United States;X-APPLE-RADIUS=500;X-TITLE=1045 Ross Rd.:geo:-82.8794763,39.9541176
END:VEVENT
BEGIN:VEVENT
DTSTART;TZID=America/New_York:20250920T093000
DTEND;TZID=America/New_York:20250920T110000
DTSTAMP:20260422T175420
CREATED:20250831T033602Z
LAST-MODIFIED:20250831T033602Z
UID:10003479-1758360600-1758366000@area53aa.org
SUMMARY:District 33 Meeting
DESCRIPTION:Save the Date \n5th Annual Red\, White and Sober \n\n\n			\n					\n						Download Flyer
URL:https://area53aa.org/event/district-33-meeting-2/2025-09-20/
LOCATION:District 33 Meeting\, 700 Bryden Road Suite 210\, Columbus\, 43205\, United States
CATEGORIES:Monthly District Meetings
ORGANIZER;CN="District 33":MAILTO:dcm33@area53aa.org
GEO:39.960935;-82.9811385
X-APPLE-STRUCTURED-LOCATION;VALUE=URI;X-ADDRESS=District 33 Meeting 700 Bryden Road Suite 210 Columbus 43205 United States;X-APPLE-RADIUS=500;X-TITLE=700 Bryden Road Suite 210:geo:-82.9811385,39.960935
END:VEVENT
BEGIN:VEVENT
DTSTART;TZID=America/New_York:20250920T093000
DTEND;TZID=America/New_York:20250920T103000
DTSTAMP:20260422T175420
CREATED:20250215T073903Z
LAST-MODIFIED:20250215T073903Z
UID:10002344-1758360600-1758364200@area53aa.org
SUMMARY:District 26 Meeting
DESCRIPTION:Save the Date \n5th Annual Red\, White and Sober \n\n\n			\n					\n						Download Flyer
URL:https://area53aa.org/event/district-26-meeting/2025-09-20/
LOCATION:Whitehall United Methodist Church\, 525 Bernhard Road\, Columbus\, Ohio
CATEGORIES:Monthly District Meetings
ORGANIZER;CN="District 26":MAILTO:dcm26@area53aa.org
GEO:39.9640674;-82.8804352
X-APPLE-STRUCTURED-LOCATION;VALUE=URI;X-ADDRESS=Whitehall United Methodist Church 525 Bernhard Road Columbus Ohio;X-APPLE-RADIUS=500;X-TITLE=525 Bernhard Road:geo:-82.8804352,39.9640674
END:VEVENT
BEGIN:VEVENT
DTSTART;TZID=America/New_York:20250920T080000
DTEND;TZID=America/New_York:20250920T170000
DTSTAMP:20260422T175420
CREATED:20250215T055600Z
LAST-MODIFIED:20250215T055600Z
UID:10001637-1758355200-1758387600@area53aa.org
SUMMARY:District 7 Meeting
DESCRIPTION:Save the Date \n5th Annual Red\, White and Sober \n\n\n			\n					\n						Download Flyer
URL:https://area53aa.org/event/district-7-meeting/2025-09-20/
LOCATION:I.s.r.c.\, 554 Moxahala Ave\, Zanesville\, 43701\, United States
CATEGORIES:Monthly District Meetings
ORGANIZER;CN="District 7":MAILTO:dcm07@area53aa.org
GEO:39.9302383;-82.0053096
X-APPLE-STRUCTURED-LOCATION;VALUE=URI;X-ADDRESS=I.s.r.c. 554 Moxahala Ave Zanesville 43701 United States;X-APPLE-RADIUS=500;X-TITLE=554 Moxahala Ave:geo:-82.0053096,39.9302383
END:VEVENT
BEGIN:VEVENT
DTSTART;TZID=America/New_York:20250918T190000
DTEND;TZID=America/New_York:20250918T210000
DTSTAMP:20260422T175420
CREATED:20250912T004959Z
LAST-MODIFIED:20251005T183853Z
UID:10003560-1758222000-1758229200@area53aa.org
SUMMARY:Communication Services Committee Meeting (Virtual)
DESCRIPTION:Save the Date \n5th Annual Red\, White and Sober \n\n\n			\n					\n						Download Flyer
URL:https://area53aa.org/event/communication-services-committee-meeting-virtual-2-2-3/2025-09-18/
LOCATION:https://area53aa.org/event/communication-services-committee-meeting-virtual-2-2-3/2025-09-18/
ORGANIZER;CN="Communication Services Committee":MAILTO:CommServices@area53aa.org
END:VEVENT
BEGIN:VEVENT
DTSTART;TZID=America/New_York:20250918T190000
DTEND;TZID=America/New_York:20250918T200000
DTSTAMP:20260422T175420
CREATED:20250917T020246Z
LAST-MODIFIED:20250917T021632Z
UID:10003545-1758222000-1758225600@area53aa.org
SUMMARY:1st 2026 Mini Conference Planning Committee
DESCRIPTION:Save the Date \n5th Annual Red\, White and Sober \n\n\n			\n					\n						Download Flyer
URL:https://area53aa.org/event/1st-2026-mini-conference-planning-committee/
LOCATION:OH
CATEGORIES:AREA 53 EVENTS,Area 53 Mini-Conference
ORGANIZER;CN="Area 53 Mini-Conference Committee":MAILTO:altdelegate@area53aa.org
END:VEVENT
BEGIN:VEVENT
DTSTART;TZID=America/New_York:20250914T100000
DTEND;TZID=America/New_York:20250914T170000
DTSTAMP:20260422T175420
CREATED:20250802T153627Z
LAST-MODIFIED:20250910T093859Z
UID:10003412-1757844000-1757869200@area53aa.org
SUMMARY:Area 53 Assembly September 2025
DESCRIPTION:Save the Date \n5th Annual Red\, White and Sober \n\n\n			\n					\n						Download Flyer
URL:https://area53aa.org/event/area-53-assembly-september-2025/
LOCATION:Crossroads Ministry Center\, 2095 West Fair Ave\, Lancaster\, 43130\, United States
CATEGORIES:Area 53 Assembly,AREA 53 EVENTS
ATTACH;FMTTYPE=image/png:https://area53aa.org/wp-content/uploads/2025/04/June-Assembly.png
GEO:39.7274451;-82.6350504
X-APPLE-STRUCTURED-LOCATION;VALUE=URI;X-ADDRESS=Crossroads Ministry Center 2095 West Fair Ave Lancaster 43130 United States;X-APPLE-RADIUS=500;X-TITLE=2095 West Fair Ave:geo:-82.6350504,39.7274451
END:VEVENT
BEGIN:VEVENT
DTSTART;TZID=America/New_York:20250912T120000
DTEND;TZID=America/New_York:20250914T120000
DTSTAMP:20260422T175420
CREATED:20250817T122200Z
LAST-MODIFIED:20250821T225552Z
UID:10003418-1757678400-1757851200@area53aa.org
SUMMARY:OYPAA 42 CONFERENCE
DESCRIPTION:Save the Date \n5th Annual Red\, White and Sober \n\n\n			\n					\n						Download Flyer
URL:https://area53aa.org/event/oypaa-42-conference/
LOCATION:Wyndham Columbus\, 175 Hutchinson Ave\, Columbus\, 43235\, United States
ATTACH;FMTTYPE=image/webp:https://area53aa.org/wp-content/uploads/2025/08/s175411934310858285_p1_i2_w720.webp
ORGANIZER;CN="OYPAA":MAILTO:oypaa38@gmail.com
GEO:40.1131621;-83.0109592
X-APPLE-STRUCTURED-LOCATION;VALUE=URI;X-ADDRESS=Wyndham Columbus 175 Hutchinson Ave Columbus 43235 United States;X-APPLE-RADIUS=500;X-TITLE=175 Hutchinson Ave:geo:-83.0109592,40.1131621
END:VEVENT
BEGIN:VEVENT
DTSTART;TZID=America/New_York:20250911T180000
DTEND;TZID=America/New_York:20250911T210000
DTSTAMP:20260422T175420
CREATED:20250811T153019Z
LAST-MODIFIED:20250811T155623Z
UID:10003413-1757613600-1757624400@area53aa.org
SUMMARY:Thursday Night Open Lead Meeting Anniversary
DESCRIPTION:Save the Date \n5th Annual Red\, White and Sober \n\n\n			\n					\n						Download Flyer
URL:https://area53aa.org/event/thursday-night-open-lead-meeting-anniversary/
LOCATION:CALVARY BAPTIST CHURCH\, 1910 Marietta Rd\, Lancaster\, OH\, 43130\, United States
ATTACH;FMTTYPE=image/png:https://area53aa.org/wp-content/uploads/2025/08/qr_35438_140.png
GEO:39.7211154;-82.54206
X-APPLE-STRUCTURED-LOCATION;VALUE=URI;X-ADDRESS=CALVARY BAPTIST CHURCH 1910 Marietta Rd Lancaster OH 43130 United States;X-APPLE-RADIUS=500;X-TITLE=1910 Marietta Rd:geo:-82.54206,39.7211154
END:VEVENT
BEGIN:VEVENT
DTSTART;TZID=America/New_York:20250910T190000
DTEND;TZID=America/New_York:20250910T210000
DTSTAMP:20260422T175420
CREATED:20250825T182612Z
LAST-MODIFIED:20250825T184208Z
UID:10003419-1757530800-1757538000@area53aa.org
SUMMARY:Area Service Sharing Session
DESCRIPTION:Save the Date \n5th Annual Red\, White and Sober \n\n\n			\n					\n						Download Flyer
URL:https://area53aa.org/event/area-service-sharing-session/2025-09-10/
LOCATION:OH
CATEGORIES:Area 53 Committee Workshops,AREA 53 EVENTS
END:VEVENT
END:VCALENDAR