BEGIN:VCALENDAR
VERSION:2.0
PRODID:-//Area 53 AA - ECPv6.15.20//NONSGML v1.0//EN
CALSCALE:GREGORIAN
METHOD:PUBLISH
X-ORIGINAL-URL:https://area53aa.org
X-WR-CALDESC:Events for Area 53 AA
REFRESH-INTERVAL;VALUE=DURATION:PT1H
X-Robots-Tag:noindex
X-PUBLISHED-TTL:PT1H
BEGIN:VTIMEZONE
TZID:America/New_York
BEGIN:DAYLIGHT
TZOFFSETFROM:-0500
TZOFFSETTO:-0400
TZNAME:EDT
DTSTART:20230312T070000
END:DAYLIGHT
BEGIN:STANDARD
TZOFFSETFROM:-0400
TZOFFSETTO:-0500
TZNAME:EST
DTSTART:20231105T060000
END:STANDARD
BEGIN:DAYLIGHT
TZOFFSETFROM:-0500
TZOFFSETTO:-0400
TZNAME:EDT
DTSTART:20240310T070000
END:DAYLIGHT
BEGIN:STANDARD
TZOFFSETFROM:-0400
TZOFFSETTO:-0500
TZNAME:EST
DTSTART:20241103T060000
END:STANDARD
BEGIN:DAYLIGHT
TZOFFSETFROM:-0500
TZOFFSETTO:-0400
TZNAME:EDT
DTSTART:20250309T070000
END:DAYLIGHT
BEGIN:STANDARD
TZOFFSETFROM:-0400
TZOFFSETTO:-0500
TZNAME:EST
DTSTART:20251102T060000
END:STANDARD
END:VTIMEZONE
BEGIN:VEVENT
DTSTART;TZID=America/New_York:20241110T180000
DTEND;TZID=America/New_York:20241110T200000
DTSTAMP:20260423T112614
CREATED:20241026T104939Z
LAST-MODIFIED:20241110T224245Z
UID:10001215-1731261600-1731268800@area53aa.org
SUMMARY:Boiled Owls Anniversary - Nov 10th
DESCRIPTION:Flyer Coming Soon. \nAnniversary Potluck Dinner. \nMini Leads \nBring a dish to pass and come hungry!
URL:https://area53aa.org/event/boiled-owls-anniversary-nov-10th/
LOCATION:Crestview Presbyterian Church\, 350 E. Tulane\, Columbus\, Ohio\, 43202
CATEGORIES:Group Anniversary
GEO:40.0232105;-83.0040125
X-APPLE-STRUCTURED-LOCATION;VALUE=URI;X-ADDRESS=Crestview Presbyterian Church 350 E. Tulane Columbus Ohio 43202;X-APPLE-RADIUS=500;X-TITLE=350 E. Tulane:geo:-83.0040125,40.0232105
END:VEVENT
BEGIN:VEVENT
DTSTART;TZID=America/New_York:20241106T193000
DTEND;TZID=America/New_York:20241106T203000
DTSTAMP:20260423T112614
CREATED:20241102T205903Z
LAST-MODIFIED:20241110T224225Z
UID:10001278-1730921400-1730925000@area53aa.org
SUMMARY:Mini Conference Planning Committee
DESCRIPTION:Please join us on Wednesday\, November 6 at 7:30 pm at Central Ohio Group Fellowship (COGF) for the first 2025 Mini Conference Planning Committee meeting. Your participation and input is valuable as we collaborate to begin planning for a successful and enjoyable Mini Conference. \nThe meeting will be hybrid\, but you are encouraged to attend in person if possible. If you have any questions\, please contact Marcia H. at 614-589-1788 (text or leave a message). \nIn-person at COGF\n651 West Broad Street\nColumbus\, OH 43215 \nJoin Zoom Meeting\nhttps://us02web.zoom.us/j/88156580621?pwd=lCZSxrZQBnfrxmbiBZSkcb8qFFr85l.1 \nMeeting ID: 881 5658 0621\nPasscode: Area53
URL:https://area53aa.org/event/mini-conference-planning-committee-3/
LOCATION:COGF\, 645 W. Broad St.\, Columbus\, 43215\, United States
CATEGORIES:Area Planning Committee Meetings
GEO:39.9599571;-83.0178443
X-APPLE-STRUCTURED-LOCATION;VALUE=URI;X-ADDRESS=COGF 645 W. Broad St. Columbus 43215 United States;X-APPLE-RADIUS=500;X-TITLE=645 W. Broad St.:geo:-83.0178443,39.9599571
END:VEVENT
BEGIN:VEVENT
DTSTART;TZID=America/New_York:20241101T183000
DTEND;TZID=America/New_York:20241103T110000
DTSTAMP:20260423T112614
CREATED:20241006T000952Z
LAST-MODIFIED:20241006T000952Z
UID:10001212-1730485800-1730631600@area53aa.org
SUMMARY:13th Annual Buckeye Roundup
DESCRIPTION:Download Flyer \n  \n2024-Buckeye-Roundup-Flyer-7dd2e0b
URL:https://area53aa.org/event/13th-annual-buckeye-roundup/
LOCATION:Holiday Inn Cincinnati Eastgate\, 4501 Eastgate Blvd.\, Batavia\, Ohio\, 45245
GEO:39.099645;-84.2750867
X-APPLE-STRUCTURED-LOCATION;VALUE=URI;X-ADDRESS=Holiday Inn Cincinnati Eastgate 4501 Eastgate Blvd. Batavia Ohio 45245;X-APPLE-RADIUS=500;X-TITLE=4501 Eastgate Blvd.:geo:-84.2750867,39.099645
END:VEVENT
BEGIN:VEVENT
DTSTART;TZID=America/New_York:20241027T163000
DTEND;TZID=America/New_York:20241027T203000
DTSTAMP:20260423T112614
CREATED:20240915T125707Z
LAST-MODIFIED:20241102T221952Z
UID:10001207-1730046600-1730061000@area53aa.org
SUMMARY:Marengo Octsoberfest - Oct 27th
DESCRIPTION:Download Flyer Here
URL:https://area53aa.org/event/marengo-octsoberfest-oct-27th/
LOCATION:American Legion\, 1549 Co Rd 26\, Marengo\, 43334\, United States
CATEGORIES:Group Anniversary
GEO:40.4095337;-82.8099375
X-APPLE-STRUCTURED-LOCATION;VALUE=URI;X-ADDRESS=American Legion 1549 Co Rd 26 Marengo 43334 United States;X-APPLE-RADIUS=500;X-TITLE=1549 Co Rd 26:geo:-82.8099375,40.4095337
END:VEVENT
BEGIN:VEVENT
DTSTART;TZID=America/New_York:20241026T180000
DTEND;TZID=America/New_York:20241026T210000
DTSTAMP:20260423T112614
CREATED:20240819T111039Z
LAST-MODIFIED:20241102T222002Z
UID:10001156-1729965600-1729976400@area53aa.org
SUMMARY:District 28 Stay Sober for October 2024
DESCRIPTION:Bring your favorite Fall Side dish\, wear a costume\, dance\, food\, fellowship\, and GSR School\, Door Prizes\, and tons of fun. \nDownload Flyer HERE or Click Image Below
URL:https://area53aa.org/event/district-28-stay-sober-for-october-2024/
LOCATION:Christian Assembly Church\, 4099 Karl Rd\, Columbus\, 43224\, United States
ORGANIZER;CN="District 28":MAILTO:dcm28@area53aa.org
GEO:40.0515572;-82.9782409
X-APPLE-STRUCTURED-LOCATION;VALUE=URI;X-ADDRESS=Christian Assembly Church 4099 Karl Rd Columbus 43224 United States;X-APPLE-RADIUS=500;X-TITLE=4099 Karl Rd:geo:-82.9782409,40.0515572
END:VEVENT
BEGIN:VEVENT
DTSTART;TZID=America/New_York:20241019T100000
DTEND;TZID=America/New_York:20241019T140000
DTSTAMP:20260423T112614
CREATED:20240915T130956Z
LAST-MODIFIED:20241102T222011Z
UID:10001208-1729332000-1729346400@area53aa.org
SUMMARY:Corrections Workshop October 19
DESCRIPTION:Corrections Workshop\nOctober 19\, 2024 at 10:00:00 AM\nPeace Lutheran Church \n455 Clark State Rd \nGahanna\, OH 43230 \nPre-Registration \nLink to Flyer \nLink to Zoom \nMeeting ID: 848 2196 4825 \nPass Code: Area53
URL:https://area53aa.org/event/corrections-workshop-october-19/
LOCATION:Peace Lutheran Church\, 455 Clark State Rd\, Gahanna\, Ohio\, 43230
GEO:40.0237289;-82.8641311
X-APPLE-STRUCTURED-LOCATION;VALUE=URI;X-ADDRESS=Peace Lutheran Church 455 Clark State Rd Gahanna Ohio 43230;X-APPLE-RADIUS=500;X-TITLE=455 Clark State Rd:geo:-82.8641311,40.0237289
END:VEVENT
BEGIN:VEVENT
DTSTART;TZID=America/New_York:20241013T130000
DTEND;TZID=America/New_York:20241013T160000
DTSTAMP:20260423T112614
CREATED:20240622T234320Z
LAST-MODIFIED:20241102T222057Z
UID:10000631-1728824400-1728835200@area53aa.org
SUMMARY:Area Committee Meeting: October 13 2024
DESCRIPTION:The Area Committee is composed of Area 53 Delegate and Alt Delegate\, Area Officers and their alternates\, DCMs or their alternates\, Standing Committee Chairs or their alternates and the DCMC or their alternate.  Other members\, including Past Delegates\, GSRs and interested AAs are welcome to attend but do not vote.  The in-person meeting will be held at Hoge Memorial Presbyterian Church\, 2930 West Broad St\, Columbus OH. \nMeeting Documents \nAgenda \nP73_2024_JULY_ACM_DRAFT MINS \nP73_2024_OCT_ACM_2025 PROP’D BUDGET \nP73_2024_OCT_ACM_2025 STAND COMM REQ’S \n  \n  \n 
URL:https://area53aa.org/event/area-committee-meeting-july-9-2023-copy-copy-copy-copy/
LOCATION:Hoge Memorial Presbyterian Church\, 2930 West Broad Street\, Columbus\, OH\, 43204\, United States
CATEGORIES:Area Planning Committee Meetings
GEO:39.9552438;-83.0786673
X-APPLE-STRUCTURED-LOCATION;VALUE=URI;X-ADDRESS=Hoge Memorial Presbyterian Church 2930 West Broad Street Columbus OH 43204 United States;X-APPLE-RADIUS=500;X-TITLE=2930 West Broad Street:geo:-83.0786673,39.9552438
END:VEVENT
BEGIN:VEVENT
DTSTART;TZID=America/New_York:20241012T100000
DTEND;TZID=America/New_York:20241012T130000
DTSTAMP:20260423T112614
CREATED:20240915T212321Z
LAST-MODIFIED:20241102T222117Z
UID:10001209-1728727200-1728738000@area53aa.org
SUMMARY:District 15 Breakfast: Our Primary Purpose
DESCRIPTION:Our Primary Purpose\nDownload Flyer Here \nJoin us for a meaningful morning as we gather for a delicious breakfast\, followed by an insightful panel discussion on our Primary Purpose: to carry the message of hope to sick and suffering alcoholics. \nDate: October 12th\, 2024Doors Open: 9:30 AMBreakfast Served: 10:00 AMLocation: First Presbyterian ChurchAddress: 501 4th St.\, Marietta\, OH 45750 \nWe look forward to seeing you there!
URL:https://area53aa.org/event/district-15-breakfast/
LOCATION:First Presbyterian Church – Marietta\, 201 4th Street\, Marietta\, 45750
GEO:39.4152385;-81.4501992
X-APPLE-STRUCTURED-LOCATION;VALUE=URI;X-ADDRESS=First Presbyterian Church – Marietta 201 4th Street Marietta 45750;X-APPLE-RADIUS=500;X-TITLE=201 4th Street:geo:-81.4501992,39.4152385
END:VEVENT
BEGIN:VEVENT
DTSTART;TZID=America/New_York:20241006T100000
DTEND;TZID=America/New_York:20241006T140000
DTSTAMP:20260423T112614
CREATED:20240817T030243Z
LAST-MODIFIED:20241102T222127Z
UID:10001154-1728208800-1728223200@area53aa.org
SUMMARY:District 26 Presents Rule 62 Day
DESCRIPTION:Rule 62 10_06_2024
URL:https://area53aa.org/event/32538/
LOCATION:Hannah Park\, 6547 Clark State Road\, Blacklick\, OH\, 43004\, United States
GEO:40.0420532;-82.8187299
X-APPLE-STRUCTURED-LOCATION;VALUE=URI;X-ADDRESS=Hannah Park 6547 Clark State Road Blacklick OH 43004 United States;X-APPLE-RADIUS=500;X-TITLE=6547 Clark State Road:geo:-82.8187299,40.0420532
END:VEVENT
BEGIN:VEVENT
DTSTART;TZID=America/New_York:20241005T090000
DTEND;TZID=America/New_York:20241005T150000
DTSTAMP:20260423T112614
CREATED:20240916T115140Z
LAST-MODIFIED:20240916T115309Z
UID:10001210-1728118800-1728140400@area53aa.org
SUMMARY:Cabin Fever - 12 Step Study - District 16 - Oct 5th
DESCRIPTION:Download Flyer Here
URL:https://area53aa.org/event/cabin-fever-12-step-study-district-16-oct-5th/
LOCATION:athens County Shrine club\, 50 Connett Rd\, The Plains\, OH\, 45780
GEO:39.3704592;-82.137019
X-APPLE-STRUCTURED-LOCATION;VALUE=URI;X-ADDRESS=athens County Shrine club 50 Connett Rd The Plains OH 45780;X-APPLE-RADIUS=500;X-TITLE=50 Connett Rd:geo:-82.137019,39.3704592
END:VEVENT
BEGIN:VEVENT
DTSTART;VALUE=DATE:20241005
DTEND;VALUE=DATE:20241006
DTSTAMP:20260423T112614
CREATED:20240923T113044Z
LAST-MODIFIED:20240923T113833Z
UID:10001211-1728086400-1728172799@area53aa.org
SUMMARY:Chilli Cook Off - District 34 - Oct 5th
DESCRIPTION:District 34 Chili Cook-Off – 50/50 Raffle\, Door Prizes\, Gift Cards for Chili Cook off winners. 1st place $25\, 2nd Place $15\, 3rd Place $10 Download Flyer Here \nWhen: Saturday\, October 5th 2024 \nWhere: Desert Island Club 501 Josephine Ave\, Columbus\, OH 43204 \nTime: TBD – Before OSU v Iowa Game \n 
URL:https://area53aa.org/event/chilli-cook-off-district-34-oct-5th/
LOCATION:Desert Island Social and Recovery Club\, 501 Josephine Ave\, Columbus\, OH\, 43204\, United States
GEO:39.9434982;-83.0935338
X-APPLE-STRUCTURED-LOCATION;VALUE=URI;X-ADDRESS=Desert Island Social and Recovery Club 501 Josephine Ave Columbus OH 43204 United States;X-APPLE-RADIUS=500;X-TITLE=501 Josephine Ave:geo:-83.0935338,39.9434982
END:VEVENT
BEGIN:VEVENT
DTSTART;TZID=America/New_York:20240914T170000
DTEND;TZID=America/New_York:20240914T200000
DTSTAMP:20260423T112614
CREATED:20240817T031253Z
LAST-MODIFIED:20241026T110549Z
UID:10001155-1726333200-1726344000@area53aa.org
SUMMARY:District 11 Beat the Heat BBQ and Bake off
DESCRIPTION:Powered By EmbedPress         \n\n\n	D11 BBQ flyer
URL:https://area53aa.org/event/district-11-beat-the-heat-bbq-and-bake-off/
LOCATION:Marysville Nazarene Church\, 1126 N Maple St (St Rt 31)\, Marysville\, OH\, 43040
GEO:40.2511589;-83.3721775
X-APPLE-STRUCTURED-LOCATION;VALUE=URI;X-ADDRESS=Marysville Nazarene Church 1126 N Maple St (St Rt 31) Marysville OH 43040;X-APPLE-RADIUS=500;X-TITLE=1126 N Maple St (St Rt 31):geo:-83.3721775,40.2511589
END:VEVENT
BEGIN:VEVENT
DTSTART;TZID=America/New_York:20240914T170000
DTEND;TZID=America/New_York:20240914T200000
DTSTAMP:20260423T112614
CREATED:20240724T005322Z
LAST-MODIFIED:20240724T010706Z
UID:10000856-1726333200-1726344000@area53aa.org
SUMMARY:District 11 - Beat the Heat BBQ - Sept 14
DESCRIPTION:
URL:https://area53aa.org/event/district-11-beat-the-heat-bbq-sept-14/
LOCATION:Church of the Nazarene\, 1126 N Maple St.\, Marysville\, Ohio\, 43040
GEO:40.2511589;-83.3721775
X-APPLE-STRUCTURED-LOCATION;VALUE=URI;X-ADDRESS=Church of the Nazarene 1126 N Maple St. Marysville Ohio 43040;X-APPLE-RADIUS=500;X-TITLE=1126 N Maple St.:geo:-83.3721775,40.2511589
END:VEVENT
BEGIN:VEVENT
DTSTART;TZID=America/New_York:20240914T110000
DTEND;TZID=America/New_York:20240914T150000
DTSTAMP:20260423T112614
CREATED:20240528T220830Z
LAST-MODIFIED:20240603T162107Z
UID:10000506-1726311600-1726326000@area53aa.org
SUMMARY:Annual Grapevine Writing Workshop Sept. 14 2024
DESCRIPTION:
URL:https://area53aa.org/event/annual-grapevine-writing-workshop-sept-14-2024/
LOCATION:Whitehall United Methodist Church\, 525 Bernhard Road\, Columbus\, Ohio
ORGANIZER;CN="Area 53 Grapevine Committee":MAILTO:grapevine@area53aa.org
GEO:39.9640674;-82.8804352
X-APPLE-STRUCTURED-LOCATION;VALUE=URI;X-ADDRESS=Whitehall United Methodist Church 525 Bernhard Road Columbus Ohio;X-APPLE-RADIUS=500;X-TITLE=525 Bernhard Road:geo:-82.8804352,39.9640674
END:VEVENT
BEGIN:VEVENT
DTSTART;TZID=America/New_York:20240908T170000
DTEND;TZID=America/New_York:20240908T190000
DTSTAMP:20260423T112614
CREATED:20240728T154442Z
LAST-MODIFIED:20240728T154442Z
UID:10000859-1725814800-1725822000@area53aa.org
SUMMARY:McArthur AA Picnic
DESCRIPTION:
URL:https://area53aa.org/event/mcarthur-aa-picnic/
LOCATION:Wyman Park\, 510 Northview Rd\, McArthur\, OH\, 45651
GEO:39.2503525;-82.4857412
X-APPLE-STRUCTURED-LOCATION;VALUE=URI;X-ADDRESS=Wyman Park 510 Northview Rd McArthur OH 45651;X-APPLE-RADIUS=500;X-TITLE=510 Northview Rd:geo:-82.4857412,39.2503525
END:VEVENT
BEGIN:VEVENT
DTSTART;TZID=America/New_York:20240908T090000
DTEND;TZID=America/New_York:20240908T130000
DTSTAMP:20260423T112614
CREATED:20240623T000541Z
LAST-MODIFIED:20240904T133957Z
UID:10000633-1725786000-1725800400@area53aa.org
SUMMARY:Area 53 Assembly\, 10:00AM September 8\, 2024
DESCRIPTION:Area 53 Assembly\, September 8\, 2024\, 10am  This will be a hybrid event.  The in-person location will be the Doubletree by Hilton Columbus-Worthington\, 175 Hutchinson Avenue\, Columbus\, Ohio 43235.  Online participants may access the meeting using the Zoom meeting info below.\nThe Area Assembly is a meeting of the Area’s GSRs and the Area Committee\, which is composed of DCMs\, area officers\, and chairpersons of area standing committees. All interested AA members are welcome.  The agenda and additional documents will be posted on this page as they become available.   \nPre-registration using the button above will speed up the check in process and help officers to have the necessary documents available for all participants.   Please arrive by 9:15am to check in\, enjoy some fellowship and review documents.\n	Assembly Documents\nAgenda \nAgenda and Reports \nRegistrar’s Report \nProposed Guidelines- Communications Services \nQualifications of Officers \nDuties of Officers \nPamphlet: Area 53 General Service \nArea 53 Income Statement Explanations \n  \n	Join Zoom Meeting \nMeeting ID: 911 053 2023\nPasscode: area53aa\nPhone in : (929) 436-2866
URL:https://area53aa.org/event/area-53-assembly-1000am-june-4-2023-copy-copy-copy-copy-2/
LOCATION:DoubleTree By Hilton Columbus Worthington\, 175 Hutchinson Ave\, Columbus\, OH\, 43225\, United States
CATEGORIES:Area 53 Assembly
ATTACH;FMTTYPE=image/png:https://area53aa.org/wp-content/uploads/2022/01/feedback.png
GEO:40.1130888;-83.0114746
X-APPLE-STRUCTURED-LOCATION;VALUE=URI;X-ADDRESS=DoubleTree By Hilton Columbus Worthington 175 Hutchinson Ave Columbus OH 43225 United States;X-APPLE-RADIUS=500;X-TITLE=175 Hutchinson Ave:geo:-83.0114746,40.1130888
END:VEVENT
BEGIN:VEVENT
DTSTART;TZID=America/New_York:20240907T180000
DTEND;TZID=America/New_York:20240907T210000
DTSTAMP:20260423T112614
CREATED:20240812T222240Z
LAST-MODIFIED:20240812T222508Z
UID:10001153-1725732000-1725742800@area53aa.org
SUMMARY:Byesville BYOB 9th Anniversary Sept 7 2024
DESCRIPTION:Download Flyer HERE
URL:https://area53aa.org/event/byesville-byob-9th-anniversary-sept-7-2024/
LOCATION:Stop 9 Church of Christ\, 68880 Southgate Rd.\, Byesville\, Ohio\, 43723\, United States
GEO:39.9829015;-81.5701351
X-APPLE-STRUCTURED-LOCATION;VALUE=URI;X-ADDRESS=Stop 9 Church of Christ 68880 Southgate Rd. Byesville Ohio 43723 United States;X-APPLE-RADIUS=500;X-TITLE=68880 Southgate Rd.:geo:-81.5701351,39.9829015
END:VEVENT
BEGIN:VEVENT
DTSTART;TZID=America/New_York:20240901T130000
DTEND;TZID=America/New_York:20240901T160000
DTSTAMP:20260423T112614
CREATED:20240523T085036Z
LAST-MODIFIED:20240523T085036Z
UID:10000505-1725195600-1725206400@area53aa.org
SUMMARY:Downtown First Things First Event
DESCRIPTION:Downtown First Things First will have an event on \nSUNDAY\, SEPTEMBER 1ST\n1:00 PM FOOD TRUCK AND FELLOWSHIP\,\n4:00 PM MEETING\n200 E Livingston Ave\nColumbus Ohio 43215
URL:https://area53aa.org/event/downtown-first-things-first-event/
LOCATION:200 E Livingston Columbus\, OH\, 200 E Livingston Ave\, Columbus\, OH\, 43215\, United States
GEO:39.9529748;-82.9936238
X-APPLE-STRUCTURED-LOCATION;VALUE=URI;X-ADDRESS=200 E Livingston Columbus OH 200 E Livingston Ave Columbus OH 43215 United States;X-APPLE-RADIUS=500;X-TITLE=200 E Livingston Ave:geo:-82.9936238,39.9529748
END:VEVENT
BEGIN:VEVENT
DTSTART;TZID=America/New_York:20240824T140000
DTEND;TZID=America/New_York:20240824T160000
DTSTAMP:20260423T112614
CREATED:20240602T164656Z
LAST-MODIFIED:20240724T010621Z
UID:10000508-1724508000-1724515200@area53aa.org
SUMMARY:District 30 Old Timers Panel
DESCRIPTION:
URL:https://area53aa.org/event/district-30-old-timers-panel/
LOCATION:meadiw park church\, 2425 Bethel Rd.\, Columbus\, Ohio\, 43220
CATEGORIES:Area 53 News
GEO:40.064526;-83.084106
X-APPLE-STRUCTURED-LOCATION;VALUE=URI;X-ADDRESS=meadiw park church 2425 Bethel Rd. Columbus Ohio 43220;X-APPLE-RADIUS=500;X-TITLE=2425 Bethel Rd.:geo:-83.084106,40.064526
END:VEVENT
BEGIN:VEVENT
DTSTART;TZID=America/New_York:20240824T110000
DTEND;TZID=America/New_York:20240824T150000
DTSTAMP:20260423T112614
CREATED:20240311T124200Z
LAST-MODIFIED:20240524T225441Z
UID:10000495-1724497200-1724511600@area53aa.org
SUMMARY:Pleasant Valley Group - 78th Anniversary Celebration Hog Roast - August 24th
DESCRIPTION:DOWNLOAD FLYER HERE or click image below. \nPleasant Valley Group – 78th Anniversary Celebration – Hog Roast\nPoint Pleasant\, West Virginia\nWHERE: Mason County WV Farm Museum\, 1458 Fairground Road\, Point Pleasant\, WV 25550\nLocated 4 miles north of Point Pleasant\, WV\, 7 Miles south of Mason\, WV\, just off Route 62 on Fairgrounds Rd\, across from The Mason County Fairgrounds.\nWHEN: Saturday\, August 24th\, 2024\nTIME: Fellowship starts: @11:00am\, Eat: @12:30pm\, Speaker: @2:00pm\nAA SPEAKER: David D. (Annapolis\, MD)\n* The Speaker carries a profound message of hope and recovery. Please join us\, as they share their amazing journey through sobriety.\nCOME CELEBRATE 78 YEARS OF AA IN POINT PLEASANT\, WEST VIRGINIA.\nPLEASE BRING A COVERED DISH OR DESSERT AND A FRIEND FOR AN AFTERNOON OF FOOD\, FUN\, AND FELLOWSHIP AT THE HISTORIC MASON COUNTY FARM MUSEUM.\nContact: Ryan C: roc49er@yahoo.com (304) 593-4261\, Allison C: allirn626@yahoo.com (740) 577-4871\,\nStan B: stantonburdette@yahoo.com (304) 593-1458\n*AIR-CONDITIONED MEETING AND DINING HALL\, HANDICAP ACCESSIBLE
URL:https://area53aa.org/event/pleasant-valley-group-78th-anniversary-celebration-hog-roast-august-24th/
LOCATION:Mason County WV Farm Museum\, 1458 Fairground Road\, Point Pleasant\, WV\, 25550
CATEGORIES:Area 53 News
ORGANIZER;CN="Pleasant Valley Group":MAILTO:roc49er@yahoo.com
GEO:38.9199665;-82.0883185
X-APPLE-STRUCTURED-LOCATION;VALUE=URI;X-ADDRESS=Mason County WV Farm Museum 1458 Fairground Road Point Pleasant WV 25550;X-APPLE-RADIUS=500;X-TITLE=1458 Fairground Road:geo:-82.0883185,38.9199665
END:VEVENT
BEGIN:VEVENT
DTSTART;TZID=America/New_York:20240810T110000
DTEND;TZID=America/New_York:20240810T143000
DTSTAMP:20260423T112614
CREATED:20240728T153947Z
LAST-MODIFIED:20240728T153947Z
UID:10000858-1723287600-1723300200@area53aa.org
SUMMARY:Woodsfield Big Book Study 42nd Anniversary
DESCRIPTION:WOODSFIELD \nBIG BOOK STUDY \n42nd ANNIVERSARY \n  \nWhen: Saturday August 10th\, 2024 \nWhere: Woodsfield Church of the Nazarene \n223 Maple Ave\, Woodsfield\, OH 43793 \n\nTime: Fellowship @ 11:00Am \nLunch @ 12:00PM \nSpeaker @ 1:30 PM \n\n\nHamburgers\, Hot Dogs and Drinks will be provided! \nPlease bring a Covered Dish or Dessert \n                                                                                                          Come help us celebrate!
URL:https://area53aa.org/event/woodsfield-big-book-study-42nd-anniversary/
LOCATION:Woodsfield Church of the Nazarene\, 223 Maple Ave.\, Woodsfield\, OH\, 43793\, United States
GEO:39.7664756;-81.1047836
X-APPLE-STRUCTURED-LOCATION;VALUE=URI;X-ADDRESS=Woodsfield Church of the Nazarene 223 Maple Ave. Woodsfield OH 43793 United States;X-APPLE-RADIUS=500;X-TITLE=223 Maple Ave.:geo:-81.1047836,39.7664756
END:VEVENT
BEGIN:VEVENT
DTSTART;TZID=America/New_York:20240714T130000
DTEND;TZID=America/New_York:20240714T160000
DTSTAMP:20260423T112614
CREATED:20240622T233713Z
LAST-MODIFIED:20240710T110101Z
UID:10000630-1720962000-1720972800@area53aa.org
SUMMARY:Area Committee Meeting July 14\, 2024
DESCRIPTION:The Area Committee is composed of Area 53 Delegate and Alt Delegate\, Area Officers and their alternates\, DCMs or their alternates\, Standing Committee Chairs or their alternates and the DCMC or their alternate.  Other members\, including Past Delegates\, GSRs and interested AAs are welcome to attend but do not vote.  The in-person meeting will be held at Hoge Memorial Presbyterian Church\, 2930 West Broad St\, Columbus OH. \nMeeting Documents: \nAgenda \nProp’d Guideline Re: Comm Svcs Comm \n 
URL:https://area53aa.org/event/area-committee-meeting-july-9-2023-copy-copy-copy/
LOCATION:Hoge Memorial Presbyterian Church\, 2930 West Broad Street\, Columbus\, OH\, 43204\, United States
CATEGORIES:Area Planning Committee Meetings
GEO:39.9552438;-83.0786673
X-APPLE-STRUCTURED-LOCATION;VALUE=URI;X-ADDRESS=Hoge Memorial Presbyterian Church 2930 West Broad Street Columbus OH 43204 United States;X-APPLE-RADIUS=500;X-TITLE=2930 West Broad Street:geo:-83.0786673,39.9552438
END:VEVENT
BEGIN:VEVENT
DTSTART;TZID=America/New_York:20240714T100000
DTEND;TZID=America/New_York:20240714T120000
DTSTAMP:20260423T112614
CREATED:20240624T082432Z
LAST-MODIFIED:20240624T085731Z
UID:10000634-1720951200-1720958400@area53aa.org
SUMMARY:DCM Meeting July 14th 2024
DESCRIPTION:Please join us for our quartey DCM meeting. \nThis meeting will be held on July 14th\, 2024 at the: \nDessert Island Club \n501 Josephine Ave \nColumbus\, OH 43204 \n10:00 AM – 12:00 PM \n  \nTopic: DCMC\nTime: Jul 14\, 2024 10:00 AM Eastern Time (US and Canada)\n        Every 3 months on the Second Sun\, until Apr 13\, 2025\, 4 occurrence(s)\n        Jul 14\, 2024 10:00 AM\n        Oct 13\, 2024 10:00 AM\n        Jan 12\, 2025 10:00 AM\n        Apr 13\, 2025 10:00 AM\nPlease download and import the following iCalendar (.ics) files to your calendar system.\nMonthly: https://us02web.zoom.us/meeting/tZMofu6rpzssE9LBmIdsB26FFZ-diz0dFSRm/ics?icsToken=98tyKuGvqzItGd2VthCBRpwEGYr4KOnxmGJdj_pxvhLMBzNxMFXQENgPNrtlQNz2\nJoin Zoom Meeting\nhttps://us02web.zoom.us/j/87597390696?pwd=RU01RllMZlNncisvYTVpRHF1MS9VZz09\nMeeting ID: 875 9739 0696\nPasscode: Service\n—\nOne tap mobile\n+13017158592\,\,87597390696#\,\,\,\,*9888823# US (Washington DC)\n+13126266799\,\,87597390696#\,\,\,\,*9888823# US (Chicago)\n—\nDial by your location\n• +1 301 715 8592 US (Washington DC)\n• +1 312 626 6799 US (Chicago)\n• +1 929 436 2866 US (New York)\n• +1 253 215 8782 US (Tacoma)\n• +1 346 248 7799 US (Houston)\n• +1 669 900 6833 US (San Jose)\nMeeting ID: 875 9739 0696\nPasscode: 9888823\nFind your local number: https://us02web.zoom.us/u/kfjyabTj4
URL:https://area53aa.org/event/dcm-meeting-july-14th-2024/
LOCATION:Desert Island Social and Recovery Club\, 501 Josephine Ave\, Columbus\, OH\, 43204\, United States
ORGANIZER;CN="Area 53 DCMC":MAILTO:dcmc@area53aa.org
GEO:39.9434982;-83.0935338
X-APPLE-STRUCTURED-LOCATION;VALUE=URI;X-ADDRESS=Desert Island Social and Recovery Club 501 Josephine Ave Columbus OH 43204 United States;X-APPLE-RADIUS=500;X-TITLE=501 Josephine Ave:geo:-83.0935338,39.9434982
END:VEVENT
BEGIN:VEVENT
DTSTART;TZID=America/New_York:20240706T150000
DTEND;TZID=America/New_York:20240706T190000
DTSTAMP:20260423T112615
CREATED:20240329T120850Z
LAST-MODIFIED:20240604T203549Z
UID:10000496-1720278000-1720292400@area53aa.org
SUMMARY:Red White and Sober 3rd Annual District 28 Jul 6
DESCRIPTION:Download Flyer HERE (or click image below) \nCome and Join us for our 3rd Annual RED\, WHITE\, & SOBER. \nAA JOB FAIR Q & A: \nSalary = Priceless \nCome and interact with homegroup members and find out how to get more involved in Homegroup service. \nGSR\, IGR\, GIR\, GTR\, \nEver wonder what those things mean? Come find out at our Q & A Job Fair. \nDo not’ forget the salary for AA Service is PRICELESS!!! \nAfter the Job Fair\, we will be having a cookout and a special guest speaker. \nAdrienne B from the Primary Purpose Group\, Williamstown\, WV. \nWHEN: \nSaturday\, July 6th\, 2024 \nWHERE: \n1180 Shanley Drive\, \nColumbus\, OH 43224 \nTIME: \nQ & A Starts at 3 PM \nFood and Fellowship Starts at 4 PM \nGuest Speaker Adrienne B Starts at 5:45 PM
URL:https://area53aa.org/event/red-white-and-sober-2024/
LOCATION:Trinity United Church of Christ\, 1180 Shanley Dr\, Columbus\, OH\, 43224\, United States
CATEGORIES:Area 53 News
ORGANIZER;CN="District 28":MAILTO:dcm28@area53aa.org
GEO:40.0573375;-82.9871568
X-APPLE-STRUCTURED-LOCATION;VALUE=URI;X-ADDRESS=Trinity United Church of Christ 1180 Shanley Dr Columbus OH 43224 United States;X-APPLE-RADIUS=500;X-TITLE=1180 Shanley Dr:geo:-82.9871568,40.0573375
END:VEVENT
BEGIN:VEVENT
DTSTART;TZID=America/New_York:20240602T090000
DTEND;TZID=America/New_York:20240602T160000
DTSTAMP:20260423T112615
CREATED:20240429T013553Z
LAST-MODIFIED:20240609T181345Z
UID:10000502-1717318800-1717344000@area53aa.org
SUMMARY:Area 53 Assembly\, 10:00AM June 2\, 2024
DESCRIPTION:The next Area 53 Assembly will be June 2\, 2024\, at 10am  The in-person location will be The Lafayette hotel\, 101 Front St\, Marietta\, OH  45750.  Please arrive by 9:30am for sign-in.\nThis will be a hybrid event.  Zoom participants should also arrive by 9:30am for sign-in.  It takes time for Zoom participants to change names\, add service positions and for the Zoom Host to convey this info to the Registrar.  Online participants may access the meeting using the Zoom meeting info below.\nPre-registration using the button above will speed up the sign-in process and help officers to have the necessary documents available for all participants.  Please arrive by 9:30am to sign in\, enjoy some fellowship and review documents.\nThe Area Assembly is a meeting of the Area’s GSRs and the Area Committee\, which is composed of DCMs\, area officers\, and chairpersons of area standing committees. All interested AA members are welcome. Area 53 Delegate\, Ed A\, will be giving his report concerning the 74th General Service Conference.  This will be an excellent opportunity for folks to learn how the Conference voted on items we discussed at the Area 53 Mini-Conference.  The agenda and additional documents will be posted on this page as they become available.   \nAny member wishing to make reservations with the hotel may consult their website: https://lafayettehotel.com/ \nAny member wishing to explore activity options in the Marietta / Washington County area may visit the Convention and Visitors Bureau at their website: https://mariettaohio.org/ \n  \n  \n	Assembly Documents\nAgenda \nDraft Minutes March Assembly \nAgenda and Reports to Assembly \nArea 53 CFC Report \nPro’d Guidelines Re: Communication Svcs Comm. \n  \n  \n  \n	Join Zoom Meeting \nMeeting ID: 911 053 2023\nPasscode: area53aa\nPhone in : (929) 436-2866
URL:https://area53aa.org/event/area-53-assembly-1000am-june-4-2023-copy-copy-copy-copy/
LOCATION:Lafayette Hotel\, Marietta\, OH\, 101 Front Street\, Marietta\, OH\, 45750\, United States
CATEGORIES:Area 53 Assembly
ATTACH;FMTTYPE=image/png:https://area53aa.org/wp-content/uploads/2022/01/feedback.png
GEO:39.4107148;-81.45246
X-APPLE-STRUCTURED-LOCATION;VALUE=URI;X-ADDRESS=Lafayette Hotel Marietta OH 101 Front Street Marietta OH 45750 United States;X-APPLE-RADIUS=500;X-TITLE=101 Front Street:geo:-81.45246,39.4107148
END:VEVENT
END:VCALENDAR