BEGIN:VCALENDAR
VERSION:2.0
PRODID:-//Area 53 AA - ECPv6.15.20//NONSGML v1.0//EN
CALSCALE:GREGORIAN
METHOD:PUBLISH
X-ORIGINAL-URL:https://area53aa.org
X-WR-CALDESC:Events for Area 53 AA
REFRESH-INTERVAL;VALUE=DURATION:PT1H
X-Robots-Tag:noindex
X-PUBLISHED-TTL:PT1H
BEGIN:VTIMEZONE
TZID:America/New_York
BEGIN:DAYLIGHT
TZOFFSETFROM:-0500
TZOFFSETTO:-0400
TZNAME:EDT
DTSTART:20250309T070000
END:DAYLIGHT
BEGIN:STANDARD
TZOFFSETFROM:-0400
TZOFFSETTO:-0500
TZNAME:EST
DTSTART:20251102T060000
END:STANDARD
BEGIN:DAYLIGHT
TZOFFSETFROM:-0500
TZOFFSETTO:-0400
TZNAME:EDT
DTSTART:20260308T070000
END:DAYLIGHT
BEGIN:STANDARD
TZOFFSETFROM:-0400
TZOFFSETTO:-0500
TZNAME:EST
DTSTART:20261101T060000
END:STANDARD
BEGIN:DAYLIGHT
TZOFFSETFROM:-0500
TZOFFSETTO:-0400
TZNAME:EDT
DTSTART:20270314T070000
END:DAYLIGHT
BEGIN:STANDARD
TZOFFSETFROM:-0400
TZOFFSETTO:-0500
TZNAME:EST
DTSTART:20271107T060000
END:STANDARD
END:VTIMEZONE
BEGIN:VEVENT
DTSTART;TZID=America/New_York:20260128T183000
DTEND;TZID=America/New_York:20260128T193000
DTSTAMP:20260422T071730
CREATED:20250215T081607Z
LAST-MODIFIED:20250215T081607Z
UID:10002646-1769625000-1769628600@area53aa.org
SUMMARY:District 15 Meeting
DESCRIPTION:Save the Date \n5th Annual Red\, White and Sober \n\n\n			\n					\n						Download Flyer
URL:https://area53aa.org/event/district-15-meeting/2026-01-28/
LOCATION:Serenity House Marietta\, 431 3rd Street\, Marietta\, OH\, 45750\, United States
CATEGORIES:Monthly District Meetings
ORGANIZER;CN="District 15":MAILTO:dcm15@area53aa.org
GEO:39.4195607;-81.4571447
X-APPLE-STRUCTURED-LOCATION;VALUE=URI;X-ADDRESS=Serenity House Marietta 431 3rd Street Marietta OH 45750 United States;X-APPLE-RADIUS=500;X-TITLE=431 3rd Street:geo:-81.4571447,39.4195607
END:VEVENT
BEGIN:VEVENT
DTSTART;TZID=America/New_York:20260128T183000
DTEND;TZID=America/New_York:20260128T200000
DTSTAMP:20260422T071730
CREATED:20260112T171816Z
LAST-MODIFIED:20260112T172703Z
UID:10003818-1769625000-1769630400@area53aa.org
SUMMARY:2026 Ohio State Convention Planning Committee Meeting (Hybrid)
DESCRIPTION:Save the Date \n5th Annual Red\, White and Sober \n\n\n			\n					\n						Download Flyer
URL:https://area53aa.org/event/2026-osc-committee-meeting-hybrid-jan-2026/
LOCATION:Shelly & Sands Learning Safety and Training Center\, 4330 South River Rd\, Zanesville\, OH\, 43701\, United States
ORGANIZER;CN="2026 Ohio State Convention Committee":MAILTO:2026OSC@area53aa.org
GEO:39.873106;-81.949577
X-APPLE-STRUCTURED-LOCATION;VALUE=URI;X-ADDRESS=Shelly & Sands Learning Safety and Training Center 4330 South River Rd Zanesville OH 43701 United States;X-APPLE-RADIUS=500;X-TITLE=4330 South River Rd:geo:-81.949577,39.873106
END:VEVENT
BEGIN:VEVENT
DTSTART;TZID=America/New_York:20260201T130000
DTEND;TZID=America/New_York:20260201T140000
DTSTAMP:20260422T071730
CREATED:20250215T071520Z
LAST-MODIFIED:20250215T071520Z
UID:10001928-1769950800-1769954400@area53aa.org
SUMMARY:District 8/9 Meeting
DESCRIPTION:Save the Date \n5th Annual Red\, White and Sober \n\n\n			\n					\n						Download Flyer
URL:https://area53aa.org/event/district-8-9-meeting/2026-02-01/
LOCATION:Trinity Episcopal Church\, 76 East Main Street\, Newark\, OH\, 43055\, United States
CATEGORIES:Monthly District Meetings
ORGANIZER;CN="District 8/9":MAILTO:dcm08@area53aa.org
GEO:40.0588719;-82.3995484
X-APPLE-STRUCTURED-LOCATION;VALUE=URI;X-ADDRESS=Trinity Episcopal Church 76 East Main Street Newark OH 43055 United States;X-APPLE-RADIUS=500;X-TITLE=76 East Main Street:geo:-82.3995484,40.0588719
END:VEVENT
BEGIN:VEVENT
DTSTART;TZID=America/New_York:20260201T170000
DTEND;TZID=America/New_York:20260201T180000
DTSTAMP:20260422T071731
CREATED:20250215T071735Z
LAST-MODIFIED:20250215T071735Z
UID:10001988-1769965200-1769968800@area53aa.org
SUMMARY:District 16 Meeting
DESCRIPTION:Save the Date \n5th Annual Red\, White and Sober \n\n\n			\n					\n						Download Flyer
URL:https://area53aa.org/event/district-16-meeting/2026-02-01/
LOCATION:Athens First United Methodist Church\, 2 S College St\, Athens\, 45701\, United States
CATEGORIES:Monthly District Meetings
ORGANIZER;CN="District 16":MAILTO:dcm16@area53aa.org
GEO:39.3290904;-82.0992208
X-APPLE-STRUCTURED-LOCATION;VALUE=URI;X-ADDRESS=Athens First United Methodist Church 2 S College St Athens 45701 United States;X-APPLE-RADIUS=500;X-TITLE=2 S College St:geo:-82.0992208,39.3290904
END:VEVENT
BEGIN:VEVENT
DTSTART;TZID=America/New_York:20260201T170000
DTEND;TZID=America/New_York:20260201T180000
DTSTAMP:20260422T071731
CREATED:20250215T072108Z
LAST-MODIFIED:20250215T072108Z
UID:10002048-1769965200-1769968800@area53aa.org
SUMMARY:District 17 Meeting
DESCRIPTION:Save the Date \n5th Annual Red\, White and Sober \n\n\n			\n					\n						Download Flyer
URL:https://area53aa.org/event/district-17-meeting/2026-02-01/
LOCATION:Sacred Heart Church and Rectory\, 161 Mulberry Ave\, Pomeroy\, o\, 45769\, United States
CATEGORIES:Monthly District Meetings
ORGANIZER;CN="district 17":MAILTO:dcm17@area53aa.org
GEO:39.0295211;-82.0371166
X-APPLE-STRUCTURED-LOCATION;VALUE=URI;X-ADDRESS=Sacred Heart Church and Rectory 161 Mulberry Ave Pomeroy o 45769 United States;X-APPLE-RADIUS=500;X-TITLE=161 Mulberry Ave:geo:-82.0371166,39.0295211
END:VEVENT
BEGIN:VEVENT
DTSTART;TZID=America/New_York:20260202T180000
DTEND;TZID=America/New_York:20260202T190000
DTSTAMP:20260422T071731
CREATED:20250215T072305Z
LAST-MODIFIED:20250215T072305Z
UID:10002108-1770055200-1770058800@area53aa.org
SUMMARY:District 11 Meeting
DESCRIPTION:Save the Date \n5th Annual Red\, White and Sober \n\n\n			\n					\n						Download Flyer
URL:https://area53aa.org/event/district-11-meeting/2026-02-02/
LOCATION:First Presbyterian Church – Marysville\, 210 West Fifth Street\, Marysville\, OH\, 43040
CATEGORIES:Monthly District Meetings
ORGANIZER;CN="District 11":MAILTO:dcm11@area53aa.org
GEO:40.2367951;-83.3685043
X-APPLE-STRUCTURED-LOCATION;VALUE=URI;X-ADDRESS=First Presbyterian Church – Marysville 210 West Fifth Street Marysville OH 43040;X-APPLE-RADIUS=500;X-TITLE=210 West Fifth Street:geo:-83.3685043,40.2367951
END:VEVENT
BEGIN:VEVENT
DTSTART;TZID=America/New_York:20260204T170000
DTEND;TZID=America/New_York:20260204T190000
DTSTAMP:20260422T071731
CREATED:20251020T142739Z
LAST-MODIFIED:20251020T142741Z
UID:10003625-1770224400-1770231600@area53aa.org
SUMMARY:District 30 Meeting
DESCRIPTION:Save the Date \n5th Annual Red\, White and Sober \n\n\n			\n					\n						Download Flyer
URL:https://area53aa.org/event/district-30-meeting-2/2026-02-04/
LOCATION:Upper Arlington Public Library – Tremont Road Branch\, 2800 Tremont Rd\, Upper Arlington\, OH\, 43221\, United States
CATEGORIES:Monthly District Meetings
ORGANIZER;CN="District 30":MAILTO:dcm30@area53aa.org
GEO:40.0126755;-83.0674473
X-APPLE-STRUCTURED-LOCATION;VALUE=URI;X-ADDRESS=Upper Arlington Public Library – Tremont Road Branch 2800 Tremont Rd Upper Arlington OH 43221 United States;X-APPLE-RADIUS=500;X-TITLE=2800 Tremont Rd:geo:-83.0674473,40.0126755
END:VEVENT
BEGIN:VEVENT
DTSTART;TZID=America/New_York:20260204T180000
DTEND;TZID=America/New_York:20260204T190000
DTSTAMP:20260422T071731
CREATED:20250215T072759Z
LAST-MODIFIED:20250215T072759Z
UID:10002169-1770228000-1770231600@area53aa.org
SUMMARY:District 22 Meeting
DESCRIPTION:Save the Date \n5th Annual Red\, White and Sober \n\n\n			\n					\n						Download Flyer
URL:https://area53aa.org/event/district-22-meeting/2026-02-04/
LOCATION:OH
CATEGORIES:Monthly District Meetings
ORGANIZER;CN="District 22":MAILTO:dcm22@area53aa.org
END:VEVENT
BEGIN:VEVENT
DTSTART;TZID=America/New_York:20260207T100000
DTEND;TZID=America/New_York:20260207T110000
DTSTAMP:20260422T071731
CREATED:20250215T071306Z
LAST-MODIFIED:20250215T071306Z
UID:10001891-1770458400-1770462000@area53aa.org
SUMMARY:District 1 Meeting
DESCRIPTION:Save the Date \n5th Annual Red\, White and Sober \n\n\n			\n					\n						Download Flyer
URL:https://area53aa.org/event/district-1-meeting/2026-02-07/
LOCATION:Recovery Zone\, 440 South St. Paris Street\, Bellefontaine\, 43311\, United States
CATEGORIES:Monthly District Meetings
ORGANIZER;CN="District 1":MAILTO:dcm01@area53aa.org
GEO:40.3573329;-83.7743358
X-APPLE-STRUCTURED-LOCATION;VALUE=URI;X-ADDRESS=Recovery Zone 440 South St. Paris Street Bellefontaine 43311 United States;X-APPLE-RADIUS=500;X-TITLE=440 South St. Paris Street:geo:-83.7743358,40.3573329
END:VEVENT
BEGIN:VEVENT
DTSTART;TZID=America/New_York:20260207T110000
DTEND;TZID=America/New_York:20260207T120000
DTSTAMP:20260422T071731
CREATED:20250718T204218Z
LAST-MODIFIED:20250718T204219Z
UID:10000941-1770462000-1770465600@area53aa.org
SUMMARY:Grapevine Committee Monthly Meeting
DESCRIPTION:Save the Date \n5th Annual Red\, White and Sober \n\n\n			\n					\n						Download Flyer
URL:https://area53aa.org/event/grapevine-committee-monthly-meeting-2-2-2/2026-02-07/
LOCATION:COGF\, 645 W. Broad St.\, Columbus\, 43215\, United States
CATEGORIES:Monthly Standing Committee Meetings
ORGANIZER;CN="Area 53 Grapevine Committee":MAILTO:grapevine@area53aa.org
GEO:39.9599571;-83.0178443
X-APPLE-STRUCTURED-LOCATION;VALUE=URI;X-ADDRESS=COGF 645 W. Broad St. Columbus 43215 United States;X-APPLE-RADIUS=500;X-TITLE=645 W. Broad St.:geo:-83.0178443,39.9599571
END:VEVENT
BEGIN:VEVENT
DTSTART;TZID=America/New_York:20260209T183000
DTEND;TZID=America/New_York:20260209T200000
DTSTAMP:20260422T071731
CREATED:20250215T073650Z
LAST-MODIFIED:20250306T145144Z
UID:10002905-1770661800-1770667200@area53aa.org
SUMMARY:District 28 Meeting
DESCRIPTION:Save the Date \n5th Annual Red\, White and Sober \n\n\n			\n					\n						Download Flyer
URL:https://area53aa.org/event/district-28-meeting/2026-02-09/
LOCATION:Central Vineyard Church\, 55 E Blake Ave\, Columbus\, 43202\, United States
CATEGORIES:Monthly District Meetings
ORGANIZER;CN="District 28":MAILTO:dcm28@area53aa.org
GEO:40.0118086;-83.0088728
X-APPLE-STRUCTURED-LOCATION;VALUE=URI;X-ADDRESS=Central Vineyard Church 55 E Blake Ave Columbus 43202 United States;X-APPLE-RADIUS=500;X-TITLE=55 E Blake Ave:geo:-83.0088728,40.0118086
END:VEVENT
BEGIN:VEVENT
DTSTART;TZID=America/New_York:20260210T173000
DTEND;TZID=America/New_York:20260210T200000
DTSTAMP:20260422T071731
CREATED:20260109T173127Z
LAST-MODIFIED:20260206T010719Z
UID:10003816-1770744600-1770753600@area53aa.org
SUMMARY:Gahanna Group 77th Anniversary
DESCRIPTION:Save the Date \n5th Annual Red\, White and Sober \n\n\n			\n					\n						Download Flyer
URL:https://area53aa.org/event/gahanna-group-77th-anniversary/
LOCATION:Stoneybrook Church Gahanna\, 485 Cherry Bottom Road\, Gahanna\, OH\, 43230
CATEGORIES:Group Anniversary
GEO:40.0306946;-82.8764511
X-APPLE-STRUCTURED-LOCATION;VALUE=URI;X-ADDRESS=Stoneybrook Church Gahanna 485 Cherry Bottom Road Gahanna OH 43230;X-APPLE-RADIUS=500;X-TITLE=485 Cherry Bottom Road:geo:-82.8764511,40.0306946
END:VEVENT
BEGIN:VEVENT
DTSTART;TZID=America/New_York:20260211T190000
DTEND;TZID=America/New_York:20260211T210000
DTSTAMP:20260422T071731
CREATED:20250825T182612Z
LAST-MODIFIED:20250825T184208Z
UID:10003424-1770836400-1770843600@area53aa.org
SUMMARY:Area Service Sharing Session
DESCRIPTION:Save the Date \n5th Annual Red\, White and Sober \n\n\n			\n					\n						Download Flyer
URL:https://area53aa.org/event/area-service-sharing-session/2026-02-11/
LOCATION:OH
CATEGORIES:Area 53 Committee Workshops,AREA 53 EVENTS
END:VEVENT
BEGIN:VEVENT
DTSTART;TZID=America/New_York:20260213T150000
DTEND;TZID=America/New_York:20260215T170000
DTSTAMP:20260422T071731
CREATED:20250802T151101Z
LAST-MODIFIED:20260206T010840Z
UID:10003411-1770994800-1771174800@area53aa.org
SUMMARY:2026 Conference of Delegates Past and Present
DESCRIPTION:Save the Date \n5th Annual Red\, White and Sober \n\n\n			\n					\n						Download Flyer
URL:https://area53aa.org/event/2026-conference-of-delegates-past-and-present/
LOCATION:Hilton Garden Inn\, 1300 Cinema Way\, Benton Harbor\, MI\, 49022\, United States
CATEGORIES:ECR
GEO:42.074011;-86.427188
X-APPLE-STRUCTURED-LOCATION;VALUE=URI;X-ADDRESS=Hilton Garden Inn 1300 Cinema Way Benton Harbor MI 49022 United States;X-APPLE-RADIUS=500;X-TITLE=1300 Cinema Way:geo:-86.427188,42.074011
END:VEVENT
BEGIN:VEVENT
DTSTART;TZID=America/New_York:20260215T150000
DTEND;TZID=America/New_York:20260215T163000
DTSTAMP:20260422T071731
CREATED:20250208T233428Z
LAST-MODIFIED:20250215T062320Z
UID:10001701-1771167600-1771173000@area53aa.org
SUMMARY:CPC/PI Committee Meeting
DESCRIPTION:Save the Date \n5th Annual Red\, White and Sober \n\n\n			\n					\n						Download Flyer
URL:https://area53aa.org/event/cpc-pi-committee-meeting-feb-16-2025/2026-02-15/
LOCATION:Franklinton Library\, 1061 W Town St\, Columbus\, 43222\, United States
CATEGORIES:Monthly Standing Committee Meetings
ORGANIZER;CN="Area 53 CPC-PI Committee":MAILTO:cpcpi@area53aa.org
GEO:39.9551728;-83.0277954
X-APPLE-STRUCTURED-LOCATION;VALUE=URI;X-ADDRESS=Franklinton Library 1061 W Town St Columbus 43222 United States;X-APPLE-RADIUS=500;X-TITLE=1061 W Town St:geo:-83.0277954,39.9551728
END:VEVENT
BEGIN:VEVENT
DTSTART;TZID=America/New_York:20260215T160000
DTEND;TZID=America/New_York:20260215T170000
DTSTAMP:20260422T071731
CREATED:20250215T080944Z
LAST-MODIFIED:20250215T080944Z
UID:10002468-1771171200-1771174800@area53aa.org
SUMMARY:District 12 Meeting
DESCRIPTION:Save the Date \n5th Annual Red\, White and Sober \n\n\n			\n					\n						Download Flyer
URL:https://area53aa.org/event/district-12-meeting/2026-02-15/
LOCATION:Springfield Alano Club Inc\, 1557 E Main St\, Springfield\, 45503\, United States
CATEGORIES:Monthly District Meetings
ORGANIZER;CN="District 12":MAILTO:dcm12@area53aa.org
GEO:39.9231477;-83.7860254
X-APPLE-STRUCTURED-LOCATION;VALUE=URI;X-ADDRESS=Springfield Alano Club Inc 1557 E Main St Springfield 45503 United States;X-APPLE-RADIUS=500;X-TITLE=1557 E Main St:geo:-83.7860254,39.9231477
END:VEVENT
BEGIN:VEVENT
DTSTART;TZID=America/New_York:20260215T180000
DTEND;TZID=America/New_York:20260215T190000
DTSTAMP:20260422T071731
CREATED:20250215T081126Z
LAST-MODIFIED:20250215T081126Z
UID:10002527-1771178400-1771182000@area53aa.org
SUMMARY:District 19 Meeting
DESCRIPTION:Save the Date \n5th Annual Red\, White and Sober \n\n\n			\n					\n						Download Flyer
URL:https://area53aa.org/event/district-19-meeting/2026-02-15/
LOCATION:Sabina United Methodist Church\, 61 W Elm St\, Sabina\, 45169\, United States
CATEGORIES:Monthly District Meetings
ORGANIZER;CN="District 19":MAILTO:dcm19@area53aa.org
GEO:39.4903491;-83.6374472
X-APPLE-STRUCTURED-LOCATION;VALUE=URI;X-ADDRESS=Sabina United Methodist Church 61 W Elm St Sabina 45169 United States;X-APPLE-RADIUS=500;X-TITLE=61 W Elm St:geo:-83.6374472,39.4903491
END:VEVENT
BEGIN:VEVENT
DTSTART;TZID=America/New_York:20260219T190000
DTEND;TZID=America/New_York:20260219T210000
DTSTAMP:20260422T071731
CREATED:20250912T004959Z
LAST-MODIFIED:20251005T183853Z
UID:10003565-1771527600-1771534800@area53aa.org
SUMMARY:Communication Services Committee Meeting (Virtual)
DESCRIPTION:Save the Date \n5th Annual Red\, White and Sober \n\n\n			\n					\n						Download Flyer
URL:https://area53aa.org/event/communication-services-committee-meeting-virtual-2-2-3/2026-02-19/
LOCATION:https://area53aa.org/event/communication-services-committee-meeting-virtual-2-2-3/2026-02-19/
ORGANIZER;CN="Communication Services Committee":MAILTO:CommServices@area53aa.org
END:VEVENT
BEGIN:VEVENT
DTSTART;TZID=America/New_York:20260221T080000
DTEND;TZID=America/New_York:20260221T170000
DTSTAMP:20260422T071731
CREATED:20250215T055600Z
LAST-MODIFIED:20250215T055600Z
UID:10001642-1771660800-1771693200@area53aa.org
SUMMARY:District 7 Meeting
DESCRIPTION:Save the Date \n5th Annual Red\, White and Sober \n\n\n			\n					\n						Download Flyer
URL:https://area53aa.org/event/district-7-meeting/2026-02-21/
LOCATION:I.s.r.c.\, 554 Moxahala Ave\, Zanesville\, 43701\, United States
CATEGORIES:Monthly District Meetings
ORGANIZER;CN="District 7":MAILTO:dcm07@area53aa.org
GEO:39.9302383;-82.0053096
X-APPLE-STRUCTURED-LOCATION;VALUE=URI;X-ADDRESS=I.s.r.c. 554 Moxahala Ave Zanesville 43701 United States;X-APPLE-RADIUS=500;X-TITLE=554 Moxahala Ave:geo:-82.0053096,39.9302383
END:VEVENT
BEGIN:VEVENT
DTSTART;TZID=America/New_York:20260221T093000
DTEND;TZID=America/New_York:20260221T103000
DTSTAMP:20260422T071731
CREATED:20250215T073903Z
LAST-MODIFIED:20250215T073903Z
UID:10002349-1771666200-1771669800@area53aa.org
SUMMARY:District 26 Meeting
DESCRIPTION:Save the Date \n5th Annual Red\, White and Sober \n\n\n			\n					\n						Download Flyer
URL:https://area53aa.org/event/district-26-meeting/2026-02-21/
LOCATION:Whitehall United Methodist Church\, 525 Bernhard Road\, Columbus\, Ohio
CATEGORIES:Monthly District Meetings
ORGANIZER;CN="District 26":MAILTO:dcm26@area53aa.org
GEO:39.9640674;-82.8804352
X-APPLE-STRUCTURED-LOCATION;VALUE=URI;X-ADDRESS=Whitehall United Methodist Church 525 Bernhard Road Columbus Ohio;X-APPLE-RADIUS=500;X-TITLE=525 Bernhard Road:geo:-82.8804352,39.9640674
END:VEVENT
BEGIN:VEVENT
DTSTART;TZID=America/New_York:20260221T110000
DTEND;TZID=America/New_York:20260221T120000
DTSTAMP:20260422T071731
CREATED:20250215T074344Z
LAST-MODIFIED:20250215T074344Z
UID:10002408-1771671600-1771675200@area53aa.org
SUMMARY:District 21 Meeting
DESCRIPTION:Save the Date \n5th Annual Red\, White and Sober \n\n\n			\n					\n						Download Flyer
URL:https://area53aa.org/event/district-21-meeting/2026-02-21/
LOCATION:Wheelersburg United Methodist Church\, 11605 Gallia Pike Rd\, Wheelersburg\, 45694\, 45694\, United States
CATEGORIES:Monthly District Meetings
ORGANIZER;CN="District 21":MAILTO:dcm21@area53aa.org
GEO:38.7278325;-82.8543713
X-APPLE-STRUCTURED-LOCATION;VALUE=URI;X-ADDRESS=Wheelersburg United Methodist Church 11605 Gallia Pike Rd Wheelersburg 45694 45694 United States;X-APPLE-RADIUS=500;X-TITLE=11605 Gallia Pike Rd:geo:-82.8543713,38.7278325
END:VEVENT
BEGIN:VEVENT
DTSTART;TZID=America/New_York:20260221T113000
DTEND;TZID=America/New_York:20260221T130000
DTSTAMP:20260422T071731
CREATED:20251229T050040Z
LAST-MODIFIED:20251229T050041Z
UID:10003755-1771673400-1771678800@area53aa.org
SUMMARY:District 33 Meeting
DESCRIPTION:Save the Date \n5th Annual Red\, White and Sober \n\n\n			\n					\n						Download Flyer
URL:https://area53aa.org/event/district-33-meeting-2-2/2026-02-21/
LOCATION:Combulus Metropotlian Main Library\, 96 S. Grant Ave\, Columbus\, 43215\, United States
CATEGORIES:Monthly District Meetings
ORGANIZER;CN="District 33":MAILTO:dcm33@area53aa.org
GEO:39.9613828;-82.9894036
X-APPLE-STRUCTURED-LOCATION;VALUE=URI;X-ADDRESS=Combulus Metropotlian Main Library 96 S. Grant Ave Columbus 43215 United States;X-APPLE-RADIUS=500;X-TITLE=96 S. Grant Ave:geo:-82.9894036,39.9613828
END:VEVENT
BEGIN:VEVENT
DTSTART;TZID=America/New_York:20260221T120000
DTEND;TZID=America/New_York:20260221T130000
DTSTAMP:20260422T071731
CREATED:20240118T035629Z
LAST-MODIFIED:20250215T054843Z
UID:10000452-1771675200-1771678800@area53aa.org
SUMMARY:Treatment Facilities Committee Monthly Meeting
DESCRIPTION:Save the Date \n5th Annual Red\, White and Sober \n\n\n			\n					\n						Download Flyer
URL:https://area53aa.org/event/treatment-facilities-committee-monthly-meeting/2026-02-21/
LOCATION:COGF\, 645 W. Broad St.\, Columbus\, 43215\, United States
CATEGORIES:Monthly Standing Committee Meetings
ORGANIZER;CN="Area 53 Treatment Facilities Committee":MAILTO:treatment@area53aa.org
GEO:39.9599571;-83.0178443
X-APPLE-STRUCTURED-LOCATION;VALUE=URI;X-ADDRESS=COGF 645 W. Broad St. Columbus 43215 United States;X-APPLE-RADIUS=500;X-TITLE=645 W. Broad St.:geo:-83.0178443,39.9599571
END:VEVENT
BEGIN:VEVENT
DTSTART;TZID=America/New_York:20260221T173000
DTEND;TZID=America/New_York:20260221T203000
DTSTAMP:20260422T071731
CREATED:20260115T214002Z
LAST-MODIFIED:20260206T010055Z
UID:10003819-1771695000-1771705800@area53aa.org
SUMMARY:Early Evening Faith and Hope Group 35th Anniversary
DESCRIPTION:Save the Date \n5th Annual Red\, White and Sober \n\n\n			\n					\n						Download Flyer
URL:https://area53aa.org/event/early-evening-faith-and-hope-group-35th-anniversary/
LOCATION:Trinity United Church of Christ\, 1180 Shanley Dr\, Columbus\, OH\, 43224\, United States
CATEGORIES:Group Anniversary
ATTACH;FMTTYPE=image/jpeg:https://area53aa.org/wp-content/uploads/2026/01/AdobeStock_195006445-scaled-e1768514360325.jpeg
GEO:40.0573375;-82.9871568
X-APPLE-STRUCTURED-LOCATION;VALUE=URI;X-ADDRESS=Trinity United Church of Christ 1180 Shanley Dr Columbus OH 43224 United States;X-APPLE-RADIUS=500;X-TITLE=1180 Shanley Dr:geo:-82.9871568,40.0573375
END:VEVENT
BEGIN:VEVENT
DTSTART;TZID=America/New_York:20260222T173000
DTEND;TZID=America/New_York:20260222T183000
DTSTAMP:20260422T071731
CREATED:20250215T081335Z
LAST-MODIFIED:20250221T122247Z
UID:10002587-1771781400-1771785000@area53aa.org
SUMMARY:District 34 Meeting
DESCRIPTION:Save the Date \n5th Annual Red\, White and Sober \n\n\n			\n					\n						Download Flyer
URL:https://area53aa.org/event/district-34-meeting/2026-02-22/
LOCATION:Hoge Memorial Presbyterian Church\, 2930 West Broad Street\, Columbus\, OH\, 43204\, United States
CATEGORIES:Monthly District Meetings
GEO:39.9552438;-83.0786673
X-APPLE-STRUCTURED-LOCATION;VALUE=URI;X-ADDRESS=Hoge Memorial Presbyterian Church 2930 West Broad Street Columbus OH 43204 United States;X-APPLE-RADIUS=500;X-TITLE=2930 West Broad Street:geo:-83.0786673,39.9552438
END:VEVENT
BEGIN:VEVENT
DTSTART;TZID=America/New_York:20260222T183000
DTEND;TZID=America/New_York:20260222T193000
DTSTAMP:20260422T071731
CREATED:20251119T214041Z
LAST-MODIFIED:20251119T214041Z
UID:10003691-1771785000-1771788600@area53aa.org
SUMMARY:District 13/14 Meeting
DESCRIPTION:Save the Date \n5th Annual Red\, White and Sober \n\n\n			\n					\n						Download Flyer
URL:https://area53aa.org/event/district-13-14-meeting/2026-02-22/
LOCATION:Lancaster Area Intergroup\, 723 Slocum Ave\, Lancaster\, 43130\, United States
CATEGORIES:Monthly District Meetings
GEO:39.7222571;-82.6130773
X-APPLE-STRUCTURED-LOCATION;VALUE=URI;X-ADDRESS=Lancaster Area Intergroup 723 Slocum Ave Lancaster 43130 United States;X-APPLE-RADIUS=500;X-TITLE=723 Slocum Ave:geo:-82.6130773,39.7222571
END:VEVENT
BEGIN:VEVENT
DTSTART;TZID=America/New_York:20260228T090000
DTEND;TZID=America/New_York:20260228T223000
DTSTAMP:20260422T071731
CREATED:20260109T180324Z
LAST-MODIFIED:20260109T180326Z
UID:10003029-1772269200-1772317800@area53aa.org
SUMMARY:Archives Committee Meeting
DESCRIPTION:Save the Date \n5th Annual Red\, White and Sober \n\n\n			\n					\n						Download Flyer
URL:https://area53aa.org/event/archives-committee-meeting-2-2-2-2/2026-02-28/
LOCATION:COGF\, 645 W. Broad St.\, Columbus\, 43215\, United States
CATEGORIES:Monthly Standing Committee Meetings
ORGANIZER;CN="Area 53 Archives Committee":MAILTO:archives@area53aa.org
GEO:39.9599571;-83.0178443
X-APPLE-STRUCTURED-LOCATION;VALUE=URI;X-ADDRESS=COGF 645 W. Broad St. Columbus 43215 United States;X-APPLE-RADIUS=500;X-TITLE=645 W. Broad St.:geo:-83.0178443,39.9599571
END:VEVENT
BEGIN:VEVENT
DTSTART;TZID=America/New_York:20260228T110000
DTEND;TZID=America/New_York:20260228T120000
DTSTAMP:20260422T071731
CREATED:20250220T144020Z
LAST-MODIFIED:20250221T122239Z
UID:10002771-1772276400-1772280000@area53aa.org
SUMMARY:Accessibilities Committee Meeting
DESCRIPTION:Save the Date \n5th Annual Red\, White and Sober \n\n\n			\n					\n						Download Flyer
URL:https://area53aa.org/event/accessibilities-committee-meeting/2026-02-28/
LOCATION:Online Meeting
CATEGORIES:Monthly Standing Committee Meetings
ORGANIZER;CN="Accessibilities Committee":MAILTO:accessibilities@area53aa.org
END:VEVENT
BEGIN:VEVENT
DTSTART;TZID=America/New_York:20260306T150000
DTEND;TZID=America/New_York:20260308T090000
DTSTAMP:20260422T071731
CREATED:20250926T234747Z
LAST-MODIFIED:20260306T131411Z
UID:10003548-1772809200-1772960400@area53aa.org
SUMMARY:2026 Area 53 Mini Conference
DESCRIPTION:Save the Date \n5th Annual Red\, White and Sober \n\n\n			\n					\n						Download Flyer
URL:https://area53aa.org/event/2026-area-53-mini-conference/
LOCATION:Deer Creek Lodge & Conference Center\, 22300 State Park Road\, Mt. Sterling\, OH\, 43143\, United States
CATEGORIES:AREA 53 EVENTS,Area 53 Mini-Conference,Area 53 News
ATTACH;FMTTYPE=image/jpeg:https://area53aa.org/wp-content/uploads/2025/02/AdobeStock_268026749-1-scaled.jpeg
ORGANIZER;CN="Area 53 Mini-Conference Committee":MAILTO:altdelegate@area53aa.org
GEO:39.615948;-83.2362629
X-APPLE-STRUCTURED-LOCATION;VALUE=URI;X-ADDRESS=Deer Creek Lodge & Conference Center 22300 State Park Road Mt. Sterling OH 43143 United States;X-APPLE-RADIUS=500;X-TITLE=22300 State Park Road:geo:-83.2362629,39.615948
END:VEVENT
BEGIN:VEVENT
DTSTART;TZID=America/New_York:20260307T100000
DTEND;TZID=America/New_York:20260307T110000
DTSTAMP:20260422T071731
CREATED:20250304T234513Z
LAST-MODIFIED:20250304T234514Z
UID:10001873-1772877600-1772881200@area53aa.org
SUMMARY:CFC Quarterly Meeting
DESCRIPTION:Save the Date \n5th Annual Red\, White and Sober \n\n\n			\n					\n						Download Flyer
URL:https://area53aa.org/event/cfc-quarterly-meeting-2/2026-03-07/
LOCATION:COGF\, 645 W. Broad St.\, Columbus\, 43215\, United States
CATEGORIES:Monthly Standing Committee Meetings
ORGANIZER;CN="Area 53 CFC Committee":MAILTO:corrections@area53aa.org
GEO:39.9599571;-83.0178443
X-APPLE-STRUCTURED-LOCATION;VALUE=URI;X-ADDRESS=COGF 645 W. Broad St. Columbus 43215 United States;X-APPLE-RADIUS=500;X-TITLE=645 W. Broad St.:geo:-83.0178443,39.9599571
END:VEVENT
END:VCALENDAR