BEGIN:VCALENDAR
VERSION:2.0
PRODID:-//Area 53 AA - ECPv6.15.20//NONSGML v1.0//EN
CALSCALE:GREGORIAN
METHOD:PUBLISH
X-ORIGINAL-URL:https://area53aa.org
X-WR-CALDESC:Events for Area 53 AA
REFRESH-INTERVAL;VALUE=DURATION:PT1H
X-Robots-Tag:noindex
X-PUBLISHED-TTL:PT1H
BEGIN:VTIMEZONE
TZID:America/New_York
BEGIN:DAYLIGHT
TZOFFSETFROM:-0500
TZOFFSETTO:-0400
TZNAME:EDT
DTSTART:20250309T070000
END:DAYLIGHT
BEGIN:STANDARD
TZOFFSETFROM:-0400
TZOFFSETTO:-0500
TZNAME:EST
DTSTART:20251102T060000
END:STANDARD
BEGIN:DAYLIGHT
TZOFFSETFROM:-0500
TZOFFSETTO:-0400
TZNAME:EDT
DTSTART:20260308T070000
END:DAYLIGHT
BEGIN:STANDARD
TZOFFSETFROM:-0400
TZOFFSETTO:-0500
TZNAME:EST
DTSTART:20261101T060000
END:STANDARD
BEGIN:DAYLIGHT
TZOFFSETFROM:-0500
TZOFFSETTO:-0400
TZNAME:EDT
DTSTART:20270314T070000
END:DAYLIGHT
BEGIN:STANDARD
TZOFFSETFROM:-0400
TZOFFSETTO:-0500
TZNAME:EST
DTSTART:20271107T060000
END:STANDARD
END:VTIMEZONE
BEGIN:VEVENT
DTSTART;TZID=America/New_York:20260618T190000
DTEND;TZID=America/New_York:20260618T210000
DTSTAMP:20260422T054011
CREATED:20250912T004959Z
LAST-MODIFIED:20251005T183853Z
UID:10003569-1781809200-1781816400@area53aa.org
SUMMARY:Communication Services Committee Meeting (Virtual)
DESCRIPTION:
URL:https://area53aa.org/event/communication-services-committee-meeting-virtual-2-2-3/2026-06-18/
LOCATION:https://area53aa.org/event/communication-services-committee-meeting-virtual-2-2-3/2026-06-18/
ORGANIZER;CN="Communication Services Committee":MAILTO:CommServices@area53aa.org
END:VEVENT
BEGIN:VEVENT
DTSTART;TZID=America/New_York:20260620T080000
DTEND;TZID=America/New_York:20260620T170000
DTSTAMP:20260422T054011
CREATED:20250215T055600Z
LAST-MODIFIED:20250215T055600Z
UID:10001646-1781942400-1781974800@area53aa.org
SUMMARY:District 7 Meeting
DESCRIPTION:District 7 Meetings \nDistrict 7 meets on the third Saturday of each month at 10:30am. \nDistrict meetings are in-person at  \nI.S.R.C.\n554 Moxahala Avenue\nZanesville OH 43701.
URL:https://area53aa.org/event/district-7-meeting/2026-06-20/
LOCATION:I.s.r.c.\, 554 Moxahala Ave\, Zanesville\, 43701\, United States
CATEGORIES:Monthly District Meetings
ORGANIZER;CN="District 7":MAILTO:dcm07@area53aa.org
GEO:39.9302383;-82.0053096
X-APPLE-STRUCTURED-LOCATION;VALUE=URI;X-ADDRESS=I.s.r.c. 554 Moxahala Ave Zanesville 43701 United States;X-APPLE-RADIUS=500;X-TITLE=554 Moxahala Ave:geo:-82.0053096,39.9302383
END:VEVENT
BEGIN:VEVENT
DTSTART;TZID=America/New_York:20260620T093000
DTEND;TZID=America/New_York:20260620T103000
DTSTAMP:20260422T054011
CREATED:20250215T073903Z
LAST-MODIFIED:20250215T073903Z
UID:10002353-1781947800-1781951400@area53aa.org
SUMMARY:District 26 Meeting
DESCRIPTION:3rd Saturday of the month at 9:30 AM \nWhitehall United Methodist Church\, 525 Bernhard Rd\, Whitehall\, OH 43213\, USA
URL:https://area53aa.org/event/district-26-meeting/2026-06-20/
LOCATION:Whitehall United Methodist Church\, 525 Bernhard Road\, Columbus\, Ohio
CATEGORIES:Monthly District Meetings
ORGANIZER;CN="District 26":MAILTO:dcm26@area53aa.org
GEO:39.9640674;-82.8804352
X-APPLE-STRUCTURED-LOCATION;VALUE=URI;X-ADDRESS=Whitehall United Methodist Church 525 Bernhard Road Columbus Ohio;X-APPLE-RADIUS=500;X-TITLE=525 Bernhard Road:geo:-82.8804352,39.9640674
END:VEVENT
BEGIN:VEVENT
DTSTART;TZID=America/New_York:20260620T110000
DTEND;TZID=America/New_York:20260620T120000
DTSTAMP:20260422T054011
CREATED:20250215T074344Z
LAST-MODIFIED:20250215T074344Z
UID:10002412-1781953200-1781956800@area53aa.org
SUMMARY:District 21 Meeting
DESCRIPTION:3rd Saturday of the month at 11:00 am \nWheelersburg United Methodist Church\, 11605 Gallia Pike Rd\, Wheelersburg\, OH 45694\, USA \nZoom Meeting ID: 457-677-9532\npasscode: 6cdUJ4
URL:https://area53aa.org/event/district-21-meeting/2026-06-20/
LOCATION:Wheelersburg United Methodist Church\, 11605 Gallia Pike Rd\, Wheelersburg\, 45694\, 45694\, United States
CATEGORIES:Monthly District Meetings
ORGANIZER;CN="District 21":MAILTO:dcm21@area53aa.org
GEO:38.7278325;-82.8543713
X-APPLE-STRUCTURED-LOCATION;VALUE=URI;X-ADDRESS=Wheelersburg United Methodist Church 11605 Gallia Pike Rd Wheelersburg 45694 45694 United States;X-APPLE-RADIUS=500;X-TITLE=11605 Gallia Pike Rd:geo:-82.8543713,38.7278325
END:VEVENT
BEGIN:VEVENT
DTSTART;TZID=America/New_York:20260620T113000
DTEND;TZID=America/New_York:20260620T130000
DTSTAMP:20260422T054011
CREATED:20251229T050040Z
LAST-MODIFIED:20251229T050041Z
UID:10003759-1781955000-1781960400@area53aa.org
SUMMARY:District 33 Meeting
DESCRIPTION:Meeting Location\n\n\n\n\n\nMain Library \n96 S. Grant Ave. \nRoom 1c \n11:30 to 1:00 pm \n3rd Saturday of the Month at 11:30 AM \nWho Should Attend?  \n• All Group Service Representatives ( GSRs) \n• Districts Committee Members ( DCMs & Officers) \n• Any AA member interested in service \nPurpose  \nDistrict 33 comes together to:  \n• Share information between groups and Area \n• Coordinate service activities \n• Support the still-suffering alcoholic through unity and service. \n“Our common welfare should come first; personal recovery depends upon A.A. unity.”
URL:https://area53aa.org/event/district-33-meeting-2-2/2026-06-20/
LOCATION:Combulus Metropotlian Main Library\, 96 S. Grant Ave\, Columbus\, 43215\, United States
CATEGORIES:Monthly District Meetings
ORGANIZER;CN="District 33":MAILTO:dcm33@area53aa.org
GEO:39.9613828;-82.9894036
X-APPLE-STRUCTURED-LOCATION;VALUE=URI;X-ADDRESS=Combulus Metropotlian Main Library 96 S. Grant Ave Columbus 43215 United States;X-APPLE-RADIUS=500;X-TITLE=96 S. Grant Ave:geo:-82.9894036,39.9613828
END:VEVENT
BEGIN:VEVENT
DTSTART;TZID=America/New_York:20260620T120000
DTEND;TZID=America/New_York:20260620T130000
DTSTAMP:20260422T054011
CREATED:20240118T035629Z
LAST-MODIFIED:20250215T054843Z
UID:10000456-1781956800-1781960400@area53aa.org
SUMMARY:Treatment Facilities Committee Monthly Meeting
DESCRIPTION:The Treatment Facilities Committee assists individuals\, groups\, and districts in carrying the message to the alcoholic in a treatment facility setting. These settings include rehabilitation centers\, nursing homes\, psychiatric hospitals\, homeless shelters\, transitional housing\, and outpatient programs. \nThe committee meets on the 3rd Saturday of every month at 12 pm in person and on zoom! \nCOGF\, 651 W. Broad St.\, Columbus OH 43215 \nJoin Zoom Meeting\nhttps://us02web.zoom.us/j/83175778784?pwd=c1BlWFJNZ1ZGK2Y4UkgvajBCakNxdz09  \nMeeting ID: 831 7577 8784\nPasscode: Treatment
URL:https://area53aa.org/event/treatment-facilities-committee-monthly-meeting/2026-06-20/
LOCATION:COGF\, 645 W. Broad St.\, Columbus\, 43215\, United States
CATEGORIES:Monthly Standing Committee Meetings
ORGANIZER;CN="Area 53 Treatment Facilities Committee":MAILTO:treatment@area53aa.org
GEO:39.9599571;-83.0178443
X-APPLE-STRUCTURED-LOCATION;VALUE=URI;X-ADDRESS=COGF 645 W. Broad St. Columbus 43215 United States;X-APPLE-RADIUS=500;X-TITLE=645 W. Broad St.:geo:-83.0178443,39.9599571
END:VEVENT
BEGIN:VEVENT
DTSTART;TZID=America/New_York:20260621T150000
DTEND;TZID=America/New_York:20260621T163000
DTSTAMP:20260422T054011
CREATED:20250208T233428Z
LAST-MODIFIED:20250215T062320Z
UID:10001705-1782054000-1782059400@area53aa.org
SUMMARY:CPC/PI Committee Meeting
DESCRIPTION:CPC-PI Committee Monthly Meeting \n03:00 pm 04:30 pm \n02/16/2025 \nFranklinton Library \n1061 W Town St \nColumbus Ohio 43222 United States \nMeeting held in large Meeting Room on second floor. Zoom access available for those unable to attend in person. \n			\n						More Info
URL:https://area53aa.org/event/cpc-pi-committee-meeting-feb-16-2025/2026-06-21/
LOCATION:Franklinton Library\, 1061 W Town St\, Columbus\, 43222\, United States
CATEGORIES:Monthly Standing Committee Meetings
ORGANIZER;CN="Area 53 CPC-PI Committee":MAILTO:cpcpi@area53aa.org
GEO:39.9551728;-83.0277954
X-APPLE-STRUCTURED-LOCATION;VALUE=URI;X-ADDRESS=Franklinton Library 1061 W Town St Columbus 43222 United States;X-APPLE-RADIUS=500;X-TITLE=1061 W Town St:geo:-83.0277954,39.9551728
END:VEVENT
BEGIN:VEVENT
DTSTART;TZID=America/New_York:20260621T160000
DTEND;TZID=America/New_York:20260621T170000
DTSTAMP:20260422T054011
CREATED:20250215T080944Z
LAST-MODIFIED:20250215T080944Z
UID:10002472-1782057600-1782061200@area53aa.org
SUMMARY:District 12 Meeting
DESCRIPTION:3rd Sunday of the Month at 4:00 PM
URL:https://area53aa.org/event/district-12-meeting/2026-06-21/
LOCATION:Springfield Alano Club Inc\, 1557 E Main St\, Springfield\, 45503\, United States
CATEGORIES:Monthly District Meetings
ORGANIZER;CN="District 12":MAILTO:dcm12@area53aa.org
GEO:39.9231477;-83.7860254
X-APPLE-STRUCTURED-LOCATION;VALUE=URI;X-ADDRESS=Springfield Alano Club Inc 1557 E Main St Springfield 45503 United States;X-APPLE-RADIUS=500;X-TITLE=1557 E Main St:geo:-83.7860254,39.9231477
END:VEVENT
BEGIN:VEVENT
DTSTART;TZID=America/New_York:20260621T180000
DTEND;TZID=America/New_York:20260621T190000
DTSTAMP:20260422T054011
CREATED:20250215T081126Z
LAST-MODIFIED:20250215T081126Z
UID:10002531-1782064800-1782068400@area53aa.org
SUMMARY:District 19 Meeting
DESCRIPTION:3rd Sunday of the Month at 6:00 PM
URL:https://area53aa.org/event/district-19-meeting/2026-06-21/
LOCATION:Sabina United Methodist Church\, 61 W Elm St\, Sabina\, 45169\, United States
CATEGORIES:Monthly District Meetings
ORGANIZER;CN="District 19":MAILTO:dcm19@area53aa.org
GEO:39.4903491;-83.6374472
X-APPLE-STRUCTURED-LOCATION;VALUE=URI;X-ADDRESS=Sabina United Methodist Church 61 W Elm St Sabina 45169 United States;X-APPLE-RADIUS=500;X-TITLE=61 W Elm St:geo:-83.6374472,39.4903491
END:VEVENT
BEGIN:VEVENT
DTSTART;TZID=America/New_York:20260624T183000
DTEND;TZID=America/New_York:20260624T193000
DTSTAMP:20260422T054011
CREATED:20250215T081607Z
LAST-MODIFIED:20250215T081607Z
UID:10002651-1782325800-1782329400@area53aa.org
SUMMARY:District 15 Meeting
DESCRIPTION:4th Wednesday of the month at 6:30 \n431 3rd St\, Marietta\, OH 45750\, USA
URL:https://area53aa.org/event/district-15-meeting/2026-06-24/
LOCATION:Serenity House Marietta\, 431 3rd Street\, Marietta\, OH\, 45750\, United States
CATEGORIES:Monthly District Meetings
ORGANIZER;CN="District 15":MAILTO:dcm15@area53aa.org
GEO:39.4195607;-81.4571447
X-APPLE-STRUCTURED-LOCATION;VALUE=URI;X-ADDRESS=Serenity House Marietta 431 3rd Street Marietta OH 45750 United States;X-APPLE-RADIUS=500;X-TITLE=431 3rd Street:geo:-81.4571447,39.4195607
END:VEVENT
BEGIN:VEVENT
DTSTART;TZID=America/New_York:20260627T090000
DTEND;TZID=America/New_York:20260627T223000
DTSTAMP:20260422T054011
CREATED:20260109T180324Z
LAST-MODIFIED:20260109T180326Z
UID:10003033-1782550800-1782599400@area53aa.org
SUMMARY:Archives Committee Meeting
DESCRIPTION:Join Zoom Meeting\nhttps://us06web.zoom.us/j/8767491565?pwd=T5amisG2BESVqFiB80DodjrElIvQ2Q.1&omn=83164441282 \nMeeting ID: 876 749 1565\nPasscode: Archives \nJoin instructions\nhttps://us06web.zoom.us/meetings/83164441282/invitations?signature=NMfO0zroDmr9XNQTTTBoX6yJoQ_UN0cAdWuWVJlqIgE
URL:https://area53aa.org/event/archives-committee-meeting-2-2-2-2/2026-06-27/
LOCATION:COGF\, 645 W. Broad St.\, Columbus\, 43215\, United States
CATEGORIES:Monthly Standing Committee Meetings
ORGANIZER;CN="Area 53 Archives Committee":MAILTO:archives@area53aa.org
GEO:39.9599571;-83.0178443
X-APPLE-STRUCTURED-LOCATION;VALUE=URI;X-ADDRESS=COGF 645 W. Broad St. Columbus 43215 United States;X-APPLE-RADIUS=500;X-TITLE=645 W. Broad St.:geo:-83.0178443,39.9599571
END:VEVENT
BEGIN:VEVENT
DTSTART;TZID=America/New_York:20260627T110000
DTEND;TZID=America/New_York:20260627T120000
DTSTAMP:20260422T054011
CREATED:20250220T144020Z
LAST-MODIFIED:20250221T122239Z
UID:10002775-1782558000-1782561600@area53aa.org
SUMMARY:Accessibilities Committee Meeting
DESCRIPTION:The Accessibilities Committee meets on Zoom every fourth Saturday of the month from 11 am to 12 noon. \nhttps://zoom.us/j/99325410386?pwd=UXpzMHB0ZndHV1hYVWtDRjkyVlV2UT09 \nMeeting ID: 993 2541 0386\nPasscode: 6sP2cP
URL:https://area53aa.org/event/accessibilities-committee-meeting/2026-06-27/
LOCATION:Online Meeting
CATEGORIES:Monthly Standing Committee Meetings
ORGANIZER;CN="Accessibilities Committee":MAILTO:accessibilities@area53aa.org
END:VEVENT
BEGIN:VEVENT
DTSTART;TZID=America/New_York:20260628T173000
DTEND;TZID=America/New_York:20260628T183000
DTSTAMP:20260422T054011
CREATED:20250215T081335Z
LAST-MODIFIED:20250221T122247Z
UID:10002591-1782667800-1782671400@area53aa.org
SUMMARY:District 34 Meeting
DESCRIPTION:4th Sunday of the month at 5:30 PM \nHoge Memorial Presbyterian Church\, 2930 W Broad St\, Columbus\, OH 43204\, USA
URL:https://area53aa.org/event/district-34-meeting/2026-06-28/
LOCATION:Hoge Memorial Presbyterian Church\, 2930 West Broad Street\, Columbus\, OH\, 43204\, United States
CATEGORIES:Monthly District Meetings
GEO:39.9552438;-83.0786673
X-APPLE-STRUCTURED-LOCATION;VALUE=URI;X-ADDRESS=Hoge Memorial Presbyterian Church 2930 West Broad Street Columbus OH 43204 United States;X-APPLE-RADIUS=500;X-TITLE=2930 West Broad Street:geo:-83.0786673,39.9552438
END:VEVENT
BEGIN:VEVENT
DTSTART;TZID=America/New_York:20260628T183000
DTEND;TZID=America/New_York:20260628T193000
DTSTAMP:20260422T054011
CREATED:20251119T214041Z
LAST-MODIFIED:20251119T214041Z
UID:10003695-1782671400-1782675000@area53aa.org
SUMMARY:District 13/14 Meeting
DESCRIPTION:District 13/14 mtg. \n06:30 pm 07:30 pm \n11/23/2025 \n723 Slocum Ave \nLancaster\, Ohio 43130 United States \nGSR mtg. \nEmail dcm13@area53.org
URL:https://area53aa.org/event/district-13-14-meeting/2026-06-28/
LOCATION:Lancaster Area Intergroup\, 723 Slocum Ave\, Lancaster\, 43130\, United States
CATEGORIES:Monthly District Meetings
GEO:39.7222571;-82.6130773
X-APPLE-STRUCTURED-LOCATION;VALUE=URI;X-ADDRESS=Lancaster Area Intergroup 723 Slocum Ave Lancaster 43130 United States;X-APPLE-RADIUS=500;X-TITLE=723 Slocum Ave:geo:-82.6130773,39.7222571
END:VEVENT
BEGIN:VEVENT
DTSTART;TZID=America/New_York:20260704T150000
DTEND;TZID=America/New_York:20260704T190000
DTSTAMP:20260422T054011
CREATED:20260421T132633Z
LAST-MODIFIED:20260421T133409Z
UID:10003837-1783177200-1783191600@area53aa.org
SUMMARY:Red\, White and Sober -  District 28
DESCRIPTION:Save the Date \n5th Annual Red\, White and Sober \n			\n						Download Flyer
URL:https://area53aa.org/event/2026-red-white-and-sober-district-28/
LOCATION:Trinity United Church of Christ\, 1180 Shanley Dr\, Columbus\, OH\, 43224\, United States
CATEGORIES:District Events
GEO:40.0573375;-82.9871568
X-APPLE-STRUCTURED-LOCATION;VALUE=URI;X-ADDRESS=Trinity United Church of Christ 1180 Shanley Dr Columbus OH 43224 United States;X-APPLE-RADIUS=500;X-TITLE=1180 Shanley Dr:geo:-82.9871568,40.0573375
END:VEVENT
BEGIN:VEVENT
DTSTART;TZID=America/New_York:20260706T180000
DTEND;TZID=America/New_York:20260706T190000
DTSTAMP:20260422T054011
CREATED:20250215T072305Z
LAST-MODIFIED:20250215T072305Z
UID:10002113-1783360800-1783364400@area53aa.org
SUMMARY:District 11 Meeting
DESCRIPTION:First Monday of the Month at 6:00 PM \nFirst Presbyterian Church\, 210 W 5th St\, Marysville\, OH 43040\, USA
URL:https://area53aa.org/event/district-11-meeting/2026-07-06/
LOCATION:First Presbyterian Church – Marysville\, 210 West Fifth Street\, Marysville\, OH\, 43040
CATEGORIES:Monthly District Meetings
ORGANIZER;CN="District 11":MAILTO:dcm11@area53aa.org
GEO:40.2367951;-83.3685043
X-APPLE-STRUCTURED-LOCATION;VALUE=URI;X-ADDRESS=First Presbyterian Church – Marysville 210 West Fifth Street Marysville OH 43040;X-APPLE-RADIUS=500;X-TITLE=210 West Fifth Street:geo:-83.3685043,40.2367951
END:VEVENT
BEGIN:VEVENT
DTSTART;TZID=America/New_York:20260808T110000
DTEND;TZID=America/New_York:20260808T150000
DTSTAMP:20260422T054011
CREATED:20260413T142503Z
LAST-MODIFIED:20260413T142719Z
UID:10003835-1786186800-1786201200@area53aa.org
SUMMARY:Woodsfield Big Book Study 44th Anniversary
DESCRIPTION:Woodsfield Big Book Study 44th Anniversary \n11:00 am\n03:00 pm\n08/08/2026\nWoodsfield Church of the Nazarene \n223 Maple Ave \nWoodsfield\, Ohio43793 United States \nLead = Nichole C from Trinity UCC\, Canton\, OH
URL:https://area53aa.org/event/woodsfield-big-book-study-44th-anniversary/
LOCATION:Woodsfield Church of the Nazarene\, 223 Maple Ave.\, Woodsfield\, OH\, 43793\, United States
CATEGORIES:Group Anniversary
GEO:39.7664756;-81.1047836
X-APPLE-STRUCTURED-LOCATION;VALUE=URI;X-ADDRESS=Woodsfield Church of the Nazarene 223 Maple Ave. Woodsfield OH 43793 United States;X-APPLE-RADIUS=500;X-TITLE=223 Maple Ave.:geo:-81.1047836,39.7664756
END:VEVENT
BEGIN:VEVENT
DTSTART;TZID=America/New_York:20260814T150000
DTEND;TZID=America/New_York:20260816T120000
DTSTAMP:20260422T054011
CREATED:20260212T151334Z
LAST-MODIFIED:20260317T010910Z
UID:10003820-1786719600-1786881600@area53aa.org
SUMMARY:70th Ohio State Convention of AA
DESCRIPTION:
URL:https://area53aa.org/event/70th-ohio-state-convention-of-aa/
LOCATION:Private: Cherry Valley Hotel\, 2999 Cherry Valley Rd\, Newark\, OH\, 43055\, United States
ORGANIZER;CN="2026 Ohio State Convention Committee":MAILTO:2026OSC@area53aa.org
GEO:40.0509932;-82.4784017
X-APPLE-STRUCTURED-LOCATION;VALUE=URI;X-ADDRESS=Private: Cherry Valley Hotel 2999 Cherry Valley Rd Newark OH 43055 United States;X-APPLE-RADIUS=500;X-TITLE=2999 Cherry Valley Rd:geo:-82.4784017,40.0509932
END:VEVENT
BEGIN:VEVENT
DTSTART;TZID=America/New_York:20261003T100000
DTEND;TZID=America/New_York:20261003T140000
DTSTAMP:20260422T054011
CREATED:20260417T111452Z
LAST-MODIFIED:20260417T111452Z
UID:10003836-1791021600-1791036000@area53aa.org
SUMMARY:Correctional Facilities Committee Workshop
DESCRIPTION:Correctional Facilities Committee Workshop \n10:00 am – 02:00 pm \n10/03/2026 \nPeace Lutheran Church \n455 Clark State Rd \nGahanna\, Ohio 43230 United States
URL:https://area53aa.org/event/correctional-facilities-committee-workshop/
LOCATION:Peace Lutheran Church\, 455 Clark State Rd\, Gahanna\, Ohio\, 43230
CATEGORIES:AA Event,Area 53 Committee Workshops
GEO:40.0237289;-82.8641311
X-APPLE-STRUCTURED-LOCATION;VALUE=URI;X-ADDRESS=Peace Lutheran Church 455 Clark State Rd Gahanna Ohio 43230;X-APPLE-RADIUS=500;X-TITLE=455 Clark State Rd:geo:-82.8641311,40.0237289
END:VEVENT
BEGIN:VEVENT
DTSTART;TZID=America/New_York:20261017T103000
DTEND;TZID=America/New_York:20261017T133000
DTSTAMP:20260422T054011
CREATED:20260302T191206Z
LAST-MODIFIED:20260413T141935Z
UID:10003824-1792233000-1792243800@area53aa.org
SUMMARY:Grapevine Committee Writers Workshop
DESCRIPTION:Area 53 Grapevine Committee Presents: \nAnnual AA Grapevine Workshop \nSaturday\, October 17th\, 2026 \n10:30 AM – 1:30 PM \nEastview Methodist Church \n1045 Ross R. Columbus\, OH 43227 \nPotluck\,  Panels\, Speakers \nBring a dish and a friend!! \nThis committee will provide water and coffee. \ngrapevine@area53aa.org
URL:https://area53aa.org/event/grapevine-committee-writers-workshop/
LOCATION:Eastview Methodist Church\, 1045 Ross Rd.\, Columbus\, 43227\, United States
CATEGORIES:AA Event,Area 53 Committee Workshops,Area 53 News
ORGANIZER;CN="Area 53 Grapevine Committee":MAILTO:grapevine@area53aa.org
GEO:39.9541176;-82.8794763
X-APPLE-STRUCTURED-LOCATION;VALUE=URI;X-ADDRESS=Eastview Methodist Church 1045 Ross Rd. Columbus 43227 United States;X-APPLE-RADIUS=500;X-TITLE=1045 Ross Rd.:geo:-82.8794763,39.9541176
END:VEVENT
END:VCALENDAR