BEGIN:VCALENDAR
VERSION:2.0
PRODID:-//Area 53 AA - ECPv6.15.20//NONSGML v1.0//EN
CALSCALE:GREGORIAN
METHOD:PUBLISH
X-WR-CALNAME:Area 53 AA
X-ORIGINAL-URL:https://area53aa.org
X-WR-CALDESC:Events for Area 53 AA
REFRESH-INTERVAL;VALUE=DURATION:PT1H
X-Robots-Tag:noindex
X-PUBLISHED-TTL:PT1H
BEGIN:VTIMEZONE
TZID:America/New_York
BEGIN:DAYLIGHT
TZOFFSETFROM:-0500
TZOFFSETTO:-0400
TZNAME:EDT
DTSTART:20260308T070000
END:DAYLIGHT
BEGIN:STANDARD
TZOFFSETFROM:-0400
TZOFFSETTO:-0500
TZNAME:EST
DTSTART:20261101T060000
END:STANDARD
BEGIN:DAYLIGHT
TZOFFSETFROM:-0500
TZOFFSETTO:-0400
TZNAME:EDT
DTSTART:20270314T070000
END:DAYLIGHT
BEGIN:STANDARD
TZOFFSETFROM:-0400
TZOFFSETTO:-0500
TZNAME:EST
DTSTART:20271107T060000
END:STANDARD
BEGIN:DAYLIGHT
TZOFFSETFROM:-0500
TZOFFSETTO:-0400
TZNAME:EDT
DTSTART:20280312T070000
END:DAYLIGHT
BEGIN:STANDARD
TZOFFSETFROM:-0400
TZOFFSETTO:-0500
TZNAME:EST
DTSTART:20281105T060000
END:STANDARD
END:VTIMEZONE
BEGIN:VEVENT
DTSTART;TZID=America/New_York:20270206T110000
DTEND;TZID=America/New_York:20270206T120000
DTSTAMP:20260422T225835
CREATED:20250718T204218Z
LAST-MODIFIED:20250718T204219Z
UID:10001180-1801911600-1801915200@area53aa.org
SUMMARY:Grapevine Committee Monthly Meeting
DESCRIPTION:The Grapevine Committee assists groups in Area 53 with the distribution and introduction of the AA Grapevine magazine. The Committee attends events in the area informing members about the Grapevine through displays and other suitable methods\, regarding all available Grapevine publications\, audio-visual materials\, and other special items. \nAll GVRs are encouraged to attend the committee meeting. \nThe committee meets on the 1st Saturday of every month at 11 am. \nCOGF\, 651 W. Broad St.\, Columbus OH 43215 \nIf you cannot be in attendance we now have the meeting hybrid!! \nJoin Hybrid Meeting  \nGoogle Meets Meeting ID: csg-cwkc-xbu
URL:https://area53aa.org/event/grapevine-committee-monthly-meeting-2-2-2/2027-02-06/
LOCATION:COGF\, 645 W. Broad St.\, Columbus\, 43215\, United States
CATEGORIES:Monthly Standing Committee Meetings
ORGANIZER;CN="Area 53 Grapevine Committee":MAILTO:grapevine@area53aa.org
GEO:39.9599571;-83.0178443
X-APPLE-STRUCTURED-LOCATION;VALUE=URI;X-ADDRESS=COGF 645 W. Broad St. Columbus 43215 United States;X-APPLE-RADIUS=500;X-TITLE=645 W. Broad St.:geo:-83.0178443,39.9599571
END:VEVENT
BEGIN:VEVENT
DTSTART;TZID=America/New_York:20270207T130000
DTEND;TZID=America/New_York:20270207T140000
DTSTAMP:20260422T225835
CREATED:20250215T071520Z
LAST-MODIFIED:20250215T071520Z
UID:10001940-1802005200-1802008800@area53aa.org
SUMMARY:District 8/9 Meeting
DESCRIPTION:1st Sunday at 1:00 PM \nTrinity Episcopal Church\, 76 E Main St\, Newark\, OH 43055\, USA
URL:https://area53aa.org/event/district-8-9-meeting/2027-02-07/
LOCATION:Trinity Episcopal Church\, 76 East Main Street\, Newark\, OH\, 43055\, United States
CATEGORIES:Monthly District Meetings
ORGANIZER;CN="District 8/9":MAILTO:dcm08@area53aa.org
GEO:40.0588719;-82.3995484
X-APPLE-STRUCTURED-LOCATION;VALUE=URI;X-ADDRESS=Trinity Episcopal Church 76 East Main Street Newark OH 43055 United States;X-APPLE-RADIUS=500;X-TITLE=76 East Main Street:geo:-82.3995484,40.0588719
END:VEVENT
BEGIN:VEVENT
DTSTART;TZID=America/New_York:20270207T170000
DTEND;TZID=America/New_York:20270207T180000
DTSTAMP:20260422T225835
CREATED:20250215T071735Z
LAST-MODIFIED:20250215T071735Z
UID:10002000-1802019600-1802023200@area53aa.org
SUMMARY:District 16 Meeting
DESCRIPTION:1st Sunday at 5:00 PM \nAthens First United Methodist Church\, 2 S College St\, Athens\, OH 45701\, USA
URL:https://area53aa.org/event/district-16-meeting/2027-02-07/
LOCATION:Athens First United Methodist Church\, 2 S College St\, Athens\, 45701\, United States
CATEGORIES:Monthly District Meetings
ORGANIZER;CN="District 16":MAILTO:dcm16@area53aa.org
GEO:39.3290904;-82.0992208
X-APPLE-STRUCTURED-LOCATION;VALUE=URI;X-ADDRESS=Athens First United Methodist Church 2 S College St Athens 45701 United States;X-APPLE-RADIUS=500;X-TITLE=2 S College St:geo:-82.0992208,39.3290904
END:VEVENT
BEGIN:VEVENT
DTSTART;TZID=America/New_York:20270207T170000
DTEND;TZID=America/New_York:20270207T180000
DTSTAMP:20260422T225835
CREATED:20250215T072108Z
LAST-MODIFIED:20250215T072108Z
UID:10002060-1802019600-1802023200@area53aa.org
SUMMARY:District 17 Meeting
DESCRIPTION:First Sunday of the Month at 5:00 PM \nSacred Heart Church and Rectory\, 161 Mulberry Ave\, Pomeroy\, OH 45769\, USA
URL:https://area53aa.org/event/district-17-meeting/2027-02-07/
LOCATION:Sacred Heart Church and Rectory\, 161 Mulberry Ave\, Pomeroy\, o\, 45769\, United States
CATEGORIES:Monthly District Meetings
ORGANIZER;CN="district 17":MAILTO:dcm17@area53aa.org
GEO:39.0295211;-82.0371166
X-APPLE-STRUCTURED-LOCATION;VALUE=URI;X-ADDRESS=Sacred Heart Church and Rectory 161 Mulberry Ave Pomeroy o 45769 United States;X-APPLE-RADIUS=500;X-TITLE=161 Mulberry Ave:geo:-82.0371166,39.0295211
END:VEVENT
BEGIN:VEVENT
DTSTART;TZID=America/New_York:20270306T100000
DTEND;TZID=America/New_York:20270306T110000
DTSTAMP:20260422T225835
CREATED:20250304T234513Z
LAST-MODIFIED:20250304T234514Z
UID:10001876-1804327200-1804330800@area53aa.org
SUMMARY:CFC Quarterly Meeting
DESCRIPTION:Quarterly meeting of the Correctional Facilities Committee\, where we review and vote on Trusted Servant reports (such as last quarter’s meeting minutes\, funds collected\, literature distributed\, etc.)\, as well as discuss and vote on old and new business for the Committee. We also share brief reports from GIR’s and Outside Sponsors. We highly encourage participation over Zoom if members are unable to physically attend. \nHybrid \nCentral Ohio Group Fellowship of Alcoholics Anonymous\n651 W Broad St\nColumbus\, OH 43215\nUSA \nLink: Zoom Meeting \nMeeting ID: 889 7192 9262 \nPass Code: area53
URL:https://area53aa.org/event/cfc-quarterly-meeting-2/2027-03-06/
LOCATION:COGF\, 645 W. Broad St.\, Columbus\, 43215\, United States
CATEGORIES:Monthly Standing Committee Meetings
ORGANIZER;CN="Area 53 CFC Committee":MAILTO:corrections@area53aa.org
GEO:39.9599571;-83.0178443
X-APPLE-STRUCTURED-LOCATION;VALUE=URI;X-ADDRESS=COGF 645 W. Broad St. Columbus 43215 United States;X-APPLE-RADIUS=500;X-TITLE=645 W. Broad St.:geo:-83.0178443,39.9599571
END:VEVENT
END:VCALENDAR