BEGIN:VCALENDAR
VERSION:2.0
PRODID:-//Area 53 AA - ECPv6.15.20//NONSGML v1.0//EN
CALSCALE:GREGORIAN
METHOD:PUBLISH
X-ORIGINAL-URL:https://area53aa.org
X-WR-CALDESC:Events for Area 53 AA
REFRESH-INTERVAL;VALUE=DURATION:PT1H
X-Robots-Tag:noindex
X-PUBLISHED-TTL:PT1H
BEGIN:VTIMEZONE
TZID:America/New_York
BEGIN:DAYLIGHT
TZOFFSETFROM:-0500
TZOFFSETTO:-0400
TZNAME:EDT
DTSTART:20260308T070000
END:DAYLIGHT
BEGIN:STANDARD
TZOFFSETFROM:-0400
TZOFFSETTO:-0500
TZNAME:EST
DTSTART:20261101T060000
END:STANDARD
BEGIN:DAYLIGHT
TZOFFSETFROM:-0500
TZOFFSETTO:-0400
TZNAME:EDT
DTSTART:20270314T070000
END:DAYLIGHT
BEGIN:STANDARD
TZOFFSETFROM:-0400
TZOFFSETTO:-0500
TZNAME:EST
DTSTART:20271107T060000
END:STANDARD
BEGIN:DAYLIGHT
TZOFFSETFROM:-0500
TZOFFSETTO:-0400
TZNAME:EDT
DTSTART:20280312T070000
END:DAYLIGHT
BEGIN:STANDARD
TZOFFSETFROM:-0400
TZOFFSETTO:-0500
TZNAME:EST
DTSTART:20281105T060000
END:STANDARD
END:VTIMEZONE
BEGIN:VEVENT
DTSTART;TZID=America/New_York:20270328T183000
DTEND;TZID=America/New_York:20270328T193000
DTSTAMP:20260423T034747
CREATED:20251119T214041Z
LAST-MODIFIED:20251119T214041Z
UID:10003704-1806258600-1806262200@area53aa.org
SUMMARY:District 13/14 Meeting
DESCRIPTION:District 13/14 mtg. \n06:30 pm 07:30 pm \n11/23/2025 \n723 Slocum Ave \nLancaster\, Ohio 43130 United States \nGSR mtg. \nEmail dcm13@area53.org
URL:https://area53aa.org/event/district-13-14-meeting/2027-03-28/
LOCATION:Lancaster Area Intergroup\, 723 Slocum Ave\, Lancaster\, 43130\, United States
CATEGORIES:Monthly District Meetings
GEO:39.7222571;-82.6130773
X-APPLE-STRUCTURED-LOCATION;VALUE=URI;X-ADDRESS=Lancaster Area Intergroup 723 Slocum Ave Lancaster 43130 United States;X-APPLE-RADIUS=500;X-TITLE=723 Slocum Ave:geo:-82.6130773,39.7222571
END:VEVENT
BEGIN:VEVENT
DTSTART;TZID=America/New_York:20270403T100000
DTEND;TZID=America/New_York:20270403T110000
DTSTAMP:20260423T034747
CREATED:20250215T071306Z
LAST-MODIFIED:20250215T071306Z
UID:10001898-1806746400-1806750000@area53aa.org
SUMMARY:District 1 Meeting
DESCRIPTION:District 1 meetings are held every other (even months) 1st Saturday of the month at 10:00 AM. \n440 South St. Paris Street\nBellefontaine OH 43311
URL:https://area53aa.org/event/district-1-meeting/2027-04-03/
LOCATION:Recovery Zone\, 440 South St. Paris Street\, Bellefontaine\, 43311\, United States
CATEGORIES:Monthly District Meetings
ORGANIZER;CN="District 1":MAILTO:dcm01@area53aa.org
GEO:40.3573329;-83.7743358
X-APPLE-STRUCTURED-LOCATION;VALUE=URI;X-ADDRESS=Recovery Zone 440 South St. Paris Street Bellefontaine 43311 United States;X-APPLE-RADIUS=500;X-TITLE=440 South St. Paris Street:geo:-83.7743358,40.3573329
END:VEVENT
BEGIN:VEVENT
DTSTART;TZID=America/New_York:20270405T180000
DTEND;TZID=America/New_York:20270405T190000
DTSTAMP:20260423T034747
CREATED:20250215T072305Z
LAST-MODIFIED:20250215T072305Z
UID:10002122-1806948000-1806951600@area53aa.org
SUMMARY:District 11 Meeting
DESCRIPTION:First Monday of the Month at 6:00 PM \nFirst Presbyterian Church\, 210 W 5th St\, Marysville\, OH 43040\, USA
URL:https://area53aa.org/event/district-11-meeting/2027-04-05/
LOCATION:First Presbyterian Church – Marysville\, 210 West Fifth Street\, Marysville\, OH\, 43040
CATEGORIES:Monthly District Meetings
ORGANIZER;CN="District 11":MAILTO:dcm11@area53aa.org
GEO:40.2367951;-83.3685043
X-APPLE-STRUCTURED-LOCATION;VALUE=URI;X-ADDRESS=First Presbyterian Church – Marysville 210 West Fifth Street Marysville OH 43040;X-APPLE-RADIUS=500;X-TITLE=210 West Fifth Street:geo:-83.3685043,40.2367951
END:VEVENT
BEGIN:VEVENT
DTSTART;TZID=America/New_York:20270407T170000
DTEND;TZID=America/New_York:20270407T190000
DTSTAMP:20260423T034747
CREATED:20251020T142739Z
LAST-MODIFIED:20251020T142741Z
UID:10003639-1807117200-1807124400@area53aa.org
SUMMARY:District 30 Meeting
DESCRIPTION:1st Wednesday of the month at 5:00 PM \nUpper Arlington Public Library – Tremont Road Branch \n2800 Tremont Rd\nUpper Arlington \, OH 43221
URL:https://area53aa.org/event/district-30-meeting-2/2027-04-07/
LOCATION:Upper Arlington Public Library – Tremont Road Branch\, 2800 Tremont Rd\, Upper Arlington\, OH\, 43221\, United States
CATEGORIES:Monthly District Meetings
ORGANIZER;CN="District 30":MAILTO:dcm30@area53aa.org
GEO:40.0126755;-83.0674473
X-APPLE-STRUCTURED-LOCATION;VALUE=URI;X-ADDRESS=Upper Arlington Public Library – Tremont Road Branch 2800 Tremont Rd Upper Arlington OH 43221 United States;X-APPLE-RADIUS=500;X-TITLE=2800 Tremont Rd:geo:-83.0674473,40.0126755
END:VEVENT
BEGIN:VEVENT
DTSTART;TZID=America/New_York:20270407T180000
DTEND;TZID=America/New_York:20270407T190000
DTSTAMP:20260423T034747
CREATED:20250215T072759Z
LAST-MODIFIED:20250215T072759Z
UID:10002183-1807120800-1807124400@area53aa.org
SUMMARY:District 22 Meeting
DESCRIPTION:First Wednesday of the month at 6:00 PM \nOn Zoom \nZoom Meeting Code: 727 4436 6620 \nPassword: BillW
URL:https://area53aa.org/event/district-22-meeting/2027-04-07/
CATEGORIES:Monthly District Meetings
ORGANIZER;CN="District 22":MAILTO:dcm22@area53aa.org
END:VEVENT
END:VCALENDAR