BEGIN:VCALENDAR
VERSION:2.0
PRODID:-//Area 53 AA - ECPv6.15.20//NONSGML v1.0//EN
CALSCALE:GREGORIAN
METHOD:PUBLISH
X-WR-CALNAME:Area 53 AA
X-ORIGINAL-URL:https://area53aa.org
X-WR-CALDESC:Events for Area 53 AA
REFRESH-INTERVAL;VALUE=DURATION:PT1H
X-Robots-Tag:noindex
X-PUBLISHED-TTL:PT1H
BEGIN:VTIMEZONE
TZID:America/New_York
BEGIN:DAYLIGHT
TZOFFSETFROM:-0500
TZOFFSETTO:-0400
TZNAME:EDT
DTSTART:20260308T070000
END:DAYLIGHT
BEGIN:STANDARD
TZOFFSETFROM:-0400
TZOFFSETTO:-0500
TZNAME:EST
DTSTART:20261101T060000
END:STANDARD
BEGIN:DAYLIGHT
TZOFFSETFROM:-0500
TZOFFSETTO:-0400
TZNAME:EDT
DTSTART:20270314T070000
END:DAYLIGHT
BEGIN:STANDARD
TZOFFSETFROM:-0400
TZOFFSETTO:-0500
TZNAME:EST
DTSTART:20271107T060000
END:STANDARD
BEGIN:DAYLIGHT
TZOFFSETFROM:-0500
TZOFFSETTO:-0400
TZNAME:EDT
DTSTART:20280312T070000
END:DAYLIGHT
BEGIN:STANDARD
TZOFFSETFROM:-0400
TZOFFSETTO:-0500
TZNAME:EST
DTSTART:20281105T060000
END:STANDARD
END:VTIMEZONE
BEGIN:VEVENT
DTSTART;TZID=America/New_York:20270919T160000
DTEND;TZID=America/New_York:20270919T170000
DTSTAMP:20260424T071437
CREATED:20250215T080944Z
LAST-MODIFIED:20250215T080944Z
UID:10002487-1821369600-1821373200@area53aa.org
SUMMARY:District 12 Meeting
DESCRIPTION:3rd Sunday of the Month at 4:00 PM
URL:https://area53aa.org/event/district-12-meeting/2027-09-19/
LOCATION:Springfield Alano Club Inc\, 1557 E Main St\, Springfield\, 45503\, United States
CATEGORIES:Monthly District Meetings
ORGANIZER;CN="District 12":MAILTO:dcm12@area53aa.org
GEO:39.9231477;-83.7860254
X-APPLE-STRUCTURED-LOCATION;VALUE=URI;X-ADDRESS=Springfield Alano Club Inc 1557 E Main St Springfield 45503 United States;X-APPLE-RADIUS=500;X-TITLE=1557 E Main St:geo:-83.7860254,39.9231477
END:VEVENT
BEGIN:VEVENT
DTSTART;TZID=America/New_York:20270919T180000
DTEND;TZID=America/New_York:20270919T190000
DTSTAMP:20260424T071437
CREATED:20250215T081126Z
LAST-MODIFIED:20250215T081126Z
UID:10002546-1821376800-1821380400@area53aa.org
SUMMARY:District 19 Meeting
DESCRIPTION:3rd Sunday of the Month at 6:00 PM
URL:https://area53aa.org/event/district-19-meeting/2027-09-19/
LOCATION:Sabina United Methodist Church\, 61 W Elm St\, Sabina\, 45169\, United States
CATEGORIES:Monthly District Meetings
ORGANIZER;CN="District 19":MAILTO:dcm19@area53aa.org
GEO:39.4903491;-83.6374472
X-APPLE-STRUCTURED-LOCATION;VALUE=URI;X-ADDRESS=Sabina United Methodist Church 61 W Elm St Sabina 45169 United States;X-APPLE-RADIUS=500;X-TITLE=61 W Elm St:geo:-83.6374472,39.4903491
END:VEVENT
BEGIN:VEVENT
DTSTART;TZID=America/New_York:20270926T173000
DTEND;TZID=America/New_York:20270926T183000
DTSTAMP:20260424T071437
CREATED:20250215T081335Z
LAST-MODIFIED:20250221T122247Z
UID:10002606-1821979800-1821983400@area53aa.org
SUMMARY:District 34 Meeting
DESCRIPTION:4th Sunday of the month at 5:30 PM \nHoge Memorial Presbyterian Church\, 2930 W Broad St\, Columbus\, OH 43204\, USA
URL:https://area53aa.org/event/district-34-meeting/2027-09-26/
LOCATION:Hoge Memorial Presbyterian Church\, 2930 West Broad Street\, Columbus\, OH\, 43204\, United States
CATEGORIES:Monthly District Meetings
GEO:39.9552438;-83.0786673
X-APPLE-STRUCTURED-LOCATION;VALUE=URI;X-ADDRESS=Hoge Memorial Presbyterian Church 2930 West Broad Street Columbus OH 43204 United States;X-APPLE-RADIUS=500;X-TITLE=2930 West Broad Street:geo:-83.0786673,39.9552438
END:VEVENT
BEGIN:VEVENT
DTSTART;TZID=America/New_York:20270926T183000
DTEND;TZID=America/New_York:20270926T193000
DTSTAMP:20260424T071437
CREATED:20251119T214041Z
LAST-MODIFIED:20251119T214041Z
UID:10003710-1821983400-1821987000@area53aa.org
SUMMARY:District 13/14 Meeting
DESCRIPTION:District 13/14 mtg. \n06:30 pm 07:30 pm \n11/23/2025 \n723 Slocum Ave \nLancaster\, Ohio 43130 United States \nGSR mtg. \nEmail dcm13@area53.org
URL:https://area53aa.org/event/district-13-14-meeting/2027-09-26/
LOCATION:Lancaster Area Intergroup\, 723 Slocum Ave\, Lancaster\, 43130\, United States
CATEGORIES:Monthly District Meetings
GEO:39.7222571;-82.6130773
X-APPLE-STRUCTURED-LOCATION;VALUE=URI;X-ADDRESS=Lancaster Area Intergroup 723 Slocum Ave Lancaster 43130 United States;X-APPLE-RADIUS=500;X-TITLE=723 Slocum Ave:geo:-82.6130773,39.7222571
END:VEVENT
BEGIN:VEVENT
DTSTART;TZID=America/New_York:20271002T100000
DTEND;TZID=America/New_York:20271002T110000
DTSTAMP:20260424T071437
CREATED:20250215T071306Z
LAST-MODIFIED:20250215T071306Z
UID:10001901-1822471200-1822474800@area53aa.org
SUMMARY:District 1 Meeting
DESCRIPTION:District 1 meetings are held every other (even months) 1st Saturday of the month at 10:00 AM. \n440 South St. Paris Street\nBellefontaine OH 43311
URL:https://area53aa.org/event/district-1-meeting/2027-10-02/
LOCATION:Recovery Zone\, 440 South St. Paris Street\, Bellefontaine\, 43311\, United States
CATEGORIES:Monthly District Meetings
ORGANIZER;CN="District 1":MAILTO:dcm01@area53aa.org
GEO:40.3573329;-83.7743358
X-APPLE-STRUCTURED-LOCATION;VALUE=URI;X-ADDRESS=Recovery Zone 440 South St. Paris Street Bellefontaine 43311 United States;X-APPLE-RADIUS=500;X-TITLE=440 South St. Paris Street:geo:-83.7743358,40.3573329
END:VEVENT
END:VCALENDAR