BEGIN:VCALENDAR
VERSION:2.0
PRODID:-//Area 53 AA - ECPv6.15.20//NONSGML v1.0//EN
CALSCALE:GREGORIAN
METHOD:PUBLISH
X-ORIGINAL-URL:https://area53aa.org
X-WR-CALDESC:Events for Area 53 AA
REFRESH-INTERVAL;VALUE=DURATION:PT1H
X-Robots-Tag:noindex
X-PUBLISHED-TTL:PT1H
BEGIN:VTIMEZONE
TZID:America/New_York
BEGIN:DAYLIGHT
TZOFFSETFROM:-0500
TZOFFSETTO:-0400
TZNAME:EDT
DTSTART:20240310T070000
END:DAYLIGHT
BEGIN:STANDARD
TZOFFSETFROM:-0400
TZOFFSETTO:-0500
TZNAME:EST
DTSTART:20241103T060000
END:STANDARD
BEGIN:DAYLIGHT
TZOFFSETFROM:-0500
TZOFFSETTO:-0400
TZNAME:EDT
DTSTART:20250309T070000
END:DAYLIGHT
BEGIN:STANDARD
TZOFFSETFROM:-0400
TZOFFSETTO:-0500
TZNAME:EST
DTSTART:20251102T060000
END:STANDARD
BEGIN:DAYLIGHT
TZOFFSETFROM:-0500
TZOFFSETTO:-0400
TZNAME:EDT
DTSTART:20260308T070000
END:DAYLIGHT
BEGIN:STANDARD
TZOFFSETFROM:-0400
TZOFFSETTO:-0500
TZNAME:EST
DTSTART:20261101T060000
END:STANDARD
END:VTIMEZONE
BEGIN:VEVENT
DTSTART;TZID=America/New_York:20251106T190000
DTEND;TZID=America/New_York:20251106T203000
DTSTAMP:20260422T202311
CREATED:20250929T150818Z
LAST-MODIFIED:20251104T180534Z
UID:10003552-1762455600-1762461000@area53aa.org
SUMMARY:2026 Mini Conference Committee Meeting - Hybrid
DESCRIPTION:Next Meeting\nNovember 6th\, 2025.\n7:00 PM\nHybrid Meeting\nZoom Meeting ID: 832 5210 8805\nPasscode: Area53 \n\n\n			\n							Join Virtual Meeting\n						\n			\n	\n\n			\n							Meeting Documents\n						\n			\n	\n\n	Shelly & Sands Safety Training Center \n4330 S River Rd\, Zanesville\, OH 43701
URL:https://area53aa.org/event/2026-mini-conference-committee-meeting-hybrid/
LOCATION:Shelly & Sands Learning Safety and Training Center\, 4330 South River Rd\, Zanesville\, OH\, 43701\, United States
CATEGORIES:AREA 53 EVENTS,Area 53 Mini-Conference,Area 53 News
ORGANIZER;CN="Area 53 Mini-Conference Committee":MAILTO:altdelegate@area53aa.org
GEO:39.873106;-81.949577
X-APPLE-STRUCTURED-LOCATION;VALUE=URI;X-ADDRESS=Shelly & Sands Learning Safety and Training Center 4330 South River Rd Zanesville OH 43701 United States;X-APPLE-RADIUS=500;X-TITLE=4330 South River Rd:geo:-81.949577,39.873106
END:VEVENT
END:VCALENDAR