BEGIN:VCALENDAR
VERSION:2.0
PRODID:-//Area 53 AA - ECPv6.15.20//NONSGML v1.0//EN
CALSCALE:GREGORIAN
METHOD:PUBLISH
X-WR-CALNAME:Area 53 AA
X-ORIGINAL-URL:https://area53aa.org
X-WR-CALDESC:Events for Area 53 AA
REFRESH-INTERVAL;VALUE=DURATION:PT1H
X-Robots-Tag:noindex
X-PUBLISHED-TTL:PT1H
BEGIN:VTIMEZONE
TZID:America/New_York
BEGIN:DAYLIGHT
TZOFFSETFROM:-0500
TZOFFSETTO:-0400
TZNAME:EDT
DTSTART:20240310T070000
END:DAYLIGHT
BEGIN:STANDARD
TZOFFSETFROM:-0400
TZOFFSETTO:-0500
TZNAME:EST
DTSTART:20241103T060000
END:STANDARD
BEGIN:DAYLIGHT
TZOFFSETFROM:-0500
TZOFFSETTO:-0400
TZNAME:EDT
DTSTART:20250309T070000
END:DAYLIGHT
BEGIN:STANDARD
TZOFFSETFROM:-0400
TZOFFSETTO:-0500
TZNAME:EST
DTSTART:20251102T060000
END:STANDARD
BEGIN:DAYLIGHT
TZOFFSETFROM:-0500
TZOFFSETTO:-0400
TZNAME:EDT
DTSTART:20260308T070000
END:DAYLIGHT
BEGIN:STANDARD
TZOFFSETFROM:-0400
TZOFFSETTO:-0500
TZNAME:EST
DTSTART:20261101T060000
END:STANDARD
END:VTIMEZONE
BEGIN:VEVENT
DTSTART;TZID=America/New_York:20251211T190000
DTEND;TZID=America/New_York:20251211T210000
DTSTAMP:20260422T161114
CREATED:20251210T022439Z
LAST-MODIFIED:20251210T023102Z
UID:10003749-1765479600-1765486800@area53aa.org
SUMMARY:Mini Conference Planning Committee
DESCRIPTION:Come help us plan the 2026 Mini Conference! \nThis meeting is hybrid. \n\n\n			\n					\n						Directions\n					\n	\n\n			\n					\n						Join Virtual Meeting\n					\n	\n\n	Area 53 is inviting you to a scheduled Zoom meeting. \nTopic: 2026 Mini Conference committee\nTime: Dec 11\, 2025 07:00 PM Eastern Time (US and Canada) \nJoin Zoom Meeting:\nhttps://us02web.zoom.us/j/83252108805?pwd=dXmOTevp4bx6KrSPxVBZigO41aw2tY.1 \nMeeting ID: 832 5210 8805\nPasscode: Area53 \n--- \nOne tap mobile\n+13017158592\,\,83252108805#\,\,\,\,*222962# US (Washington DC)\n+13126266799\,\,83252108805#\,\,\,\,*222962# US (Chicago) \nJoin instructions\nhttps://us02web.zoom.us/meetings/83252108805/invitations?signature=80ZxvujPgsv4-g-BtJ5zD8fBlgyf5hPPr9d8q7tGw30 \n 
URL:https://area53aa.org/event/mini-conference-planning-committee-december-2025/
LOCATION:Shelly & Sands Learning Safety and Training Center\, 4330 South River Rd\, Zanesville\, OH\, 43701\, United States
CATEGORIES:Area 53 Mini-Conference
ORGANIZER;CN="Area 53 Mini-Conference Committee":MAILTO:altdelegate@area53aa.org
GEO:39.873106;-81.949577
X-APPLE-STRUCTURED-LOCATION;VALUE=URI;X-ADDRESS=Shelly & Sands Learning Safety and Training Center 4330 South River Rd Zanesville OH 43701 United States;X-APPLE-RADIUS=500;X-TITLE=4330 South River Rd:geo:-81.949577,39.873106
END:VEVENT
END:VCALENDAR