BEGIN:VCALENDAR
VERSION:2.0
PRODID:-//Area 53 AA - ECPv6.15.20//NONSGML v1.0//EN
CALSCALE:GREGORIAN
METHOD:PUBLISH
X-ORIGINAL-URL:https://area53aa.org
X-WR-CALDESC:Events for Area 53 AA
REFRESH-INTERVAL;VALUE=DURATION:PT1H
X-Robots-Tag:noindex
X-PUBLISHED-TTL:PT1H
BEGIN:VTIMEZONE
TZID:America/New_York
BEGIN:DAYLIGHT
TZOFFSETFROM:-0500
TZOFFSETTO:-0400
TZNAME:EDT
DTSTART:20240310T070000
END:DAYLIGHT
BEGIN:STANDARD
TZOFFSETFROM:-0400
TZOFFSETTO:-0500
TZNAME:EST
DTSTART:20241103T060000
END:STANDARD
BEGIN:DAYLIGHT
TZOFFSETFROM:-0500
TZOFFSETTO:-0400
TZNAME:EDT
DTSTART:20250309T070000
END:DAYLIGHT
BEGIN:STANDARD
TZOFFSETFROM:-0400
TZOFFSETTO:-0500
TZNAME:EST
DTSTART:20251102T060000
END:STANDARD
BEGIN:DAYLIGHT
TZOFFSETFROM:-0500
TZOFFSETTO:-0400
TZNAME:EDT
DTSTART:20260308T070000
END:DAYLIGHT
BEGIN:STANDARD
TZOFFSETFROM:-0400
TZOFFSETTO:-0500
TZNAME:EST
DTSTART:20261101T060000
END:STANDARD
END:VTIMEZONE
BEGIN:VEVENT
DTSTART;TZID=America/New_York:20250817T170000
DTEND;TZID=America/New_York:20250817T190000
DTSTAMP:20260422T225214
CREATED:20250701T110702Z
LAST-MODIFIED:20250817T121028Z
UID:10003333-1755450000-1755457200@area53aa.org
SUMMARY:McArtur Group Picnic
DESCRIPTION:This is your opportunity to connect\, learn\, and grow with your AA community! Registration is quick\, easy\, and best of all – free. While on-site registration will be available\, we encourage you to pre-register online to secure your spot and make your experience even smoother! \nWe can't wait to see you in Indianapolis for a weekend full of inspiration\, connection\, and excitement! \n\n\n			\n							More Info\n						\n			\n	\n\n			\n							Online Registration \n						\n			\n	\n\n			\n							Download Flyer
URL:https://area53aa.org/event/mcartur-group-picnic/
LOCATION:Wyman Park\, 510 Northview Rd\, McArthur\, OH\, 45651
GEO:39.2503525;-82.4857412
X-APPLE-STRUCTURED-LOCATION;VALUE=URI;X-ADDRESS=Wyman Park 510 Northview Rd McArthur OH 45651;X-APPLE-RADIUS=500;X-TITLE=510 Northview Rd:geo:-82.4857412,39.2503525
END:VEVENT
BEGIN:VEVENT
DTSTART;VALUE=DATE:20250822
DTEND;VALUE=DATE:20250825
DTSTAMP:20260422T225214
CREATED:20250707T164809Z
LAST-MODIFIED:20250817T121036Z
UID:10003338-1755820800-1756079999@area53aa.org
SUMMARY:2025 East Central Regional Forum
DESCRIPTION:This is your opportunity to connect\, learn\, and grow with your AA community! Registration is quick\, easy\, and best of all – free. While on-site registration will be available\, we encourage you to pre-register online to secure your spot and make your experience even smoother! \nWe can't wait to see you in Indianapolis for a weekend full of inspiration\, connection\, and excitement! \n\n\n			\n							More Info\n						\n			\n	\n\n			\n							Online Registration \n						\n			\n	\n\n			\n							Download Flyer
URL:https://area53aa.org/event/2025-east-central-regional-forum/
LOCATION:Marriott Indianapolis Downtown\, 350 West Maryland Street\, Indianapolis\, IN\, 46225\, United States
GEO:39.7665632;-86.1647809
X-APPLE-STRUCTURED-LOCATION;VALUE=URI;X-ADDRESS=Marriott Indianapolis Downtown 350 West Maryland Street Indianapolis IN 46225 United States;X-APPLE-RADIUS=500;X-TITLE=350 West Maryland Street:geo:-86.1647809,39.7665632
END:VEVENT
END:VCALENDAR