BEGIN:VCALENDAR
VERSION:2.0
PRODID:-//Area 53 AA - ECPv6.15.20//NONSGML v1.0//EN
CALSCALE:GREGORIAN
METHOD:PUBLISH
X-ORIGINAL-URL:https://area53aa.org
X-WR-CALDESC:Events for Area 53 AA
REFRESH-INTERVAL;VALUE=DURATION:PT1H
X-Robots-Tag:noindex
X-PUBLISHED-TTL:PT1H
BEGIN:VTIMEZONE
TZID:America/New_York
BEGIN:DAYLIGHT
TZOFFSETFROM:-0500
TZOFFSETTO:-0400
TZNAME:EDT
DTSTART:20230312T070000
END:DAYLIGHT
BEGIN:STANDARD
TZOFFSETFROM:-0400
TZOFFSETTO:-0500
TZNAME:EST
DTSTART:20231105T060000
END:STANDARD
BEGIN:DAYLIGHT
TZOFFSETFROM:-0500
TZOFFSETTO:-0400
TZNAME:EDT
DTSTART:20240310T070000
END:DAYLIGHT
BEGIN:STANDARD
TZOFFSETFROM:-0400
TZOFFSETTO:-0500
TZNAME:EST
DTSTART:20241103T060000
END:STANDARD
BEGIN:DAYLIGHT
TZOFFSETFROM:-0500
TZOFFSETTO:-0400
TZNAME:EDT
DTSTART:20250309T070000
END:DAYLIGHT
BEGIN:STANDARD
TZOFFSETFROM:-0400
TZOFFSETTO:-0500
TZNAME:EST
DTSTART:20251102T060000
END:STANDARD
END:VTIMEZONE
BEGIN:VEVENT
DTSTART;TZID=America/New_York:20241208T090000
DTEND;TZID=America/New_York:20241208T160000
DTSTAMP:20260423T050356
CREATED:20241031T190615Z
LAST-MODIFIED:20241209T040237Z
UID:10001276-1733648400-1733673600@area53aa.org
SUMMARY:Area 53 Assembly\, 10:00AM December 8\, 2024
DESCRIPTION:Area 53 Assembly\, December 8\, 2024\, 10am  This will be an in-person event at the Doubletree by Hilton Columbus-Worthington\, 175 Hutchinson Avenue\, Columbus\, Ohio 43235.  Please arrive by 9:15am to check in\, enjoy some fellowship and review documents.\nThe Area Assembly is a meeting of the Area's GSRs and the Area Committee\, which is composed of DCMs\, area officers\, and chairpersons of area standing committees. All interested AA members are welcome.  The agenda and additional documents will be posted on this page as they become available.   \nPre-registration using the button above will speed up the check in process and help officers to have the necessary documents available for all participants.\n\n	\n\n\n\n			\n	\n	\n		\n	Assembly Documents\nPamphlet: Area 53 General Service \nArea 53 Income Statement Explanations \nDecember Assembly Agenda and Reports \nJune Assembly Draft Minutes \nSeptember Assembly Draft Minutes \n2025 MIni Conference Flyer \n  \n\n	\n\n\n\n			\n	\n	\n		\n	Online participation will not be available for this event.  Please attend in person.
URL:https://area53aa.org/event/area-53-assembly-1000am-dec-8-2024/
LOCATION:DoubleTree By Hilton Columbus Worthington\, 175 Hutchinson Ave\, Columbus\, OH\, 43225\, United States
CATEGORIES:Area 53 Assembly
ATTACH;FMTTYPE=image/png:https://area53aa.org/wp-content/uploads/2022/01/feedback.png
GEO:40.1130888;-83.0114746
X-APPLE-STRUCTURED-LOCATION;VALUE=URI;X-ADDRESS=DoubleTree By Hilton Columbus Worthington 175 Hutchinson Ave Columbus OH 43225 United States;X-APPLE-RADIUS=500;X-TITLE=175 Hutchinson Ave:geo:-83.0114746,40.1130888
END:VEVENT
BEGIN:VEVENT
DTSTART;TZID=America/New_York:20240908T090000
DTEND;TZID=America/New_York:20240908T130000
DTSTAMP:20260423T050356
CREATED:20240623T000541Z
LAST-MODIFIED:20240904T133957Z
UID:10000633-1725786000-1725800400@area53aa.org
SUMMARY:Area 53 Assembly\, 10:00AM September 8\, 2024
DESCRIPTION:Area 53 Assembly\, December 8\, 2024\, 10am  This will be an in-person event at the Doubletree by Hilton Columbus-Worthington\, 175 Hutchinson Avenue\, Columbus\, Ohio 43235.  Please arrive by 9:15am to check in\, enjoy some fellowship and review documents.\nThe Area Assembly is a meeting of the Area's GSRs and the Area Committee\, which is composed of DCMs\, area officers\, and chairpersons of area standing committees. All interested AA members are welcome.  The agenda and additional documents will be posted on this page as they become available.   \nPre-registration using the button above will speed up the check in process and help officers to have the necessary documents available for all participants.\n\n	\n\n\n\n			\n	\n	\n		\n	Assembly Documents\nPamphlet: Area 53 General Service \nArea 53 Income Statement Explanations \nDecember Assembly Agenda and Reports \nJune Assembly Draft Minutes \nSeptember Assembly Draft Minutes \n2025 MIni Conference Flyer \n  \n\n	\n\n\n\n			\n	\n	\n		\n	Online participation will not be available for this event.  Please attend in person.
URL:https://area53aa.org/event/area-53-assembly-1000am-june-4-2023-copy-copy-copy-copy-2/
LOCATION:DoubleTree By Hilton Columbus Worthington\, 175 Hutchinson Ave\, Columbus\, OH\, 43225\, United States
CATEGORIES:Area 53 Assembly
ATTACH;FMTTYPE=image/png:https://area53aa.org/wp-content/uploads/2022/01/feedback.png
GEO:40.1130888;-83.0114746
X-APPLE-STRUCTURED-LOCATION;VALUE=URI;X-ADDRESS=DoubleTree By Hilton Columbus Worthington 175 Hutchinson Ave Columbus OH 43225 United States;X-APPLE-RADIUS=500;X-TITLE=175 Hutchinson Ave:geo:-83.0114746,40.1130888
END:VEVENT
BEGIN:VEVENT
DTSTART;TZID=America/New_York:20240602T090000
DTEND;TZID=America/New_York:20240602T160000
DTSTAMP:20260423T050356
CREATED:20240429T013553Z
LAST-MODIFIED:20240609T181345Z
UID:10000502-1717318800-1717344000@area53aa.org
SUMMARY:Area 53 Assembly\, 10:00AM June 2\, 2024
DESCRIPTION:Area 53 Assembly\, December 8\, 2024\, 10am  This will be an in-person event at the Doubletree by Hilton Columbus-Worthington\, 175 Hutchinson Avenue\, Columbus\, Ohio 43235.  Please arrive by 9:15am to check in\, enjoy some fellowship and review documents.\nThe Area Assembly is a meeting of the Area's GSRs and the Area Committee\, which is composed of DCMs\, area officers\, and chairpersons of area standing committees. All interested AA members are welcome.  The agenda and additional documents will be posted on this page as they become available.   \nPre-registration using the button above will speed up the check in process and help officers to have the necessary documents available for all participants.\n\n	\n\n\n\n			\n	\n	\n		\n	Assembly Documents\nPamphlet: Area 53 General Service \nArea 53 Income Statement Explanations \nDecember Assembly Agenda and Reports \nJune Assembly Draft Minutes \nSeptember Assembly Draft Minutes \n2025 MIni Conference Flyer \n  \n\n	\n\n\n\n			\n	\n	\n		\n	Online participation will not be available for this event.  Please attend in person.
URL:https://area53aa.org/event/area-53-assembly-1000am-june-4-2023-copy-copy-copy-copy/
LOCATION:Lafayette Hotel\, Marietta\, OH\, 101 Front Street\, Marietta\, OH\, 45750\, United States
CATEGORIES:Area 53 Assembly
ATTACH;FMTTYPE=image/png:https://area53aa.org/wp-content/uploads/2022/01/feedback.png
GEO:39.4107148;-81.45246
X-APPLE-STRUCTURED-LOCATION;VALUE=URI;X-ADDRESS=Lafayette Hotel Marietta OH 101 Front Street Marietta OH 45750 United States;X-APPLE-RADIUS=500;X-TITLE=101 Front Street:geo:-81.45246,39.4107148
END:VEVENT
END:VCALENDAR