BEGIN:VCALENDAR
VERSION:2.0
PRODID:-//Area 53 AA - ECPv6.15.20//NONSGML v1.0//EN
CALSCALE:GREGORIAN
METHOD:PUBLISH
X-ORIGINAL-URL:https://area53aa.org
X-WR-CALDESC:Events for Area 53 AA
REFRESH-INTERVAL;VALUE=DURATION:PT1H
X-Robots-Tag:noindex
X-PUBLISHED-TTL:PT1H
BEGIN:VTIMEZONE
TZID:America/New_York
BEGIN:DAYLIGHT
TZOFFSETFROM:-0500
TZOFFSETTO:-0400
TZNAME:EDT
DTSTART:20240310T070000
END:DAYLIGHT
BEGIN:STANDARD
TZOFFSETFROM:-0400
TZOFFSETTO:-0500
TZNAME:EST
DTSTART:20241103T060000
END:STANDARD
BEGIN:DAYLIGHT
TZOFFSETFROM:-0500
TZOFFSETTO:-0400
TZNAME:EDT
DTSTART:20250309T070000
END:DAYLIGHT
BEGIN:STANDARD
TZOFFSETFROM:-0400
TZOFFSETTO:-0500
TZNAME:EST
DTSTART:20251102T060000
END:STANDARD
BEGIN:DAYLIGHT
TZOFFSETFROM:-0500
TZOFFSETTO:-0400
TZNAME:EDT
DTSTART:20260308T070000
END:DAYLIGHT
BEGIN:STANDARD
TZOFFSETFROM:-0400
TZOFFSETTO:-0500
TZNAME:EST
DTSTART:20261101T060000
END:STANDARD
END:VTIMEZONE
BEGIN:VEVENT
DTSTART;TZID=America/New_York:20250222T173000
DTEND;TZID=America/New_York:20250222T200000
DTSTAMP:20260422T100239
CREATED:20241218T124135Z
LAST-MODIFIED:20250221T122108Z
UID:10001289-1740245400-1740254400@area53aa.org
SUMMARY:Early Evening Faith and Hope Group 34th Anniversary Celebration!
DESCRIPTION:Join us as we celebrate 34 years of 5:45 Early Evening faith\, hope\, and fellowship! Date: Saturday\, February 22nd\, 2024 Time: 5:30 PM – 8:00 PM Location: Trinity United Church of Christ\, 1180 Shanley Drive\, Columbus\, OH 43224 What to Expect: \n\nFood: We’ll have pizza and a potluck! Please bring your favorite side dish to share.\nFellowship: Connect with friends and members of the Early Evening Faith and Hope Group.\nAA Speaker: A special AA speaker (TBD) will share their story at 7:00 PM.\n\nCome celebrate with us! All are welcome.
URL:https://area53aa.org/event/early-evening-faith-and-hope-group-34th-anniversary-celebration/
LOCATION:Trinity United Church of Christ\, 1180 Shanley Dr\, Columbus\, OH\, 43224\, United States
CATEGORIES:Area 53 News,Group Anniversary
GEO:40.0573375;-82.9871568
X-APPLE-STRUCTURED-LOCATION;VALUE=URI;X-ADDRESS=Trinity United Church of Christ 1180 Shanley Dr Columbus OH 43224 United States;X-APPLE-RADIUS=500;X-TITLE=1180 Shanley Dr:geo:-82.9871568,40.0573375
END:VEVENT
END:VCALENDAR