BEGIN:VCALENDAR
VERSION:2.0
PRODID:-//Area 53 AA - ECPv6.15.20//NONSGML v1.0//EN
CALSCALE:GREGORIAN
METHOD:PUBLISH
X-ORIGINAL-URL:https://area53aa.org
X-WR-CALDESC:Events for Area 53 AA
REFRESH-INTERVAL;VALUE=DURATION:PT1H
X-Robots-Tag:noindex
X-PUBLISHED-TTL:PT1H
BEGIN:VTIMEZONE
TZID:America/New_York
BEGIN:DAYLIGHT
TZOFFSETFROM:-0500
TZOFFSETTO:-0400
TZNAME:EDT
DTSTART:20240310T070000
END:DAYLIGHT
BEGIN:STANDARD
TZOFFSETFROM:-0400
TZOFFSETTO:-0500
TZNAME:EST
DTSTART:20241103T060000
END:STANDARD
BEGIN:DAYLIGHT
TZOFFSETFROM:-0500
TZOFFSETTO:-0400
TZNAME:EDT
DTSTART:20250309T070000
END:DAYLIGHT
BEGIN:STANDARD
TZOFFSETFROM:-0400
TZOFFSETTO:-0500
TZNAME:EST
DTSTART:20251102T060000
END:STANDARD
BEGIN:DAYLIGHT
TZOFFSETFROM:-0500
TZOFFSETTO:-0400
TZNAME:EDT
DTSTART:20260308T070000
END:DAYLIGHT
BEGIN:STANDARD
TZOFFSETFROM:-0400
TZOFFSETTO:-0500
TZNAME:EST
DTSTART:20261101T060000
END:STANDARD
END:VTIMEZONE
BEGIN:VEVENT
DTSTART;TZID=America/New_York:20250307T150000
DTEND;TZID=America/New_York:20250309T150000
DTSTAMP:20260424T075112
CREATED:20241208T154451Z
LAST-MODIFIED:20250308T062710Z
UID:10001285-1741359600-1741532400@area53aa.org
SUMMARY:2025 Area 53 Mini Conference
DESCRIPTION:Save the Date \n5th Annual Red\, White and Sober \n\n\n			\n					\n						Download Flyer
URL:https://area53aa.org/event/2025-area-53-mini-conference-copy/
LOCATION:Deer Creek Lodge & Conference Center\, 22300 State Park Road\, Mt. Sterling\, OH\, 43143\, United States
CATEGORIES:Area 53 Mini-Conference,Area 53 News
GEO:39.615948;-83.2362629
X-APPLE-STRUCTURED-LOCATION;VALUE=URI;X-ADDRESS=Deer Creek Lodge & Conference Center 22300 State Park Road Mt. Sterling OH 43143 United States;X-APPLE-RADIUS=500;X-TITLE=22300 State Park Road:geo:-83.2362629,39.615948
END:VEVENT
BEGIN:VEVENT
DTSTART;TZID=America/New_York:20250309T100000
DTEND;TZID=America/New_York:20250309T160000
DTSTAMP:20260424T075112
CREATED:20250129T182933Z
LAST-MODIFIED:20250309T104030Z
UID:10001424-1741514400-1741536000@area53aa.org
SUMMARY:Area 53 Assembly March 2025
DESCRIPTION:Save the Date \n5th Annual Red\, White and Sober \n\n\n			\n					\n						Download Flyer
URL:https://area53aa.org/event/area-53-assembly-march-2025/
LOCATION:Deer Creek Lodge & Conference Center\, 22300 State Park Road\, Mt. Sterling\, OH\, 43143\, United States
CATEGORIES:Area 53 Assembly,Area 53 News
GEO:39.615948;-83.2362629
X-APPLE-STRUCTURED-LOCATION;VALUE=URI;X-ADDRESS=Deer Creek Lodge & Conference Center 22300 State Park Road Mt. Sterling OH 43143 United States;X-APPLE-RADIUS=500;X-TITLE=22300 State Park Road:geo:-83.2362629,39.615948
END:VEVENT
BEGIN:VEVENT
DTSTART;TZID=America/New_York:20250310T183000
DTEND;TZID=America/New_York:20250310T200000
DTSTAMP:20260424T075112
CREATED:20250215T073650Z
LAST-MODIFIED:20250306T145144Z
UID:10002894-1741631400-1741636800@area53aa.org
SUMMARY:District 28 Meeting
DESCRIPTION:Save the Date \n5th Annual Red\, White and Sober \n\n\n			\n					\n						Download Flyer
URL:https://area53aa.org/event/district-28-meeting/2025-03-10/
LOCATION:Central Vineyard Church\, 55 E Blake Ave\, Columbus\, 43202\, United States
CATEGORIES:Monthly District Meetings
ORGANIZER;CN="District 28":MAILTO:dcm28@area53aa.org
GEO:40.0118086;-83.0088728
X-APPLE-STRUCTURED-LOCATION;VALUE=URI;X-ADDRESS=Central Vineyard Church 55 E Blake Ave Columbus 43202 United States;X-APPLE-RADIUS=500;X-TITLE=55 E Blake Ave:geo:-83.0088728,40.0118086
END:VEVENT
BEGIN:VEVENT
DTSTART;TZID=America/New_York:20250314T150000
DTEND;TZID=America/New_York:20250316T120000
DTSTAMP:20260424T075112
CREATED:20250129T180409Z
LAST-MODIFIED:20250129T181821Z
UID:10001423-1741964400-1742126400@area53aa.org
SUMMARY:Area 56 Mini Conference 2025
DESCRIPTION:Save the Date \n5th Annual Red\, White and Sober \n\n\n			\n					\n						Download Flyer
URL:https://area53aa.org/event/area-56-mini-conference-2025/
LOCATION:Hope Hotel\, 10823 Chidlaw Rd unit 823\, Dayton\, 45433\, United States
GEO:39.8001771;-84.0432672
X-APPLE-STRUCTURED-LOCATION;VALUE=URI;X-ADDRESS=Hope Hotel 10823 Chidlaw Rd unit 823 Dayton 45433 United States;X-APPLE-RADIUS=500;X-TITLE=10823 Chidlaw Rd unit 823:geo:-84.0432672,39.8001771
END:VEVENT
BEGIN:VEVENT
DTSTART;TZID=America/New_York:20250315T080000
DTEND;TZID=America/New_York:20250315T170000
DTSTAMP:20260424T075112
CREATED:20250215T055600Z
LAST-MODIFIED:20250215T055600Z
UID:10001631-1742025600-1742058000@area53aa.org
SUMMARY:District 7 Meeting
DESCRIPTION:Save the Date \n5th Annual Red\, White and Sober \n\n\n			\n					\n						Download Flyer
URL:https://area53aa.org/event/district-7-meeting/2025-03-15/
LOCATION:I.s.r.c.\, 554 Moxahala Ave\, Zanesville\, 43701\, United States
CATEGORIES:Monthly District Meetings
ORGANIZER;CN="District 7":MAILTO:dcm07@area53aa.org
GEO:39.9302383;-82.0053096
X-APPLE-STRUCTURED-LOCATION;VALUE=URI;X-ADDRESS=I.s.r.c. 554 Moxahala Ave Zanesville 43701 United States;X-APPLE-RADIUS=500;X-TITLE=554 Moxahala Ave:geo:-82.0053096,39.9302383
END:VEVENT
BEGIN:VEVENT
DTSTART;TZID=America/New_York:20250315T093000
DTEND;TZID=America/New_York:20250315T103000
DTSTAMP:20260424T075112
CREATED:20250215T073903Z
LAST-MODIFIED:20250215T073903Z
UID:10002338-1742031000-1742034600@area53aa.org
SUMMARY:District 26 Meeting
DESCRIPTION:Save the Date \n5th Annual Red\, White and Sober \n\n\n			\n					\n						Download Flyer
URL:https://area53aa.org/event/district-26-meeting/2025-03-15/
LOCATION:Whitehall United Methodist Church\, 525 Bernhard Road\, Columbus\, Ohio
CATEGORIES:Monthly District Meetings
ORGANIZER;CN="District 26":MAILTO:dcm26@area53aa.org
GEO:39.9640674;-82.8804352
X-APPLE-STRUCTURED-LOCATION;VALUE=URI;X-ADDRESS=Whitehall United Methodist Church 525 Bernhard Road Columbus Ohio;X-APPLE-RADIUS=500;X-TITLE=525 Bernhard Road:geo:-82.8804352,39.9640674
END:VEVENT
BEGIN:VEVENT
DTSTART;TZID=America/New_York:20250315T110000
DTEND;TZID=America/New_York:20250315T120000
DTSTAMP:20260424T075112
CREATED:20250215T074344Z
LAST-MODIFIED:20250215T074344Z
UID:10002397-1742036400-1742040000@area53aa.org
SUMMARY:District 21 Meeting
DESCRIPTION:Save the Date \n5th Annual Red\, White and Sober \n\n\n			\n					\n						Download Flyer
URL:https://area53aa.org/event/district-21-meeting/2025-03-15/
LOCATION:Wheelersburg United Methodist Church\, 11605 Gallia Pike Rd\, Wheelersburg\, 45694\, 45694\, United States
CATEGORIES:Monthly District Meetings
ORGANIZER;CN="District 21":MAILTO:dcm21@area53aa.org
GEO:38.7278325;-82.8543713
X-APPLE-STRUCTURED-LOCATION;VALUE=URI;X-ADDRESS=Wheelersburg United Methodist Church 11605 Gallia Pike Rd Wheelersburg 45694 45694 United States;X-APPLE-RADIUS=500;X-TITLE=11605 Gallia Pike Rd:geo:-82.8543713,38.7278325
END:VEVENT
BEGIN:VEVENT
DTSTART;TZID=America/New_York:20250315T120000
DTEND;TZID=America/New_York:20250315T130000
DTSTAMP:20260424T075113
CREATED:20240118T035629Z
LAST-MODIFIED:20250215T054843Z
UID:10000441-1742040000-1742043600@area53aa.org
SUMMARY:Treatment Facilities Committee Monthly Meeting
DESCRIPTION:Save the Date \n5th Annual Red\, White and Sober \n\n\n			\n					\n						Download Flyer
URL:https://area53aa.org/event/treatment-facilities-committee-monthly-meeting/2025-03-15/
LOCATION:COGF\, 645 W. Broad St.\, Columbus\, 43215\, United States
CATEGORIES:Monthly Standing Committee Meetings
ORGANIZER;CN="Area 53 Treatment Facilities Committee":MAILTO:treatment@area53aa.org
GEO:39.9599571;-83.0178443
X-APPLE-STRUCTURED-LOCATION;VALUE=URI;X-ADDRESS=COGF 645 W. Broad St. Columbus 43215 United States;X-APPLE-RADIUS=500;X-TITLE=645 W. Broad St.:geo:-83.0178443,39.9599571
END:VEVENT
END:VCALENDAR