BEGIN:VCALENDAR
VERSION:2.0
PRODID:-//Area 53 AA - ECPv6.15.20//NONSGML v1.0//EN
CALSCALE:GREGORIAN
METHOD:PUBLISH
X-ORIGINAL-URL:https://area53aa.org
X-WR-CALDESC:Events for Area 53 AA
REFRESH-INTERVAL;VALUE=DURATION:PT1H
X-Robots-Tag:noindex
X-PUBLISHED-TTL:PT1H
BEGIN:VTIMEZONE
TZID:America/New_York
BEGIN:DAYLIGHT
TZOFFSETFROM:-0500
TZOFFSETTO:-0400
TZNAME:EDT
DTSTART:20240310T070000
END:DAYLIGHT
BEGIN:STANDARD
TZOFFSETFROM:-0400
TZOFFSETTO:-0500
TZNAME:EST
DTSTART:20241103T060000
END:STANDARD
BEGIN:DAYLIGHT
TZOFFSETFROM:-0500
TZOFFSETTO:-0400
TZNAME:EDT
DTSTART:20250309T070000
END:DAYLIGHT
BEGIN:STANDARD
TZOFFSETFROM:-0400
TZOFFSETTO:-0500
TZNAME:EST
DTSTART:20251102T060000
END:STANDARD
BEGIN:DAYLIGHT
TZOFFSETFROM:-0500
TZOFFSETTO:-0400
TZNAME:EDT
DTSTART:20260308T070000
END:DAYLIGHT
BEGIN:STANDARD
TZOFFSETFROM:-0400
TZOFFSETTO:-0500
TZNAME:EST
DTSTART:20261101T060000
END:STANDARD
END:VTIMEZONE
BEGIN:VEVENT
DTSTART;TZID=America/New_York:20250504T130000
DTEND;TZID=America/New_York:20250504T140000
DTSTAMP:20260423T170858
CREATED:20250215T071520Z
LAST-MODIFIED:20250215T071520Z
UID:10001919-1746363600-1746367200@area53aa.org
SUMMARY:District 8/9 Meeting
DESCRIPTION:Save the Date \n5th Annual Red\, White and Sober \n\n\n			\n					\n						Download Flyer
URL:https://area53aa.org/event/district-8-9-meeting/2025-05-04/
LOCATION:Trinity Episcopal Church\, 76 East Main Street\, Newark\, OH\, 43055\, United States
CATEGORIES:Monthly District Meetings
ORGANIZER;CN="District 8/9":MAILTO:dcm08@area53aa.org
GEO:40.0588719;-82.3995484
X-APPLE-STRUCTURED-LOCATION;VALUE=URI;X-ADDRESS=Trinity Episcopal Church 76 East Main Street Newark OH 43055 United States;X-APPLE-RADIUS=500;X-TITLE=76 East Main Street:geo:-82.3995484,40.0588719
END:VEVENT
BEGIN:VEVENT
DTSTART;TZID=America/New_York:20250504T170000
DTEND;TZID=America/New_York:20250504T180000
DTSTAMP:20260423T170858
CREATED:20250215T071735Z
LAST-MODIFIED:20250215T071735Z
UID:10001979-1746378000-1746381600@area53aa.org
SUMMARY:District 16 Meeting
DESCRIPTION:Save the Date \n5th Annual Red\, White and Sober \n\n\n			\n					\n						Download Flyer
URL:https://area53aa.org/event/district-16-meeting/2025-05-04/
LOCATION:Athens First United Methodist Church\, 2 S College St\, Athens\, 45701\, United States
CATEGORIES:Monthly District Meetings
ORGANIZER;CN="District 16":MAILTO:dcm16@area53aa.org
GEO:39.3290904;-82.0992208
X-APPLE-STRUCTURED-LOCATION;VALUE=URI;X-ADDRESS=Athens First United Methodist Church 2 S College St Athens 45701 United States;X-APPLE-RADIUS=500;X-TITLE=2 S College St:geo:-82.0992208,39.3290904
END:VEVENT
BEGIN:VEVENT
DTSTART;TZID=America/New_York:20250504T170000
DTEND;TZID=America/New_York:20250504T180000
DTSTAMP:20260423T170858
CREATED:20250215T072108Z
LAST-MODIFIED:20250215T072108Z
UID:10002039-1746378000-1746381600@area53aa.org
SUMMARY:District 17 Meeting
DESCRIPTION:Save the Date \n5th Annual Red\, White and Sober \n\n\n			\n					\n						Download Flyer
URL:https://area53aa.org/event/district-17-meeting/2025-05-04/
LOCATION:Sacred Heart Church and Rectory\, 161 Mulberry Ave\, Pomeroy\, o\, 45769\, United States
CATEGORIES:Monthly District Meetings
ORGANIZER;CN="district 17":MAILTO:dcm17@area53aa.org
GEO:39.0295211;-82.0371166
X-APPLE-STRUCTURED-LOCATION;VALUE=URI;X-ADDRESS=Sacred Heart Church and Rectory 161 Mulberry Ave Pomeroy o 45769 United States;X-APPLE-RADIUS=500;X-TITLE=161 Mulberry Ave:geo:-82.0371166,39.0295211
END:VEVENT
BEGIN:VEVENT
DTSTART;TZID=America/New_York:20250505T180000
DTEND;TZID=America/New_York:20250505T190000
DTSTAMP:20260423T170858
CREATED:20250215T072305Z
LAST-MODIFIED:20250215T072305Z
UID:10002099-1746468000-1746471600@area53aa.org
SUMMARY:District 11 Meeting
DESCRIPTION:Save the Date \n5th Annual Red\, White and Sober \n\n\n			\n					\n						Download Flyer
URL:https://area53aa.org/event/district-11-meeting/2025-05-05/
LOCATION:First Presbyterian Church – Marysville\, 210 West Fifth Street\, Marysville\, OH\, 43040
CATEGORIES:Monthly District Meetings
ORGANIZER;CN="District 11":MAILTO:dcm11@area53aa.org
GEO:40.2367951;-83.3685043
X-APPLE-STRUCTURED-LOCATION;VALUE=URI;X-ADDRESS=First Presbyterian Church – Marysville 210 West Fifth Street Marysville OH 43040;X-APPLE-RADIUS=500;X-TITLE=210 West Fifth Street:geo:-83.3685043,40.2367951
END:VEVENT
BEGIN:VEVENT
DTSTART;TZID=America/New_York:20250507T180000
DTEND;TZID=America/New_York:20250507T190000
DTSTAMP:20260423T170858
CREATED:20250215T072759Z
LAST-MODIFIED:20250215T072759Z
UID:10002160-1746640800-1746644400@area53aa.org
SUMMARY:District 22 Meeting
DESCRIPTION:Save the Date \n5th Annual Red\, White and Sober \n\n\n			\n					\n						Download Flyer
URL:https://area53aa.org/event/district-22-meeting/2025-05-07/
LOCATION:OH
CATEGORIES:Monthly District Meetings
ORGANIZER;CN="District 22":MAILTO:dcm22@area53aa.org
END:VEVENT
BEGIN:VEVENT
DTSTART;TZID=America/New_York:20250507T180000
DTEND;TZID=America/New_York:20250507T190000
DTSTAMP:20260423T170858
CREATED:20250215T073412Z
LAST-MODIFIED:20250215T073412Z
UID:10002220-1746640800-1746644400@area53aa.org
SUMMARY:District 30 Meeting
DESCRIPTION:Save the Date \n5th Annual Red\, White and Sober \n\n\n			\n					\n						Download Flyer
URL:https://area53aa.org/event/district-30-meeting/2025-05-07/
LOCATION:Panera Bread – Tremont Rd\, 3278 Tremont Rd\, Columbus\, Ohio\, 43221
CATEGORIES:Monthly District Meetings
ORGANIZER;CN="District 30":MAILTO:dcm30@area53aa.org
GEO:40.0619394;-83.0429341
X-APPLE-STRUCTURED-LOCATION;VALUE=URI;X-ADDRESS=Panera Bread – Tremont Rd 3278 Tremont Rd Columbus Ohio 43221;X-APPLE-RADIUS=500;X-TITLE=3278 Tremont Rd:geo:-83.0429341,40.0619394
END:VEVENT
BEGIN:VEVENT
DTSTART;TZID=America/New_York:20250507T183000
DTEND;TZID=America/New_York:20250507T200000
DTSTAMP:20260423T170858
CREATED:20250415T120503Z
LAST-MODIFIED:20250415T120504Z
UID:10003249-1746642600-1746648000@area53aa.org
SUMMARY:Bexley Discussion Group's 35th Anniversary - May 7
DESCRIPTION:Save the Date \n5th Annual Red\, White and Sober \n\n\n			\n					\n						Download Flyer
URL:https://area53aa.org/event/bexley-discussion-groups-35th-anniversary-may-7/
LOCATION:Bexley United Methodist Church\, 2657 E Broad St\, Bexley\, 43209\, United States
CATEGORIES:Group Anniversary
GEO:39.9696193;-82.9298706
X-APPLE-STRUCTURED-LOCATION;VALUE=URI;X-ADDRESS=Bexley United Methodist Church 2657 E Broad St Bexley 43209 United States;X-APPLE-RADIUS=500;X-TITLE=2657 E Broad St:geo:-82.9298706,39.9696193
END:VEVENT
BEGIN:VEVENT
DTSTART;TZID=America/New_York:20250510T120000
DTEND;TZID=America/New_York:20250510T150000
DTSTAMP:20260423T170858
CREATED:20250420T155652Z
LAST-MODIFIED:20250420T160154Z
UID:10003252-1746878400-1746889200@area53aa.org
SUMMARY:District 22 Movie & Chili Cook-off
DESCRIPTION:Save the Date \n5th Annual Red\, White and Sober \n\n\n			\n					\n						Download Flyer
URL:https://area53aa.org/event/district22-movie-chili/
LOCATION:Hilliard United Methodist Church\, 5445 Scioto Darby Rd\, Hilliard\, 43026\, United States
CATEGORIES:District Events
GEO:40.0288083;-83.1619211
X-APPLE-STRUCTURED-LOCATION;VALUE=URI;X-ADDRESS=Hilliard United Methodist Church 5445 Scioto Darby Rd Hilliard 43026 United States;X-APPLE-RADIUS=500;X-TITLE=5445 Scioto Darby Rd:geo:-83.1619211,40.0288083
END:VEVENT
END:VCALENDAR