BEGIN:VCALENDAR
VERSION:2.0
PRODID:-//Area 53 AA - ECPv6.15.20//NONSGML v1.0//EN
CALSCALE:GREGORIAN
METHOD:PUBLISH
X-ORIGINAL-URL:https://area53aa.org
X-WR-CALDESC:Events for Area 53 AA
REFRESH-INTERVAL;VALUE=DURATION:PT1H
X-Robots-Tag:noindex
X-PUBLISHED-TTL:PT1H
BEGIN:VTIMEZONE
TZID:America/New_York
BEGIN:DAYLIGHT
TZOFFSETFROM:-0500
TZOFFSETTO:-0400
TZNAME:EDT
DTSTART:20240310T070000
END:DAYLIGHT
BEGIN:STANDARD
TZOFFSETFROM:-0400
TZOFFSETTO:-0500
TZNAME:EST
DTSTART:20241103T060000
END:STANDARD
BEGIN:DAYLIGHT
TZOFFSETFROM:-0500
TZOFFSETTO:-0400
TZNAME:EDT
DTSTART:20250309T070000
END:DAYLIGHT
BEGIN:STANDARD
TZOFFSETFROM:-0400
TZOFFSETTO:-0500
TZNAME:EST
DTSTART:20251102T060000
END:STANDARD
BEGIN:DAYLIGHT
TZOFFSETFROM:-0500
TZOFFSETTO:-0400
TZNAME:EDT
DTSTART:20260308T070000
END:DAYLIGHT
BEGIN:STANDARD
TZOFFSETFROM:-0400
TZOFFSETTO:-0500
TZNAME:EST
DTSTART:20261101T060000
END:STANDARD
END:VTIMEZONE
BEGIN:VEVENT
DTSTART;VALUE=DATE:20250822
DTEND;VALUE=DATE:20250825
DTSTAMP:20260423T044935
CREATED:20250707T164809Z
LAST-MODIFIED:20250817T121036Z
UID:10003338-1755820800-1756079999@area53aa.org
SUMMARY:2025 East Central Regional Forum
DESCRIPTION:Save the Date \n5th Annual Red\, White and Sober \n\n\n			\n					\n						Download Flyer
URL:https://area53aa.org/event/2025-east-central-regional-forum/
LOCATION:Marriott Indianapolis Downtown\, 350 West Maryland Street\, Indianapolis\, IN\, 46225\, United States
GEO:39.7665632;-86.1647809
X-APPLE-STRUCTURED-LOCATION;VALUE=URI;X-ADDRESS=Marriott Indianapolis Downtown 350 West Maryland Street Indianapolis IN 46225 United States;X-APPLE-RADIUS=500;X-TITLE=350 West Maryland Street:geo:-86.1647809,39.7665632
END:VEVENT
BEGIN:VEVENT
DTSTART;TZID=America/New_York:20250824T173000
DTEND;TZID=America/New_York:20250824T183000
DTSTAMP:20260423T044935
CREATED:20250215T081335Z
LAST-MODIFIED:20250221T122247Z
UID:10002581-1756056600-1756060200@area53aa.org
SUMMARY:District 34 Meeting
DESCRIPTION:Save the Date \n5th Annual Red\, White and Sober \n\n\n			\n					\n						Download Flyer
URL:https://area53aa.org/event/district-34-meeting/2025-08-24/
LOCATION:Hoge Memorial Presbyterian Church\, 2930 West Broad Street\, Columbus\, OH\, 43204\, United States
CATEGORIES:Monthly District Meetings
GEO:39.9552438;-83.0786673
X-APPLE-STRUCTURED-LOCATION;VALUE=URI;X-ADDRESS=Hoge Memorial Presbyterian Church 2930 West Broad Street Columbus OH 43204 United States;X-APPLE-RADIUS=500;X-TITLE=2930 West Broad Street:geo:-83.0786673,39.9552438
END:VEVENT
BEGIN:VEVENT
DTSTART;TZID=America/New_York:20250827T183000
DTEND;TZID=America/New_York:20250827T193000
DTSTAMP:20260423T044935
CREATED:20250215T081607Z
LAST-MODIFIED:20250215T081607Z
UID:10002641-1756319400-1756323000@area53aa.org
SUMMARY:District 15 Meeting
DESCRIPTION:Save the Date \n5th Annual Red\, White and Sober \n\n\n			\n					\n						Download Flyer
URL:https://area53aa.org/event/district-15-meeting/2025-08-27/
LOCATION:Serenity House Marietta\, 431 3rd Street\, Marietta\, OH\, 45750\, United States
CATEGORIES:Monthly District Meetings
ORGANIZER;CN="District 15":MAILTO:dcm15@area53aa.org
GEO:39.4195607;-81.4571447
X-APPLE-STRUCTURED-LOCATION;VALUE=URI;X-ADDRESS=Serenity House Marietta 431 3rd Street Marietta OH 45750 United States;X-APPLE-RADIUS=500;X-TITLE=431 3rd Street:geo:-81.4571447,39.4195607
END:VEVENT
BEGIN:VEVENT
DTSTART;TZID=America/New_York:20250829T203000
DTEND;TZID=America/New_York:20250829T230000
DTSTAMP:20260423T044936
CREATED:20250125T075337Z
LAST-MODIFIED:20250125T075636Z
UID:10001367-1756499400-1756508400@area53aa.org
SUMMARY:OYPAA - Game Night
DESCRIPTION:Save the Date \n5th Annual Red\, White and Sober \n\n\n			\n					\n						Download Flyer
URL:https://area53aa.org/event/oypaa-game-night/2025-08-29/
LOCATION:Indianola Presbyterian Church\, 1970 Waldeck Ave.\, Columbus\, OH\, 43201
CATEGORIES:Area 53 News
ORGANIZER;CN="OYPAA":MAILTO:oypaa38@gmail.com
GEO:40.0031531;-83.0051248
X-APPLE-STRUCTURED-LOCATION;VALUE=URI;X-ADDRESS=Indianola Presbyterian Church 1970 Waldeck Ave. Columbus OH 43201;X-APPLE-RADIUS=500;X-TITLE=1970 Waldeck Ave.:geo:-83.0051248,40.0031531
END:VEVENT
END:VCALENDAR