BEGIN:VCALENDAR
VERSION:2.0
PRODID:-//Area 53 AA - ECPv6.15.20//NONSGML v1.0//EN
CALSCALE:GREGORIAN
METHOD:PUBLISH
X-ORIGINAL-URL:https://area53aa.org
X-WR-CALDESC:Events for Area 53 AA
REFRESH-INTERVAL;VALUE=DURATION:PT1H
X-Robots-Tag:noindex
X-PUBLISHED-TTL:PT1H
BEGIN:VTIMEZONE
TZID:America/New_York
BEGIN:DAYLIGHT
TZOFFSETFROM:-0500
TZOFFSETTO:-0400
TZNAME:EDT
DTSTART:20240310T070000
END:DAYLIGHT
BEGIN:STANDARD
TZOFFSETFROM:-0400
TZOFFSETTO:-0500
TZNAME:EST
DTSTART:20241103T060000
END:STANDARD
BEGIN:DAYLIGHT
TZOFFSETFROM:-0500
TZOFFSETTO:-0400
TZNAME:EDT
DTSTART:20250309T070000
END:DAYLIGHT
BEGIN:STANDARD
TZOFFSETFROM:-0400
TZOFFSETTO:-0500
TZNAME:EST
DTSTART:20251102T060000
END:STANDARD
BEGIN:DAYLIGHT
TZOFFSETFROM:-0500
TZOFFSETTO:-0400
TZNAME:EDT
DTSTART:20260308T070000
END:DAYLIGHT
BEGIN:STANDARD
TZOFFSETFROM:-0400
TZOFFSETTO:-0500
TZNAME:EST
DTSTART:20261101T060000
END:STANDARD
END:VTIMEZONE
BEGIN:VEVENT
DTSTART;TZID=America/New_York:20250901T180000
DTEND;TZID=America/New_York:20250901T190000
DTSTAMP:20260422T205103
CREATED:20250215T072305Z
LAST-MODIFIED:20250215T072305Z
UID:10002103-1756749600-1756753200@area53aa.org
SUMMARY:District 11 Meeting
DESCRIPTION:Save the Date \n5th Annual Red\, White and Sober \n\n\n			\n					\n						Download Flyer
URL:https://area53aa.org/event/district-11-meeting/2025-09-01/
LOCATION:First Presbyterian Church – Marysville\, 210 West Fifth Street\, Marysville\, OH\, 43040
CATEGORIES:Monthly District Meetings
ORGANIZER;CN="District 11":MAILTO:dcm11@area53aa.org
GEO:40.2367951;-83.3685043
X-APPLE-STRUCTURED-LOCATION;VALUE=URI;X-ADDRESS=First Presbyterian Church – Marysville 210 West Fifth Street Marysville OH 43040;X-APPLE-RADIUS=500;X-TITLE=210 West Fifth Street:geo:-83.3685043,40.2367951
END:VEVENT
BEGIN:VEVENT
DTSTART;TZID=America/New_York:20250903T180000
DTEND;TZID=America/New_York:20250903T190000
DTSTAMP:20260422T205103
CREATED:20250215T072759Z
LAST-MODIFIED:20250215T072759Z
UID:10002164-1756922400-1756926000@area53aa.org
SUMMARY:District 22 Meeting
DESCRIPTION:Save the Date \n5th Annual Red\, White and Sober \n\n\n			\n					\n						Download Flyer
URL:https://area53aa.org/event/district-22-meeting/2025-09-03/
LOCATION:OH
CATEGORIES:Monthly District Meetings
ORGANIZER;CN="District 22":MAILTO:dcm22@area53aa.org
END:VEVENT
BEGIN:VEVENT
DTSTART;TZID=America/New_York:20250903T180000
DTEND;TZID=America/New_York:20250903T190000
DTSTAMP:20260422T205103
CREATED:20250215T073412Z
LAST-MODIFIED:20250215T073412Z
UID:10002224-1756922400-1756926000@area53aa.org
SUMMARY:District 30 Meeting
DESCRIPTION:Save the Date \n5th Annual Red\, White and Sober \n\n\n			\n					\n						Download Flyer
URL:https://area53aa.org/event/district-30-meeting/2025-09-03/
LOCATION:Panera Bread – Tremont Rd\, 3278 Tremont Rd\, Columbus\, Ohio\, 43221
CATEGORIES:Monthly District Meetings
ORGANIZER;CN="District 30":MAILTO:dcm30@area53aa.org
GEO:40.0619394;-83.0429341
X-APPLE-STRUCTURED-LOCATION;VALUE=URI;X-ADDRESS=Panera Bread – Tremont Rd 3278 Tremont Rd Columbus Ohio 43221;X-APPLE-RADIUS=500;X-TITLE=3278 Tremont Rd:geo:-83.0429341,40.0619394
END:VEVENT
BEGIN:VEVENT
DTSTART;TZID=America/New_York:20250906T100000
DTEND;TZID=America/New_York:20250906T110000
DTSTAMP:20260422T205103
CREATED:20250304T234513Z
LAST-MODIFIED:20250304T234514Z
UID:10002879-1757152800-1757156400@area53aa.org
SUMMARY:CFC Quarterly Meeting
DESCRIPTION:Save the Date \n5th Annual Red\, White and Sober \n\n\n			\n					\n						Download Flyer
URL:https://area53aa.org/event/cfc-quarterly-meeting-2/2025-09-06/
LOCATION:COGF\, 645 W. Broad St.\, Columbus\, 43215\, United States
CATEGORIES:Monthly Standing Committee Meetings
ORGANIZER;CN="Area 53 CFC Committee":MAILTO:corrections@area53aa.org
GEO:39.9599571;-83.0178443
X-APPLE-STRUCTURED-LOCATION;VALUE=URI;X-ADDRESS=COGF 645 W. Broad St. Columbus 43215 United States;X-APPLE-RADIUS=500;X-TITLE=645 W. Broad St.:geo:-83.0178443,39.9599571
END:VEVENT
BEGIN:VEVENT
DTSTART;TZID=America/New_York:20250906T110000
DTEND;TZID=America/New_York:20250906T120000
DTSTAMP:20260422T205103
CREATED:20250718T204218Z
LAST-MODIFIED:20250718T204219Z
UID:10001166-1757156400-1757160000@area53aa.org
SUMMARY:Grapevine Committee Monthly Meeting
DESCRIPTION:Save the Date \n5th Annual Red\, White and Sober \n\n\n			\n					\n						Download Flyer
URL:https://area53aa.org/event/grapevine-committee-monthly-meeting-2-2-2/2025-09-06/
LOCATION:COGF\, 645 W. Broad St.\, Columbus\, 43215\, United States
CATEGORIES:Monthly Standing Committee Meetings
ORGANIZER;CN="Area 53 Grapevine Committee":MAILTO:grapevine@area53aa.org
GEO:39.9599571;-83.0178443
X-APPLE-STRUCTURED-LOCATION;VALUE=URI;X-ADDRESS=COGF 645 W. Broad St. Columbus 43215 United States;X-APPLE-RADIUS=500;X-TITLE=645 W. Broad St.:geo:-83.0178443,39.9599571
END:VEVENT
BEGIN:VEVENT
DTSTART;TZID=America/New_York:20250906T180000
DTEND;TZID=America/New_York:20250906T210000
DTSTAMP:20260422T205103
CREATED:20250717T023912Z
LAST-MODIFIED:20250717T023912Z
UID:10003340-1757181600-1757192400@area53aa.org
SUMMARY:Byesville B.Y.O.B Group 10th Anniversary
DESCRIPTION:Save the Date \n5th Annual Red\, White and Sober \n\n\n			\n					\n						Download Flyer
URL:https://area53aa.org/event/byesville-b-y-o-b-group-10th-anniversary/
LOCATION:Stop 9 Church of Christ\, 68880 Southgate Rd.\, Byesville\, Ohio\, 43723\, United States
CATEGORIES:Group Anniversary
GEO:39.9829015;-81.5701351
X-APPLE-STRUCTURED-LOCATION;VALUE=URI;X-ADDRESS=Stop 9 Church of Christ 68880 Southgate Rd. Byesville Ohio 43723 United States;X-APPLE-RADIUS=500;X-TITLE=68880 Southgate Rd.:geo:-81.5701351,39.9829015
END:VEVENT
END:VCALENDAR