BEGIN:VCALENDAR
VERSION:2.0
PRODID:-//Area 53 AA - ECPv6.15.20//NONSGML v1.0//EN
CALSCALE:GREGORIAN
METHOD:PUBLISH
X-ORIGINAL-URL:https://area53aa.org
X-WR-CALDESC:Events for Area 53 AA
REFRESH-INTERVAL;VALUE=DURATION:PT1H
X-Robots-Tag:noindex
X-PUBLISHED-TTL:PT1H
BEGIN:VTIMEZONE
TZID:America/New_York
BEGIN:DAYLIGHT
TZOFFSETFROM:-0500
TZOFFSETTO:-0400
TZNAME:EDT
DTSTART:20240310T070000
END:DAYLIGHT
BEGIN:STANDARD
TZOFFSETFROM:-0400
TZOFFSETTO:-0500
TZNAME:EST
DTSTART:20241103T060000
END:STANDARD
BEGIN:DAYLIGHT
TZOFFSETFROM:-0500
TZOFFSETTO:-0400
TZNAME:EDT
DTSTART:20250309T070000
END:DAYLIGHT
BEGIN:STANDARD
TZOFFSETFROM:-0400
TZOFFSETTO:-0500
TZNAME:EST
DTSTART:20251102T060000
END:STANDARD
BEGIN:DAYLIGHT
TZOFFSETFROM:-0500
TZOFFSETTO:-0400
TZNAME:EDT
DTSTART:20260308T070000
END:DAYLIGHT
BEGIN:STANDARD
TZOFFSETFROM:-0400
TZOFFSETTO:-0500
TZNAME:EST
DTSTART:20261101T060000
END:STANDARD
END:VTIMEZONE
BEGIN:VEVENT
DTSTART;TZID=America/New_York:20251026T173000
DTEND;TZID=America/New_York:20251026T183000
DTSTAMP:20260422T054833
CREATED:20250215T081335Z
LAST-MODIFIED:20250221T122247Z
UID:10002583-1761499800-1761503400@area53aa.org
SUMMARY:District 34 Meeting
DESCRIPTION:Save the Date \n5th Annual Red\, White and Sober \n\n\n			\n					\n						Download Flyer
URL:https://area53aa.org/event/district-34-meeting/2025-10-26/
LOCATION:Hoge Memorial Presbyterian Church\, 2930 West Broad Street\, Columbus\, OH\, 43204\, United States
CATEGORIES:Monthly District Meetings
GEO:39.9552438;-83.0786673
X-APPLE-STRUCTURED-LOCATION;VALUE=URI;X-ADDRESS=Hoge Memorial Presbyterian Church 2930 West Broad Street Columbus OH 43204 United States;X-APPLE-RADIUS=500;X-TITLE=2930 West Broad Street:geo:-83.0786673,39.9552438
END:VEVENT
BEGIN:VEVENT
DTSTART;VALUE=DATE:20251031
DTEND;VALUE=DATE:20251103
DTSTAMP:20260422T054833
CREATED:20250929T142337Z
LAST-MODIFIED:20250929T142721Z
UID:10003550-1761868800-1762127999@area53aa.org
SUMMARY:Fellowship of the Spirit Midwest
DESCRIPTION:Save the Date \n5th Annual Red\, White and Sober \n\n\n			\n					\n						Download Flyer
URL:https://area53aa.org/event/fellowship-of-the-spirit-midwest/
LOCATION:Higher Ground Retreat and   Conference Center\, 3820 Logan Creek Drive\, West Harrison\, IN\, 47060\, United States
GEO:39.2788285;-84.8926821
X-APPLE-STRUCTURED-LOCATION;VALUE=URI;X-ADDRESS=Higher Ground Retreat and   Conference Center 3820 Logan Creek Drive West Harrison IN 47060 United States;X-APPLE-RADIUS=500;X-TITLE=3820 Logan Creek Drive:geo:-84.8926821,39.2788285
END:VEVENT
BEGIN:VEVENT
DTSTART;TZID=America/New_York:20251101T090000
DTEND;TZID=America/New_York:20251101T223000
DTSTAMP:20260422T054833
CREATED:20250929T152733Z
LAST-MODIFIED:20250929T152812Z
UID:10003025-1761987600-1762036200@area53aa.org
SUMMARY:Archives Committee Meeting
DESCRIPTION:Save the Date \n5th Annual Red\, White and Sober \n\n\n			\n					\n						Download Flyer
URL:https://area53aa.org/event/archives-committee-meeting-4/
LOCATION:OH
CATEGORIES:Monthly Standing Committee Meetings
ORGANIZER;CN="Area 53 Archives Committee":MAILTO:archives@area53aa.org
END:VEVENT
BEGIN:VEVENT
DTSTART;TZID=America/New_York:20251101T110000
DTEND;TZID=America/New_York:20251101T120000
DTSTAMP:20260422T054833
CREATED:20250718T204218Z
LAST-MODIFIED:20250718T204219Z
UID:10001168-1761994800-1761998400@area53aa.org
SUMMARY:Grapevine Committee Monthly Meeting
DESCRIPTION:Save the Date \n5th Annual Red\, White and Sober \n\n\n			\n					\n						Download Flyer
URL:https://area53aa.org/event/grapevine-committee-monthly-meeting-2-2-2/2025-11-01/
LOCATION:COGF\, 645 W. Broad St.\, Columbus\, 43215\, United States
CATEGORIES:Monthly Standing Committee Meetings
ORGANIZER;CN="Area 53 Grapevine Committee":MAILTO:grapevine@area53aa.org
GEO:39.9599571;-83.0178443
X-APPLE-STRUCTURED-LOCATION;VALUE=URI;X-ADDRESS=COGF 645 W. Broad St. Columbus 43215 United States;X-APPLE-RADIUS=500;X-TITLE=645 W. Broad St.:geo:-83.0178443,39.9599571
END:VEVENT
END:VCALENDAR