BEGIN:VCALENDAR
VERSION:2.0
PRODID:-//Area 53 AA - ECPv6.15.20//NONSGML v1.0//EN
CALSCALE:GREGORIAN
METHOD:PUBLISH
X-ORIGINAL-URL:https://area53aa.org
X-WR-CALDESC:Events for Area 53 AA
REFRESH-INTERVAL;VALUE=DURATION:PT1H
X-Robots-Tag:noindex
X-PUBLISHED-TTL:PT1H
BEGIN:VTIMEZONE
TZID:America/New_York
BEGIN:DAYLIGHT
TZOFFSETFROM:-0500
TZOFFSETTO:-0400
TZNAME:EDT
DTSTART:20250309T070000
END:DAYLIGHT
BEGIN:STANDARD
TZOFFSETFROM:-0400
TZOFFSETTO:-0500
TZNAME:EST
DTSTART:20251102T060000
END:STANDARD
BEGIN:DAYLIGHT
TZOFFSETFROM:-0500
TZOFFSETTO:-0400
TZNAME:EDT
DTSTART:20260308T070000
END:DAYLIGHT
BEGIN:STANDARD
TZOFFSETFROM:-0400
TZOFFSETTO:-0500
TZNAME:EST
DTSTART:20261101T060000
END:STANDARD
BEGIN:DAYLIGHT
TZOFFSETFROM:-0500
TZOFFSETTO:-0400
TZNAME:EDT
DTSTART:20270314T070000
END:DAYLIGHT
BEGIN:STANDARD
TZOFFSETFROM:-0400
TZOFFSETTO:-0500
TZNAME:EST
DTSTART:20271107T060000
END:STANDARD
END:VTIMEZONE
BEGIN:VEVENT
DTSTART;TZID=America/New_York:20260306T150000
DTEND;TZID=America/New_York:20260308T090000
DTSTAMP:20260422T020220
CREATED:20250926T234747Z
LAST-MODIFIED:20260306T131411Z
UID:10003548-1772809200-1772960400@area53aa.org
SUMMARY:2026 Area 53 Mini Conference
DESCRIPTION:Save the Date \n5th Annual Red\, White and Sober \n\n\n			\n					\n						Download Flyer
URL:https://area53aa.org/event/2026-area-53-mini-conference/
LOCATION:Deer Creek Lodge & Conference Center\, 22300 State Park Road\, Mt. Sterling\, OH\, 43143\, United States
CATEGORIES:AREA 53 EVENTS,Area 53 Mini-Conference,Area 53 News
ATTACH;FMTTYPE=image/jpeg:https://area53aa.org/wp-content/uploads/2025/02/AdobeStock_268026749-1-scaled.jpeg
ORGANIZER;CN="Area 53 Mini-Conference Committee":MAILTO:altdelegate@area53aa.org
GEO:39.615948;-83.2362629
X-APPLE-STRUCTURED-LOCATION;VALUE=URI;X-ADDRESS=Deer Creek Lodge & Conference Center 22300 State Park Road Mt. Sterling OH 43143 United States;X-APPLE-RADIUS=500;X-TITLE=22300 State Park Road:geo:-83.2362629,39.615948
END:VEVENT
BEGIN:VEVENT
DTSTART;TZID=America/New_York:20260308T100000
DTEND;TZID=America/New_York:20260308T170000
DTSTAMP:20260422T020220
CREATED:20251227T140809Z
LAST-MODIFIED:20260308T000436Z
UID:10003754-1772964000-1772989200@area53aa.org
SUMMARY:Area 53 Assembly March 8th 2026
DESCRIPTION:Save the Date \n5th Annual Red\, White and Sober \n\n\n			\n					\n						Download Flyer
URL:https://area53aa.org/event/area-53-assembly-march-2026/
LOCATION:Deer Creek Lodge & Conference Center\, 22300 State Park Road\, Mt. Sterling\, OH\, 43143\, United States
CATEGORIES:Area 53 Assembly,AREA 53 EVENTS
ATTACH;FMTTYPE=image/jpeg:https://area53aa.org/wp-content/uploads/2025/02/3d813c27.jpg
GEO:39.615948;-83.2362629
X-APPLE-STRUCTURED-LOCATION;VALUE=URI;X-ADDRESS=Deer Creek Lodge & Conference Center 22300 State Park Road Mt. Sterling OH 43143 United States;X-APPLE-RADIUS=500;X-TITLE=22300 State Park Road:geo:-83.2362629,39.615948
END:VEVENT
BEGIN:VEVENT
DTSTART;TZID=America/New_York:20260309T183000
DTEND;TZID=America/New_York:20260309T200000
DTSTAMP:20260422T020220
CREATED:20250215T073650Z
LAST-MODIFIED:20250306T145144Z
UID:10002906-1773081000-1773086400@area53aa.org
SUMMARY:District 28 Meeting
DESCRIPTION:Save the Date \n5th Annual Red\, White and Sober \n\n\n			\n					\n						Download Flyer
URL:https://area53aa.org/event/district-28-meeting/2026-03-09/
LOCATION:Central Vineyard Church\, 55 E Blake Ave\, Columbus\, 43202\, United States
CATEGORIES:Monthly District Meetings
ORGANIZER;CN="District 28":MAILTO:dcm28@area53aa.org
GEO:40.0118086;-83.0088728
X-APPLE-STRUCTURED-LOCATION;VALUE=URI;X-ADDRESS=Central Vineyard Church 55 E Blake Ave Columbus 43202 United States;X-APPLE-RADIUS=500;X-TITLE=55 E Blake Ave:geo:-83.0088728,40.0118086
END:VEVENT
BEGIN:VEVENT
DTSTART;TZID=America/New_York:20260311T190000
DTEND;TZID=America/New_York:20260311T210000
DTSTAMP:20260422T020220
CREATED:20250825T182612Z
LAST-MODIFIED:20250825T184208Z
UID:10003425-1773255600-1773262800@area53aa.org
SUMMARY:Area Service Sharing Session
DESCRIPTION:Save the Date \n5th Annual Red\, White and Sober \n\n\n			\n					\n						Download Flyer
URL:https://area53aa.org/event/area-service-sharing-session/2026-03-11/
LOCATION:OH
CATEGORIES:Area 53 Committee Workshops,AREA 53 EVENTS
END:VEVENT
BEGIN:VEVENT
DTSTART;TZID=America/New_York:20260313T150000
DTEND;TZID=America/New_York:20260314T170000
DTSTAMP:20260422T020220
CREATED:20260217T122753Z
LAST-MODIFIED:20260217T122753Z
UID:10003821-1773414000-1773507600@area53aa.org
SUMMARY:Area 55 Mini Conference
DESCRIPTION:Save the Date \n5th Annual Red\, White and Sober \n\n\n			\n					\n						Download Flyer
URL:https://area53aa.org/event/area-55-mini-conference/
LOCATION:First United Methodist Church – Bowling Green\, Ohio\, 1526 East Wooster Street\, Bowling Green\, OH\, 43402\, United States
GEO:41.3735986;-83.6275012
X-APPLE-STRUCTURED-LOCATION;VALUE=URI;X-ADDRESS=First United Methodist Church – Bowling Green Ohio 1526 East Wooster Street Bowling Green OH 43402 United States;X-APPLE-RADIUS=500;X-TITLE=1526 East Wooster Street:geo:-83.6275012,41.3735986
END:VEVENT
END:VCALENDAR