BEGIN:VCALENDAR
VERSION:2.0
PRODID:-//Area 53 AA - ECPv6.15.20//NONSGML v1.0//EN
CALSCALE:GREGORIAN
METHOD:PUBLISH
X-ORIGINAL-URL:https://area53aa.org
X-WR-CALDESC:Events for Area 53 AA
REFRESH-INTERVAL;VALUE=DURATION:PT1H
X-Robots-Tag:noindex
X-PUBLISHED-TTL:PT1H
BEGIN:VTIMEZONE
TZID:America/New_York
BEGIN:DAYLIGHT
TZOFFSETFROM:-0500
TZOFFSETTO:-0400
TZNAME:EDT
DTSTART:20250309T070000
END:DAYLIGHT
BEGIN:STANDARD
TZOFFSETFROM:-0400
TZOFFSETTO:-0500
TZNAME:EST
DTSTART:20251102T060000
END:STANDARD
BEGIN:DAYLIGHT
TZOFFSETFROM:-0500
TZOFFSETTO:-0400
TZNAME:EDT
DTSTART:20260308T070000
END:DAYLIGHT
BEGIN:STANDARD
TZOFFSETFROM:-0400
TZOFFSETTO:-0500
TZNAME:EST
DTSTART:20261101T060000
END:STANDARD
BEGIN:DAYLIGHT
TZOFFSETFROM:-0500
TZOFFSETTO:-0400
TZNAME:EDT
DTSTART:20270314T070000
END:DAYLIGHT
BEGIN:STANDARD
TZOFFSETFROM:-0400
TZOFFSETTO:-0500
TZNAME:EST
DTSTART:20271107T060000
END:STANDARD
END:VTIMEZONE
BEGIN:VEVENT
DTSTART;TZID=America/New_York:20260927T173000
DTEND;TZID=America/New_York:20260927T183000
DTSTAMP:20260422T070008
CREATED:20250215T081335Z
LAST-MODIFIED:20250221T122247Z
UID:10002594-1790530200-1790533800@area53aa.org
SUMMARY:District 34 Meeting
DESCRIPTION:Save the Date \n5th Annual Red\, White and Sober \n\n\n			\n					\n						Download Flyer
URL:https://area53aa.org/event/district-34-meeting/2026-09-27/
LOCATION:Hoge Memorial Presbyterian Church\, 2930 West Broad Street\, Columbus\, OH\, 43204\, United States
CATEGORIES:Monthly District Meetings
GEO:39.9552438;-83.0786673
X-APPLE-STRUCTURED-LOCATION;VALUE=URI;X-ADDRESS=Hoge Memorial Presbyterian Church 2930 West Broad Street Columbus OH 43204 United States;X-APPLE-RADIUS=500;X-TITLE=2930 West Broad Street:geo:-83.0786673,39.9552438
END:VEVENT
BEGIN:VEVENT
DTSTART;TZID=America/New_York:20260927T183000
DTEND;TZID=America/New_York:20260927T193000
DTSTAMP:20260422T070008
CREATED:20251119T214041Z
LAST-MODIFIED:20251119T214041Z
UID:10003698-1790533800-1790537400@area53aa.org
SUMMARY:District 13/14 Meeting
DESCRIPTION:Save the Date \n5th Annual Red\, White and Sober \n\n\n			\n					\n						Download Flyer
URL:https://area53aa.org/event/district-13-14-meeting/2026-09-27/
LOCATION:Lancaster Area Intergroup\, 723 Slocum Ave\, Lancaster\, 43130\, United States
CATEGORIES:Monthly District Meetings
GEO:39.7222571;-82.6130773
X-APPLE-STRUCTURED-LOCATION;VALUE=URI;X-ADDRESS=Lancaster Area Intergroup 723 Slocum Ave Lancaster 43130 United States;X-APPLE-RADIUS=500;X-TITLE=723 Slocum Ave:geo:-82.6130773,39.7222571
END:VEVENT
BEGIN:VEVENT
DTSTART;TZID=America/New_York:20261003T100000
DTEND;TZID=America/New_York:20261003T110000
DTSTAMP:20260422T070008
CREATED:20250215T071306Z
LAST-MODIFIED:20250215T071306Z
UID:10001895-1791021600-1791025200@area53aa.org
SUMMARY:District 1 Meeting
DESCRIPTION:Save the Date \n5th Annual Red\, White and Sober \n\n\n			\n					\n						Download Flyer
URL:https://area53aa.org/event/district-1-meeting/2026-10-03/
LOCATION:Recovery Zone\, 440 South St. Paris Street\, Bellefontaine\, 43311\, United States
CATEGORIES:Monthly District Meetings
ORGANIZER;CN="District 1":MAILTO:dcm01@area53aa.org
GEO:40.3573329;-83.7743358
X-APPLE-STRUCTURED-LOCATION;VALUE=URI;X-ADDRESS=Recovery Zone 440 South St. Paris Street Bellefontaine 43311 United States;X-APPLE-RADIUS=500;X-TITLE=440 South St. Paris Street:geo:-83.7743358,40.3573329
END:VEVENT
BEGIN:VEVENT
DTSTART;TZID=America/New_York:20261003T100000
DTEND;TZID=America/New_York:20261003T140000
DTSTAMP:20260422T070008
CREATED:20260417T111452Z
LAST-MODIFIED:20260417T111452Z
UID:10003836-1791021600-1791036000@area53aa.org
SUMMARY:Correctional Facilities Committee Workshop
DESCRIPTION:Save the Date \n5th Annual Red\, White and Sober \n\n\n			\n					\n						Download Flyer
URL:https://area53aa.org/event/correctional-facilities-committee-workshop/
LOCATION:Peace Lutheran Church\, 455 Clark State Rd\, Gahanna\, Ohio\, 43230
CATEGORIES:AA Event,Area 53 Committee Workshops
GEO:40.0237289;-82.8641311
X-APPLE-STRUCTURED-LOCATION;VALUE=URI;X-ADDRESS=Peace Lutheran Church 455 Clark State Rd Gahanna Ohio 43230;X-APPLE-RADIUS=500;X-TITLE=455 Clark State Rd:geo:-82.8641311,40.0237289
END:VEVENT
BEGIN:VEVENT
DTSTART;TZID=America/New_York:20261003T110000
DTEND;TZID=America/New_York:20261003T120000
DTSTAMP:20260422T070008
CREATED:20250718T204218Z
LAST-MODIFIED:20250718T204219Z
UID:10001177-1791025200-1791028800@area53aa.org
SUMMARY:Grapevine Committee Monthly Meeting
DESCRIPTION:Save the Date \n5th Annual Red\, White and Sober \n\n\n			\n					\n						Download Flyer
URL:https://area53aa.org/event/grapevine-committee-monthly-meeting-2-2-2/2026-10-03/
LOCATION:COGF\, 645 W. Broad St.\, Columbus\, 43215\, United States
CATEGORIES:Monthly Standing Committee Meetings
ORGANIZER;CN="Area 53 Grapevine Committee":MAILTO:grapevine@area53aa.org
GEO:39.9599571;-83.0178443
X-APPLE-STRUCTURED-LOCATION;VALUE=URI;X-ADDRESS=COGF 645 W. Broad St. Columbus 43215 United States;X-APPLE-RADIUS=500;X-TITLE=645 W. Broad St.:geo:-83.0178443,39.9599571
END:VEVENT
END:VCALENDAR