BEGIN:VCALENDAR
VERSION:2.0
PRODID:-//Area 53 AA - ECPv6.15.20//NONSGML v1.0//EN
CALSCALE:GREGORIAN
METHOD:PUBLISH
X-WR-CALNAME:Area 53 AA
X-ORIGINAL-URL:https://area53aa.org
X-WR-CALDESC:Events for Area 53 AA
REFRESH-INTERVAL;VALUE=DURATION:PT1H
X-Robots-Tag:noindex
X-PUBLISHED-TTL:PT1H
BEGIN:VTIMEZONE
TZID:America/New_York
BEGIN:DAYLIGHT
TZOFFSETFROM:-0500
TZOFFSETTO:-0400
TZNAME:EDT
DTSTART:20260308T070000
END:DAYLIGHT
BEGIN:STANDARD
TZOFFSETFROM:-0400
TZOFFSETTO:-0500
TZNAME:EST
DTSTART:20261101T060000
END:STANDARD
BEGIN:DAYLIGHT
TZOFFSETFROM:-0500
TZOFFSETTO:-0400
TZNAME:EDT
DTSTART:20270314T070000
END:DAYLIGHT
BEGIN:STANDARD
TZOFFSETFROM:-0400
TZOFFSETTO:-0500
TZNAME:EST
DTSTART:20271107T060000
END:STANDARD
BEGIN:DAYLIGHT
TZOFFSETFROM:-0500
TZOFFSETTO:-0400
TZNAME:EDT
DTSTART:20280312T070000
END:DAYLIGHT
BEGIN:STANDARD
TZOFFSETFROM:-0400
TZOFFSETTO:-0500
TZNAME:EST
DTSTART:20281105T060000
END:STANDARD
END:VTIMEZONE
BEGIN:VEVENT
DTSTART;TZID=America/New_York:20270815T150000
DTEND;TZID=America/New_York:20270815T163000
DTSTAMP:20260423T191428
CREATED:20250208T233428Z
LAST-MODIFIED:20250215T062320Z
UID:10001719-1818342000-1818347400@area53aa.org
SUMMARY:CPC/PI Committee Meeting
DESCRIPTION:Save the Date \n5th Annual Red\, White and Sober \n\n\n			\n					\n						Download Flyer
URL:https://area53aa.org/event/cpc-pi-committee-meeting-feb-16-2025/2027-08-15/
LOCATION:Franklinton Library\, 1061 W Town St\, Columbus\, 43222\, United States
CATEGORIES:Monthly Standing Committee Meetings
ORGANIZER;CN="Area 53 CPC-PI Committee":MAILTO:cpcpi@area53aa.org
GEO:39.9551728;-83.0277954
X-APPLE-STRUCTURED-LOCATION;VALUE=URI;X-ADDRESS=Franklinton Library 1061 W Town St Columbus 43222 United States;X-APPLE-RADIUS=500;X-TITLE=1061 W Town St:geo:-83.0277954,39.9551728
END:VEVENT
BEGIN:VEVENT
DTSTART;TZID=America/New_York:20270815T160000
DTEND;TZID=America/New_York:20270815T170000
DTSTAMP:20260423T191428
CREATED:20250215T080944Z
LAST-MODIFIED:20250215T080944Z
UID:10002486-1818345600-1818349200@area53aa.org
SUMMARY:District 12 Meeting
DESCRIPTION:Save the Date \n5th Annual Red\, White and Sober \n\n\n			\n					\n						Download Flyer
URL:https://area53aa.org/event/district-12-meeting/2027-08-15/
LOCATION:Springfield Alano Club Inc\, 1557 E Main St\, Springfield\, 45503\, United States
CATEGORIES:Monthly District Meetings
ORGANIZER;CN="District 12":MAILTO:dcm12@area53aa.org
GEO:39.9231477;-83.7860254
X-APPLE-STRUCTURED-LOCATION;VALUE=URI;X-ADDRESS=Springfield Alano Club Inc 1557 E Main St Springfield 45503 United States;X-APPLE-RADIUS=500;X-TITLE=1557 E Main St:geo:-83.7860254,39.9231477
END:VEVENT
BEGIN:VEVENT
DTSTART;TZID=America/New_York:20270815T180000
DTEND;TZID=America/New_York:20270815T190000
DTSTAMP:20260423T191428
CREATED:20250215T081126Z
LAST-MODIFIED:20250215T081126Z
UID:10002545-1818352800-1818356400@area53aa.org
SUMMARY:District 19 Meeting
DESCRIPTION:Save the Date \n5th Annual Red\, White and Sober \n\n\n			\n					\n						Download Flyer
URL:https://area53aa.org/event/district-19-meeting/2027-08-15/
LOCATION:Sabina United Methodist Church\, 61 W Elm St\, Sabina\, 45169\, United States
CATEGORIES:Monthly District Meetings
ORGANIZER;CN="District 19":MAILTO:dcm19@area53aa.org
GEO:39.4903491;-83.6374472
X-APPLE-STRUCTURED-LOCATION;VALUE=URI;X-ADDRESS=Sabina United Methodist Church 61 W Elm St Sabina 45169 United States;X-APPLE-RADIUS=500;X-TITLE=61 W Elm St:geo:-83.6374472,39.4903491
END:VEVENT
BEGIN:VEVENT
DTSTART;TZID=America/New_York:20270819T190000
DTEND;TZID=America/New_York:20270819T210000
DTSTAMP:20260423T191428
CREATED:20250912T004959Z
LAST-MODIFIED:20251005T183853Z
UID:10003583-1818702000-1818709200@area53aa.org
SUMMARY:Communication Services Committee Meeting (Virtual)
DESCRIPTION:Save the Date \n5th Annual Red\, White and Sober \n\n\n			\n					\n						Download Flyer
URL:https://area53aa.org/event/communication-services-committee-meeting-virtual-2-2-3/2027-08-19/
LOCATION:https://area53aa.org/event/communication-services-committee-meeting-virtual-2-2-3/2027-08-19/
ORGANIZER;CN="Communication Services Committee":MAILTO:CommServices@area53aa.org
END:VEVENT
BEGIN:VEVENT
DTSTART;TZID=America/New_York:20270821T080000
DTEND;TZID=America/New_York:20270821T170000
DTSTAMP:20260423T191428
CREATED:20250215T055600Z
LAST-MODIFIED:20250215T055600Z
UID:10001660-1818835200-1818867600@area53aa.org
SUMMARY:District 7 Meeting
DESCRIPTION:Save the Date \n5th Annual Red\, White and Sober \n\n\n			\n					\n						Download Flyer
URL:https://area53aa.org/event/district-7-meeting/2027-08-21/
LOCATION:I.s.r.c.\, 554 Moxahala Ave\, Zanesville\, 43701\, United States
CATEGORIES:Monthly District Meetings
ORGANIZER;CN="District 7":MAILTO:dcm07@area53aa.org
GEO:39.9302383;-82.0053096
X-APPLE-STRUCTURED-LOCATION;VALUE=URI;X-ADDRESS=I.s.r.c. 554 Moxahala Ave Zanesville 43701 United States;X-APPLE-RADIUS=500;X-TITLE=554 Moxahala Ave:geo:-82.0053096,39.9302383
END:VEVENT
BEGIN:VEVENT
DTSTART;TZID=America/New_York:20270821T093000
DTEND;TZID=America/New_York:20270821T103000
DTSTAMP:20260423T191428
CREATED:20250215T073903Z
LAST-MODIFIED:20250215T073903Z
UID:10002367-1818840600-1818844200@area53aa.org
SUMMARY:District 26 Meeting
DESCRIPTION:Save the Date \n5th Annual Red\, White and Sober \n\n\n			\n					\n						Download Flyer
URL:https://area53aa.org/event/district-26-meeting/2027-08-21/
LOCATION:Whitehall United Methodist Church\, 525 Bernhard Road\, Columbus\, Ohio
CATEGORIES:Monthly District Meetings
ORGANIZER;CN="District 26":MAILTO:dcm26@area53aa.org
GEO:39.9640674;-82.8804352
X-APPLE-STRUCTURED-LOCATION;VALUE=URI;X-ADDRESS=Whitehall United Methodist Church 525 Bernhard Road Columbus Ohio;X-APPLE-RADIUS=500;X-TITLE=525 Bernhard Road:geo:-82.8804352,39.9640674
END:VEVENT
BEGIN:VEVENT
DTSTART;TZID=America/New_York:20270821T110000
DTEND;TZID=America/New_York:20270821T120000
DTSTAMP:20260423T191428
CREATED:20250215T074344Z
LAST-MODIFIED:20250215T074344Z
UID:10002426-1818846000-1818849600@area53aa.org
SUMMARY:District 21 Meeting
DESCRIPTION:Save the Date \n5th Annual Red\, White and Sober \n\n\n			\n					\n						Download Flyer
URL:https://area53aa.org/event/district-21-meeting/2027-08-21/
LOCATION:Wheelersburg United Methodist Church\, 11605 Gallia Pike Rd\, Wheelersburg\, 45694\, 45694\, United States
CATEGORIES:Monthly District Meetings
ORGANIZER;CN="District 21":MAILTO:dcm21@area53aa.org
GEO:38.7278325;-82.8543713
X-APPLE-STRUCTURED-LOCATION;VALUE=URI;X-ADDRESS=Wheelersburg United Methodist Church 11605 Gallia Pike Rd Wheelersburg 45694 45694 United States;X-APPLE-RADIUS=500;X-TITLE=11605 Gallia Pike Rd:geo:-82.8543713,38.7278325
END:VEVENT
BEGIN:VEVENT
DTSTART;TZID=America/New_York:20270821T113000
DTEND;TZID=America/New_York:20270821T130000
DTSTAMP:20260423T191428
CREATED:20251229T050040Z
LAST-MODIFIED:20251229T050041Z
UID:10003773-1818847800-1818853200@area53aa.org
SUMMARY:District 33 Meeting
DESCRIPTION:Save the Date \n5th Annual Red\, White and Sober \n\n\n			\n					\n						Download Flyer
URL:https://area53aa.org/event/district-33-meeting-2-2/2027-08-21/
LOCATION:Combulus Metropotlian Main Library\, 96 S. Grant Ave\, Columbus\, 43215\, United States
CATEGORIES:Monthly District Meetings
ORGANIZER;CN="District 33":MAILTO:dcm33@area53aa.org
GEO:39.9613828;-82.9894036
X-APPLE-STRUCTURED-LOCATION;VALUE=URI;X-ADDRESS=Combulus Metropotlian Main Library 96 S. Grant Ave Columbus 43215 United States;X-APPLE-RADIUS=500;X-TITLE=96 S. Grant Ave:geo:-82.9894036,39.9613828
END:VEVENT
BEGIN:VEVENT
DTSTART;TZID=America/New_York:20270821T120000
DTEND;TZID=America/New_York:20270821T130000
DTSTAMP:20260423T191428
CREATED:20240118T035629Z
LAST-MODIFIED:20250215T054843Z
UID:10000470-1818849600-1818853200@area53aa.org
SUMMARY:Treatment Facilities Committee Monthly Meeting
DESCRIPTION:Save the Date \n5th Annual Red\, White and Sober \n\n\n			\n					\n						Download Flyer
URL:https://area53aa.org/event/treatment-facilities-committee-monthly-meeting/2027-08-21/
LOCATION:COGF\, 645 W. Broad St.\, Columbus\, 43215\, United States
CATEGORIES:Monthly Standing Committee Meetings
ORGANIZER;CN="Area 53 Treatment Facilities Committee":MAILTO:treatment@area53aa.org
GEO:39.9599571;-83.0178443
X-APPLE-STRUCTURED-LOCATION;VALUE=URI;X-ADDRESS=COGF 645 W. Broad St. Columbus 43215 United States;X-APPLE-RADIUS=500;X-TITLE=645 W. Broad St.:geo:-83.0178443,39.9599571
END:VEVENT
END:VCALENDAR