BEGIN:VCALENDAR
VERSION:2.0
PRODID:-//Area 53 AA - ECPv6.15.20//NONSGML v1.0//EN
CALSCALE:GREGORIAN
METHOD:PUBLISH
X-WR-CALNAME:Area 53 AA
X-ORIGINAL-URL:https://area53aa.org
X-WR-CALDESC:Events for Area 53 AA
REFRESH-INTERVAL;VALUE=DURATION:PT1H
X-Robots-Tag:noindex
X-PUBLISHED-TTL:PT1H
BEGIN:VTIMEZONE
TZID:America/New_York
BEGIN:DAYLIGHT
TZOFFSETFROM:-0500
TZOFFSETTO:-0400
TZNAME:EDT
DTSTART:20240310T070000
END:DAYLIGHT
BEGIN:STANDARD
TZOFFSETFROM:-0400
TZOFFSETTO:-0500
TZNAME:EST
DTSTART:20241103T060000
END:STANDARD
BEGIN:DAYLIGHT
TZOFFSETFROM:-0500
TZOFFSETTO:-0400
TZNAME:EDT
DTSTART:20250309T070000
END:DAYLIGHT
BEGIN:STANDARD
TZOFFSETFROM:-0400
TZOFFSETTO:-0500
TZNAME:EST
DTSTART:20251102T060000
END:STANDARD
BEGIN:DAYLIGHT
TZOFFSETFROM:-0500
TZOFFSETTO:-0400
TZNAME:EDT
DTSTART:20260308T070000
END:DAYLIGHT
BEGIN:STANDARD
TZOFFSETFROM:-0400
TZOFFSETTO:-0500
TZNAME:EST
DTSTART:20261101T060000
END:STANDARD
END:VTIMEZONE
BEGIN:VEVENT
DTSTART;TZID=America/New_York:20250305T180000
DTEND;TZID=America/New_York:20250305T190000
DTSTAMP:20260422T064035
CREATED:20250215T072558Z
LAST-MODIFIED:20250215T072558Z
UID:10002157-1741197600-1741201200@area53aa.org
SUMMARY:District 10 Meeting
DESCRIPTION:Group GSR’s and anyone interested in service work at the Group\, District\, and/or Area level should consider attending this meeting.  District meetings will occur regularly on the first Wednesday of every month\, beginning in March at the location above.  This is where information at the group level is exchanged with other groups\, representing District 10\, to Area 53 and further information from Area 53 passed onto GSR’s at the group level to share with members attending AA meetings. \nKroger\, 6417 Columbus Pike\, Lewis Center\, OH 43035\, USA
URL:https://area53aa.org/event/district-10-meeting/
LOCATION:Kroger\, 6417 Columbus Pike\, Lewis Center\, 43035\, United States
CATEGORIES:Monthly District Meetings
GEO:40.2031987;-83.0275992
X-APPLE-STRUCTURED-LOCATION;VALUE=URI;X-ADDRESS=Kroger 6417 Columbus Pike Lewis Center 43035 United States;X-APPLE-RADIUS=500;X-TITLE=6417 Columbus Pike:geo:-83.0275992,40.2031987
END:VEVENT
END:VCALENDAR