BEGIN:VCALENDAR
VERSION:2.0
PRODID:-//Area 53 AA - ECPv6.15.20//NONSGML v1.0//EN
CALSCALE:GREGORIAN
METHOD:PUBLISH
X-WR-CALNAME:Area 53 AA
X-ORIGINAL-URL:https://area53aa.org
X-WR-CALDESC:Events for Area 53 AA
REFRESH-INTERVAL;VALUE=DURATION:PT1H
X-Robots-Tag:noindex
X-PUBLISHED-TTL:PT1H
BEGIN:VTIMEZONE
TZID:America/New_York
BEGIN:DAYLIGHT
TZOFFSETFROM:-0500
TZOFFSETTO:-0400
TZNAME:EDT
DTSTART:20240310T070000
END:DAYLIGHT
BEGIN:STANDARD
TZOFFSETFROM:-0400
TZOFFSETTO:-0500
TZNAME:EST
DTSTART:20241103T060000
END:STANDARD
BEGIN:DAYLIGHT
TZOFFSETFROM:-0500
TZOFFSETTO:-0400
TZNAME:EDT
DTSTART:20250309T070000
END:DAYLIGHT
BEGIN:STANDARD
TZOFFSETFROM:-0400
TZOFFSETTO:-0500
TZNAME:EST
DTSTART:20251102T060000
END:STANDARD
BEGIN:DAYLIGHT
TZOFFSETFROM:-0500
TZOFFSETTO:-0400
TZNAME:EDT
DTSTART:20260308T070000
END:DAYLIGHT
BEGIN:STANDARD
TZOFFSETFROM:-0400
TZOFFSETTO:-0500
TZNAME:EST
DTSTART:20261101T060000
END:STANDARD
END:VTIMEZONE
BEGIN:VEVENT
DTSTART;TZID=America/New_York:20250815T183000
DTEND;TZID=America/New_York:20250815T210000
DTSTAMP:20260422T125004
CREATED:20250728T032706Z
LAST-MODIFIED:20250728T034622Z
UID:10003410-1755282600-1755291600@area53aa.org
SUMMARY:The Willingness Group of AA 36th Anniversary
DESCRIPTION:Join Us for The Willingness Group’s 36th Anniversary Celebration!	\n	Come celebrate 36 years of recovery\, fellowship\, and hope. All are welcome! \n\nWhen: Saturday\, August 16\, 2025\, from 6:30 PM to 9:00 PM\nWhere: 2480 West Dublin-Granville Road\, Columbus\, OH 43235\nWhat: An evening of fellowship\, food (pizza and cake provided!)\, and an inspiring speaker.\n\n6:30 PM: Fellowship\n7:00 PM: Food\n8:00 PM: Speaker\n\n\nHow to Help: Please bring a side dish to share and a friend!\n\nWe can’t wait to see you there!
URL:https://area53aa.org/event/the-willingness-group-of-aa-36th-anniversary/
LOCATION:Lord of Life Lutheran Church\, 2480 West Dublin Granville Road\, Worthington\, Ohio\, 43235
CATEGORIES:Group Anniversary
ATTACH;FMTTYPE=image/png:https://area53aa.org/wp-content/uploads/2025/07/qr-2.png
GEO:40.0909939;-83.0560529
X-APPLE-STRUCTURED-LOCATION;VALUE=URI;X-ADDRESS=Lord of Life Lutheran Church 2480 West Dublin Granville Road Worthington Ohio 43235;X-APPLE-RADIUS=500;X-TITLE=2480 West Dublin Granville Road:geo:-83.0560529,40.0909939
END:VEVENT
END:VCALENDAR