BEGIN:VCALENDAR
VERSION:2.0
PRODID:-//Area 53 AA - ECPv6.15.20//NONSGML v1.0//EN
CALSCALE:GREGORIAN
METHOD:PUBLISH
X-ORIGINAL-URL:https://area53aa.org
X-WR-CALDESC:Events for Area 53 AA
REFRESH-INTERVAL;VALUE=DURATION:PT1H
X-Robots-Tag:noindex
X-PUBLISHED-TTL:PT1H
BEGIN:VTIMEZONE
TZID:America/New_York
BEGIN:DAYLIGHT
TZOFFSETFROM:-0500
TZOFFSETTO:-0400
TZNAME:EDT
DTSTART:20230312T070000
END:DAYLIGHT
BEGIN:STANDARD
TZOFFSETFROM:-0400
TZOFFSETTO:-0500
TZNAME:EST
DTSTART:20231105T060000
END:STANDARD
BEGIN:DAYLIGHT
TZOFFSETFROM:-0500
TZOFFSETTO:-0400
TZNAME:EDT
DTSTART:20240310T070000
END:DAYLIGHT
BEGIN:STANDARD
TZOFFSETFROM:-0400
TZOFFSETTO:-0500
TZNAME:EST
DTSTART:20241103T060000
END:STANDARD
BEGIN:DAYLIGHT
TZOFFSETFROM:-0500
TZOFFSETTO:-0400
TZNAME:EDT
DTSTART:20250309T070000
END:DAYLIGHT
BEGIN:STANDARD
TZOFFSETFROM:-0400
TZOFFSETTO:-0500
TZNAME:EST
DTSTART:20251102T060000
END:STANDARD
END:VTIMEZONE
BEGIN:VEVENT
DTSTART;TZID=America/New_York:20241231T190000
DTEND;TZID=America/New_York:20241231T220000
DTSTAMP:20260423T020043
CREATED:20241124T133438Z
LAST-MODIFIED:20241202T002525Z
UID:10001284-1735671600-1735682400@area53aa.org
SUMMARY:New Year Eve Party - District 11
DESCRIPTION:Dance the night away with good music and lots of fun games. Please bring an appetizer to share. Draw a ticket to give a 15 minute lead. See you there.
URL:https://area53aa.org/event/new-year-eve-party-district-11/
LOCATION:MARYSVILLE CHURCH OF THE NAZARENE\, 1126 N Maple St.\, MARYSVILLE\,\, Ohio\, 43040
CATEGORIES:Area 53 News,District Events
ORGANIZER;CN="District 11":MAILTO:dcm11@area53aa.org
GEO:40.2511589;-83.3721775
X-APPLE-STRUCTURED-LOCATION;VALUE=URI;X-ADDRESS=MARYSVILLE CHURCH OF THE NAZARENE 1126 N Maple St. MARYSVILLE Ohio 43040;X-APPLE-RADIUS=500;X-TITLE=1126 N Maple St.:geo:-83.3721775,40.2511589
END:VEVENT
END:VCALENDAR