BEGIN:VCALENDAR
VERSION:2.0
PRODID:-//Area 53 AA - ECPv6.15.20//NONSGML v1.0//EN
CALSCALE:GREGORIAN
METHOD:PUBLISH
X-WR-CALNAME:Area 53 AA
X-ORIGINAL-URL:https://area53aa.org
X-WR-CALDESC:Events for Area 53 AA
REFRESH-INTERVAL;VALUE=DURATION:PT1H
X-Robots-Tag:noindex
X-PUBLISHED-TTL:PT1H
BEGIN:VTIMEZONE
TZID:America/New_York
BEGIN:DAYLIGHT
TZOFFSETFROM:-0500
TZOFFSETTO:-0400
TZNAME:EDT
DTSTART:20240310T070000
END:DAYLIGHT
BEGIN:STANDARD
TZOFFSETFROM:-0400
TZOFFSETTO:-0500
TZNAME:EST
DTSTART:20241103T060000
END:STANDARD
BEGIN:DAYLIGHT
TZOFFSETFROM:-0500
TZOFFSETTO:-0400
TZNAME:EDT
DTSTART:20250309T070000
END:DAYLIGHT
BEGIN:STANDARD
TZOFFSETFROM:-0400
TZOFFSETTO:-0500
TZNAME:EST
DTSTART:20251102T060000
END:STANDARD
BEGIN:DAYLIGHT
TZOFFSETFROM:-0500
TZOFFSETTO:-0400
TZNAME:EDT
DTSTART:20260308T070000
END:DAYLIGHT
BEGIN:STANDARD
TZOFFSETFROM:-0400
TZOFFSETTO:-0500
TZNAME:EST
DTSTART:20261101T060000
END:STANDARD
END:VTIMEZONE
BEGIN:VEVENT
DTSTART;TZID=America/New_York:20250622T140000
DTEND;TZID=America/New_York:20250622T160000
DTSTAMP:20260422T193757
CREATED:20250607T153622Z
LAST-MODIFIED:20250619T144256Z
UID:10003329-1750600800-1750608000@area53aa.org
SUMMARY:Celebrating the People Who Have Volunteered at A.O.I.O.
DESCRIPTION:Everyone is invited \nSunday June 22. 2025 \nSt. Paul’s Church Hall \n33 East Main Street\, Chillicothe OH 45601 \n2:00 to 4:00 pm \nSpeaker: Mac C. Area 53 assembly chairperson \nSandwiches and Cake \nSocial time & Raffle \nDownload Flyer
URL:https://area53aa.org/event/celebrating-the-people-who-have-volunteered-at-a-o-i-o/
LOCATION:St. Pauls Church\, 33 East Main Street\, Chillicothe\, Ohio\, 45601
CATEGORIES:Area 53 News
GEO:39.3336299;-82.9811943
X-APPLE-STRUCTURED-LOCATION;VALUE=URI;X-ADDRESS=St. Pauls Church 33 East Main Street Chillicothe Ohio 45601;X-APPLE-RADIUS=500;X-TITLE=33 East Main Street:geo:-82.9811943,39.3336299
END:VEVENT
END:VCALENDAR