BEGIN:VCALENDAR
VERSION:2.0
PRODID:-//Area 53 AA - ECPv6.15.20//NONSGML v1.0//EN
CALSCALE:GREGORIAN
METHOD:PUBLISH
X-ORIGINAL-URL:https://area53aa.org
X-WR-CALDESC:Events for Area 53 AA
REFRESH-INTERVAL;VALUE=DURATION:PT1H
X-Robots-Tag:noindex
X-PUBLISHED-TTL:PT1H
BEGIN:VTIMEZONE
TZID:America/New_York
BEGIN:DAYLIGHT
TZOFFSETFROM:-0500
TZOFFSETTO:-0400
TZNAME:EDT
DTSTART:20240310T070000
END:DAYLIGHT
BEGIN:STANDARD
TZOFFSETFROM:-0400
TZOFFSETTO:-0500
TZNAME:EST
DTSTART:20241103T060000
END:STANDARD
BEGIN:DAYLIGHT
TZOFFSETFROM:-0500
TZOFFSETTO:-0400
TZNAME:EDT
DTSTART:20250309T070000
END:DAYLIGHT
BEGIN:STANDARD
TZOFFSETFROM:-0400
TZOFFSETTO:-0500
TZNAME:EST
DTSTART:20251102T060000
END:STANDARD
BEGIN:DAYLIGHT
TZOFFSETFROM:-0500
TZOFFSETTO:-0400
TZNAME:EDT
DTSTART:20260308T070000
END:DAYLIGHT
BEGIN:STANDARD
TZOFFSETFROM:-0400
TZOFFSETTO:-0500
TZNAME:EST
DTSTART:20261101T060000
END:STANDARD
END:VTIMEZONE
BEGIN:VEVENT
DTSTART;TZID=America/New_York:20250628T150000
DTEND;TZID=America/New_York:20250628T170000
DTSTAMP:20260422T193630
CREATED:20250415T111446Z
LAST-MODIFIED:20250619T144237Z
UID:10003082-1751122800-1751130000@area53aa.org
SUMMARY:Marietta Serenity Group Anniversary Picnic - June 28
DESCRIPTION:Download Flyer Here\n			\n			\n							Directions\n			\n	Mark Your Calendars! Marietta Serenity Group Anniversary Picnic\nJoin us for our annual anniversary picnic as we celebrate another year of recovery\, fellowship\, and support!\nWe’ll be gathering at Tomlinson Park in Williamstown\, West Virginia (corner of Highland Avenue and W. Fifth St.\, WV 26187\, USA) on Saturday\, June 28th\, 2025\, from 3:00 PM to 5:00 PM.\nCome enjoy an afternoon of food and fellowship starting at 3:00 PM\, followed by an inspiring speaker at 4:00 PM.\nWe kindly ask everyone to bring a covered dish to share. Fried chicken and drinks will be provided.\nThis is a family-friendly event\, and children are welcome! There’s even a playground on-site to keep the little ones entertained.\nWe look forward to celebrating with you!\n\nKey Information at a Glance:\n\nEvent: Marietta Serenity Group Anniversary Picnic\nDate: Saturday\, June 28\, 2025\nTime: 3:00 PM – 5:00 PM (Food & Fellowship at 3 PM\, Speaker at 4 PM)\nLocation: Tomlinson Park\, Williamstown\, WV (Corner of Highland Ave & W. Fifth St)\nWhat to Bring: A covered dish to share\nProvided: Fried chicken and drinks\nFamily-Friendly: Yes\, playground available!
URL:https://area53aa.org/event/marietta-serenity-group-anniversary-picnic-june-28/
LOCATION:Tomlinson Park\, 601 WV-14\, Williamstown\, WV\, 26187\, United States
CATEGORIES:Area 53 News
GEO:39.3993875;-81.4481395
X-APPLE-STRUCTURED-LOCATION;VALUE=URI;X-ADDRESS=Tomlinson Park 601 WV-14 Williamstown WV 26187 United States;X-APPLE-RADIUS=500;X-TITLE=601 WV-14:geo:-81.4481395,39.3993875
END:VEVENT
END:VCALENDAR